Workbook

Sheet Sheet1
F3: =[1]!POSITION("","0","銘柄コード",A6) -> POSITION("","0","銘柄コード",A6) | G3: =[1]!POSITION("","0","現在値",B6) -> POSITION("","0","現在値",B6)
A5: コード | B5: 現在値 | C5: 保有中高値 | D5: 保有時刻（手入力）
A6: 8411 | B6: 210.9 | C6: =MAX(銘柄１!$G:$G) -> 211.2 | D6: 0.43055556
A7: 2002 | B7: 1710 | C7: =MAX(銘柄２!$G:$G) -> 1712 | D7: 0.40972222
A8: 8306 | B8: 753.4 | C8: =MAX(銘柄３!$G:$G) -> 755 | D8: 0.46527778
A9: 8411 | B9: 210.9 | C9: =MAX(銘柄４!$G:$G) -> 211.2 | D9: 0.38888889
A10: 8604 | B10: 732.5
A11: ***END*** | B11: ***END***

Sheet 銘柄１
A1: =+Sheet1!D6 -> 0.43055556
A5: =[1]!CANDLE(Sheet1!A6,"","5","1","市場コード",A8,"D","1") -> CANDLE(Sheet1!A6,"","5","1","市場コード",A8,"D","1") | B5: =[1]!CANDLE(Sheet1!A6,"","5","1","約定時刻",B8,"D","1") -> CANDLE(Sheet1!A6,"","5","1","約定時刻",B8,"D","1") | C5: =[1]!CANDLE(Sheet1!A6,"","5","1","始値",C8,"D","1") -> CANDLE(Sheet1!A6,"","5","1","始値",C8,"D","1") | D5: =[1]!CANDLE(Sheet1!A6,"","5","1","高値",D8,"D","1") -> CANDLE(Sheet1!A6,"","5","1","高値",D8,"D","1") | E5: =[1]!CANDLE(Sheet1!A6,"","5","1","安値",E8,"D","1") -> CANDLE(Sheet1!A6,"","5","1","安値",E8,"D","1") | F5: =[1]!CANDLE(Sheet1!A6,"","5","1","終値",F8,"D","1") -> CANDLE(Sheet1!A6,"","5","1","終値",F8,"D","1")
A8: 東証 | B8: 0.58333333 | C8: 210.9 | D8: 210.9 | E8: 210.8 | F8: 210.9 | G8: =IF(B8>=$A$1,D8,"") -> 210.9
A9: 東証 | B9: 0.57986111 | C9: 210.8 | D9: 210.9 | E9: 210.7 | F9: 210.8 | G9: =IF(B9>=$A$1,D9,"") -> 210.9
A10: 東証 | B10: 0.57638889 | C10: 210.9 | D10: 210.9 | E10: 210.7 | F10: 210.8 | G10: =IF(B10>=$A$1,D10,"") -> 210.9
A11: 東証 | B11: 0.57291667 | C11: 210.9 | D11: 210.9 | E11: 210.8 | F11: 210.9 | G11: =IF(B11>=$A$1,D11,"") -> 210.9
A12: 東証 | B12: 0.56944444 | C12: 210.9 | D12: 210.9 | E12: 210.8 | F12: 210.9 | G12: =IF(B12>=$A$1,D12,"") -> 210.9
A13: 東証 | B13: 0.56597222 | C13: 210.9 | D13: 210.9 | E13: 210.8 | F13: 210.9 | G13: =IF(B13>=$A$1,D13,"") -> 210.9
A14: 東証 | B14: 0.5625 | C14: 210.8 | D14: 211 | E14: 210.8 | F14: 210.9 | G14: =IF(B14>=$A$1,D14,"") -> 211
A15: 東証 | B15: 0.55902778 | C15: 210.8 | D15: 210.9 | E15: 210.8 | F15: 210.9 | G15: =IF(B15>=$A$1,D15,"") -> 210.9
A16: 東証 | B16: 0.55555556 | C16: 210.9 | D16: 210.9 | E16: 210.7 | F16: 210.8 | G16: =IF(B16>=$A$1,D16,"") -> 210.9
A17: 東証 | B17: 0.55208333 | C17: 210.9 | D17: 210.9 | E17: 210.7 | F17: 210.8 | G17: =IF(B17>=$A$1,D17,"") -> 210.9
A18: 東証 | B18: 0.54861111 | C18: 210.9 | D18: 211 | E18: 210.8 | F18: 210.9 | G18: =IF(B18>=$A$1,D18,"") -> 211
A19: 東証 | B19: 0.54513889 | C19: 210.7 | D19: 211 | E19: 210.7 | F19: 210.9 | G19: =IF(B19>=$A$1,D19,"") -> 211
... A56: 東証 | B56: 0.37847222 | C56: 211.1 | D56: 211.4 | E56: 211 | F56: 211 | G56: =IF(B56>=$A$1,D56,"")
A57: 東証 | B57: 0.375 | C57: 211.2 | D57: 211.4 | E57: 211 | F57: 211.1

Sheet 銘柄２
A1: =+Sheet1!D7 -> 0.40972222
A5: =[1]!CANDLE(Sheet1!A7,"","5","1","市場コード",A8,"D","1") -> CANDLE(Sheet1!A7,"","5","1","市場コード",A8,"D","1") | B5: =[1]!CANDLE(Sheet1!A7,"","5","1","約定時刻",B8,"D","1") -> CANDLE(Sheet1!A7,"","5","1","約定時刻",B8,"D","1") | C5: =[1]!CANDLE(Sheet1!A7,"","5","1","始値",C8,"D","1") -> CANDLE(Sheet1!A7,"","5","1","始値",C8,"D","1") | D5: =[1]!CANDLE(Sheet1!A7,"","5","1","高値",D8,"D","1") -> CANDLE(Sheet1!A7,"","5","1","高値",D8,"D","1") | E5: =[1]!CANDLE(Sheet1!A7,"","5","1","安値",E8,"D","1") -> CANDLE(Sheet1!A7,"","5","1","安値",E8,"D","1") | F5: =[1]!CANDLE(Sheet1!A7,"","5","1","終値",F8,"D","1") -> CANDLE(Sheet1!A7,"","5","1","終値",F8,"D","1")
A8: 東証 | B8: 0.58333333 | C8: 1710 | D8: 1711 | E8: 1710 | F8: 1710 | G8: =IF(B8>=$A$1,D8,"") -> 1711
A9: 東証 | B9: 0.57986111 | C9: 1709 | D9: 1710 | E9: 1708 | F9: 1708 | G9: =IF(B9>=$A$1,D9,"") -> 1710
A10: 東証 | B10: 0.57638889 | C10: 1710 | D10: 1711 | E10: 1707 | F10: 1707 | G10: =IF(B10>=$A$1,D10,"") -> 1711
A11: 東証 | B11: 0.57291667 | C11: 1710 | D11: 1711 | E11: 1710 | F11: 1710 | G11: =IF(B11>=$A$1,D11,"") -> 1711
A12: 東証 | B12: 0.56944444 | C12: 1709 | D12: 1711 | E12: 1709 | F12: 1710 | G12: =IF(B12>=$A$1,D12,"") -> 1711
A13: 東証 | B13: 0.56597222 | C13: 1708 | D13: 1709 | E13: 1708 | F13: 1709 | G13: =IF(B13>=$A$1,D13,"") -> 1709
A14: 東証 | B14: 0.5625 | C14: 1708 | D14: 1709 | E14: 1708 | F14: 1708 | G14: =IF(B14>=$A$1,D14,"") -> 1709
A15: 東証 | B15: 0.55902778 | C15: 1707 | D15: 1709 | E15: 1707 | F15: 1708 | G15: =IF(B15>=$A$1,D15,"") -> 1709
A16: 東証 | B16: 0.55555556 | C16: 1707 | D16: 1707 | E16: 1707 | F16: 1707 | G16: =IF(B16>=$A$1,D16,"") -> 1707
A17: 東証 | B17: 0.55208333 | C17: 1708 | D17: 1708 | E17: 1707 | F17: 1707 | G17: =IF(B17>=$A$1,D17,"") -> 1708
A18: 東証 | B18: 0.54861111 | C18: 1708 | D18: 1708 | E18: 1707 | F18: 1708 | G18: =IF(B18>=$A$1,D18,"") -> 1708
A19: 東証 | B19: 0.54513889 | C19: 1708 | D19: 1708 | E19: 1708 | F19: 1708 | G19: =IF(B19>=$A$1,D19,"") -> 1708
... A56: 東証 | B56: 0.37847222 | C56: 1716 | D56: 1716 | E56: 1710 | F56: 1710 | G56: =IF(B56>=$A$1,D56,"")
A57: 東証 | B57: 0.375 | C57: 1720 | D57: 1720 | E57: 1714 | F57: 1715

Sheet 銘柄３
A1: =+Sheet1!D8 -> 0.46527778
A5: =[1]!CANDLE(Sheet1!A8,"","5","1","市場コード",A8,"D","1") -> CANDLE(Sheet1!A8,"","5","1","市場コード",A8,"D","1") | B5: =[1]!CANDLE(Sheet1!A8,"","5","1","約定時刻",B8,"D","1") -> CANDLE(Sheet1!A8,"","5","1","約定時刻",B8,"D","1") | C5: =[1]!CANDLE(Sheet1!A8,"","5","1","始値",C8,"D","1") -> CANDLE(Sheet1!A8,"","5","1","始値",C8,"D","1") | D5: =[1]!CANDLE(Sheet1!A8,"","5","1","高値",D8,"D","1") -> CANDLE(Sheet1!A8,"","5","1","高値",D8,"D","1") | E5: =[1]!CANDLE(Sheet1!A8,"","5","1","安値",E8,"D","1") -> CANDLE(Sheet1!A8,"","5","1","安値",E8,"D","1") | F5: =[1]!CANDLE(Sheet1!A8,"","5","1","終値",F8,"D","1") -> CANDLE(Sheet1!A8,"","5","1","終値",F8,"D","1")
A8: 東証 | B8: 0.58333333 | C8: 753.5 | D8: 753.5 | E8: 753.1 | F8: 753.4 | G8: =IF(B8>=$A$1,D8,"") -> 753.5
A9: 東証 | B9: 0.57986111 | C9: 753.2 | D9: 753.6 | E9: 753.1 | F9: 753.5 | G9: =IF(B9>=$A$1,D9,"") -> 753.6
A10: 東証 | B10: 0.57638889 | C10: 753.3 | D10: 753.4 | E10: 752.8 | F10: 753.2 | G10: =IF(B10>=$A$1,D10,"") -> 753.4
A11: 東証 | B11: 0.57291667 | C11: 753.7 | D11: 753.8 | E11: 753.3 | F11: 753.3 | G11: =IF(B11>=$A$1,D11,"") -> 753.8
A12: 東証 | B12: 0.56944444 | C12: 753.5 | D12: 753.8 | E12: 753.4 | F12: 753.8 | G12: =IF(B12>=$A$1,D12,"") -> 753.8
A13: 東証 | B13: 0.56597222 | C13: 753.3 | D13: 753.5 | E13: 753.1 | F13: 753.4 | G13: =IF(B13>=$A$1,D13,"") -> 753.5
A14: 東証 | B14: 0.5625 | C14: 753 | D14: 753.4 | E14: 752.9 | F14: 753.3 | G14: =IF(B14>=$A$1,D14,"") -> 753.4
A15: 東証 | B15: 0.55902778 | C15: 753 | D15: 753.1 | E15: 752.7 | F15: 752.9 | G15: =IF(B15>=$A$1,D15,"") -> 753.1
A16: 東証 | B16: 0.55555556 | C16: 752.9 | D16: 753.1 | E16: 752.7 | F16: 753 | G16: =IF(B16>=$A$1,D16,"") -> 753.1
A17: 東証 | B17: 0.55208333 | C17: 753.7 | D17: 753.7 | E17: 752.8 | F17: 752.9 | G17: =IF(B17>=$A$1,D17,"") -> 753.7
A18: 東証 | B18: 0.54861111 | C18: 753.9 | D18: 754.1 | E18: 753.4 | F18: 753.6 | G18: =IF(B18>=$A$1,D18,"") -> 754.1
A19: 東証 | B19: 0.54513889 | C19: 753.6 | D19: 754.1 | E19: 753.6 | F19: 753.9 | G19: =IF(B19>=$A$1,D19,"") -> 754.1
... A56: 東証 | B56: 0.37847222 | C56: 754.3 | D56: 756.2 | E56: 754 | F56: 754.4 | G56: =IF(B56>=$A$1,D56,"")
A57: 東証 | B57: 0.375 | C57: 754.8 | D57: 755.4 | E57: 754.1 | F57: 754.4

Sheet 銘柄４
A1: =+Sheet1!D9 -> 0.38888889
A5: =[1]!CANDLE(Sheet1!A9,"","5","1","市場コード",A8,"D","1") -> CANDLE(Sheet1!A9,"","5","1","市場コード",A8,"D","1") | B5: =[1]!CANDLE(Sheet1!A9,"","5","1","約定時刻",B8,"D","1") -> CANDLE(Sheet1!A9,"","5","1","約定時刻",B8,"D","1") | C5: =[1]!CANDLE(Sheet1!A9,"","5","1","始値",C8,"D","1") -> CANDLE(Sheet1!A9,"","5","1","始値",C8,"D","1") | D5: =[1]!CANDLE(Sheet1!A9,"","5","1","高値",D8,"D","1") -> CANDLE(Sheet1!A9,"","5","1","高値",D8,"D","1") | E5: =[1]!CANDLE(Sheet1!A9,"","5","1","安値",E8,"D","1") -> CANDLE(Sheet1!A9,"","5","1","安値",E8,"D","1") | F5: =[1]!CANDLE(Sheet1!A9,"","5","1","終値",F8,"D","1") -> CANDLE(Sheet1!A9,"","5","1","終値",F8,"D","1")
A8: 東証 | B8: 0.58333333 | C8: 210.9 | D8: 210.9 | E8: 210.8 | F8: 210.9 | G8: =IF(B8>=$A$1,D8,"") -> 210.9
A9: 東証 | B9: 0.57986111 | C9: 210.8 | D9: 210.9 | E9: 210.7 | F9: 210.8 | G9: =IF(B9>=$A$1,D9,"") -> 210.9
A10: 東証 | B10: 0.57638889 | C10: 210.9 | D10: 210.9 | E10: 210.7 | F10: 210.8 | G10: =IF(B10>=$A$1,D10,"") -> 210.9
A11: 東証 | B11: 0.57291667 | C11: 210.9 | D11: 210.9 | E11: 210.8 | F11: 210.9 | G11: =IF(B11>=$A$1,D11,"") -> 210.9
A12: 東証 | B12: 0.56944444 | C12: 210.9 | D12: 210.9 | E12: 210.8 | F12: 210.9 | G12: =IF(B12>=$A$1,D12,"") -> 210.9
A13: 東証 | B13: 0.56597222 | C13: 210.9 | D13: 210.9 | E13: 210.8 | F13: 210.9 | G13: =IF(B13>=$A$1,D13,"") -> 210.9
A14: 東証 | B14: 0.5625 | C14: 210.8 | D14: 211 | E14: 210.8 | F14: 210.9 | G14: =IF(B14>=$A$1,D14,"") -> 211
A15: 東証 | B15: 0.55902778 | C15: 210.8 | D15: 210.9 | E15: 210.8 | F15: 210.9 | G15: =IF(B15>=$A$1,D15,"") -> 210.9
A16: 東証 | B16: 0.55555556 | C16: 210.9 | D16: 210.9 | E16: 210.7 | F16: 210.8 | G16: =IF(B16>=$A$1,D16,"") -> 210.9
A17: 東証 | B17: 0.55208333 | C17: 210.9 | D17: 210.9 | E17: 210.7 | F17: 210.8 | G17: =IF(B17>=$A$1,D17,"") -> 210.9
A18: 東証 | B18: 0.54861111 | C18: 210.9 | D18: 211 | E18: 210.8 | F18: 210.9 | G18: =IF(B18>=$A$1,D18,"") -> 211
A19: 東証 | B19: 0.54513889 | C19: 210.7 | D19: 211 | E19: 210.7 | F19: 210.9 | G19: =IF(B19>=$A$1,D19,"") -> 211
... A56: 東証 | B56: 0.37847222 | C56: 211.1 | D56: 211.4 | E56: 211 | F56: 211 | G56: =IF(B56>=$A$1,D56,"")
A57: 東証 | B57: 0.375 | C57: 211.2 | D57: 211.4 | E57: 211 | F57: 211.1
