Workbook
Name Dlog_bk_prj_id: "エディット 12"
Name Dlog_bk_prj_name: "エディット 13"
Name Dlog_bk_sht_id: "エディット 14"
Name Dlog_sh_sht_name: "ドロップ 95"
Name シート選択見だし: "ラベル 5"
Name チェック: 価格リスト!$G$9:$G$169
Name 買時間足・データ: 買・四本値!$C$3:$G$107
Name 買時間足・日付: 買・四本値!$A$3:$A$107
Name 売時間足・データ: 売・四本値!$C$3:$G$107
Name 売時間足・日付: 売・四本値!$A$3:$A$107

Sheet 価格リスト
H1: システム | O1: 売候補 | P1: 買候補
H2: OFF | K2: 残存日数 | O2: =IFERROR(VLOOKUP("売",A9:F169,6,FALSE),"") -> 23250 | P2: =IFERROR(VLOOKUP("買",A9:F169,6,FALSE),"") -> 22625
F3: 表示基本価格 | H3: 横のボタンでで切替 | K3: =[1]!OPQUOTE(F7,B7,O2,"残存日数")&"日" -> 21日
F4: 30000
K5: 本 日
B6: 価格リスト | F6: 期近 | K6: =TODAY() -> 43149
B7: C | C7: CALL | F7: =IF(F6="期近",0,1) -> 0 | K7: =NOW()-TODAY() -> 0.81537859 | O7: 225・現在値 | P7: =[1]!FQUOTE("N225",0,"現在値") -> 21900
B8: ATM | C8: 出来高 | D8: 売 | E8: 買 | F8: 権利行使価格
A9: =IF(G9="売","売",IF(G9="買","買","")) | B9: =IFERROR(IF([1]!OPQUOTE($F$7,$B$7,$F9,B$8)="true","◯",""),"") | C9: =IFERROR([1]!OPQUOTE($F$7,$B$7,$F9,C$8),"") -> 0 | D9: =IFERROR([1]!OPBOARD($F$7,$B$7,F9,"気配値5"),"") -> 1 | E9: =IFERROR([1]!OPBOARD($F$7,$B$7,F9,"気配値6"),"") -> 0 | F9: =F4 -> 30000 | G9: □
A10: =IF(G10="売","売",IF(G10="買","買","")) | B10: =IFERROR(IF([1]!OPQUOTE($F$7,$B$7,$F10,B$8)="true","◯",""),"") | C10: =IFERROR([1]!OPQUOTE($F$7,$B$7,$F10,C$8),"") | D10: =IFERROR([1]!OPBOARD($F$7,$B$7,F10,"気配値5"),"") | E10: =IFERROR([1]!OPBOARD($F$7,$B$7,F10,"気配値6"),"") | F10: =F9-125 -> 29875 | G10: □
A11: =IF(G11="売","売",IF(G11="買","買","")) | B11: =IFERROR(IF([1]!OPQUOTE($F$7,$B$7,$F11,B$8)="true","◯",""),"") | C11: =IFERROR([1]!OPQUOTE($F$7,$B$7,$F11,C$8),"") | D11: =IFERROR([1]!OPBOARD($F$7,$B$7,F11,"気配値5"),"") | E11: =IFERROR([1]!OPBOARD($F$7,$B$7,F11,"気配値6"),"") | F11: =F10-125 -> 29750 | G11: □
A12: =IF(G12="売","売",IF(G12="買","買","")) | B12: =IFERROR(IF([1]!OPQUOTE($F$7,$B$7,$F12,B$8)="true","◯",""),"") | C12: =IFERROR([1]!OPQUOTE($F$7,$B$7,$F12,C$8),"") | D12: =IFERROR([1]!OPBOARD($F$7,$B$7,F12,"気配値5"),"") | E12: =IFERROR([1]!OPBOARD($F$7,$B$7,F12,"気配値6"),"") | F12: =F11-125 -> 29625 | G12: □
A13: =IF(G13="売","売",IF(G13="買","買","")) | B13: =IFERROR(IF([1]!OPQUOTE($F$7,$B$7,$F13,B$8)="true","◯",""),"") | C13: =IFERROR([1]!OPQUOTE($F$7,$B$7,$F13,C$8),"") | D13: =IFERROR([1]!OPBOARD($F$7,$B$7,F13,"気配値5"),"") | E13: =IFERROR([1]!OPBOARD($F$7,$B$7,F13,"気配値6"),"") | F13: =F12-125 -> 29500 | G13: □
A14: =IF(G14="売","売",IF(G14="買","買","")) | B14: =IFERROR(IF([1]!OPQUOTE($F$7,$B$7,$F14,B$8)="true","◯",""),"") | C14: =IFERROR([1]!OPQUOTE($F$7,$B$7,$F14,C$8),"") | D14: =IFERROR([1]!OPBOARD($F$7,$B$7,F14,"気配値5"),"") | E14: =IFERROR([1]!OPBOARD($F$7,$B$7,F14,"気配値6"),"") | F14: =F13-125 -> 29375 | G14: □
A15: =IF(G15="売","売",IF(G15="買","買","")) | B15: =IFERROR(IF([1]!OPQUOTE($F$7,$B$7,$F15,B$8)="true","◯",""),"") | C15: =IFERROR([1]!OPQUOTE($F$7,$B$7,$F15,C$8),"") | D15: =IFERROR([1]!OPBOARD($F$7,$B$7,F15,"気配値6"),"") | E15: =IFERROR([1]!OPBOARD($F$7,$B$7,F15,"気配値5"),"") | F15: =F14-125 -> 29250 | G15: □
A16: =IF(G16="売","売",IF(G16="買","買","")) | B16: =IFERROR(IF([1]!OPQUOTE($F$7,$B$7,$F16,B$8)="true","◯",""),"") | C16: =IFERROR([1]!OPQUOTE($F$7,$B$7,$F16,C$8),"") | D16: =IFERROR([1]!OPBOARD($F$7,$B$7,F16,"気配値6"),"") | E16: =IFERROR([1]!OPBOARD($F$7,$B$7,F16,"気配値5"),"") | F16: =F15-125 -> 29125 | G16: □
A17: =IF(G17="売","売",IF(G17="買","買","")) | B17: =IFERROR(IF([1]!OPQUOTE($F$7,$B$7,$F17,B$8)="true","◯",""),"") | C17: =IFERROR([1]!OPQUOTE($F$7,$B$7,$F17,C$8),"") -> 0 | D17: =IFERROR([1]!OPBOARD($F$7,$B$7,F17,"気配値6"),"") -> 0 | E17: =IFERROR([1]!OPBOARD($F$7,$B$7,F17,"気配値5"),"") -> 1 | F17: =F16-125 -> 29000 | G17: □
A18: =IF(G18="売","売",IF(G18="買","買","")) | B18: =IFERROR(IF([1]!OPQUOTE($F$7,$B$7,$F18,B$8)="true","◯",""),"") | C18: =IFERROR([1]!OPQUOTE($F$7,$B$7,$F18,C$8),"") | D18: =IFERROR([1]!OPBOARD($F$7,$B$7,F18,"気配値6"),"") | E18: =IFERROR([1]!OPBOARD($F$7,$B$7,F18,"気配値5"),"") | F18: =F17-125 -> 28875 | G18: □
A19: =IF(G19="売","売",IF(G19="買","買","")) | B19: =IFERROR(IF([1]!OPQUOTE($F$7,$B$7,$F19,B$8)="true","◯",""),"") | C19: =IFERROR([1]!OPQUOTE($F$7,$B$7,$F19,C$8),"") | D19: =IFERROR([1]!OPBOARD($F$7,$B$7,F19,"気配値6"),"") | E19: =IFERROR([1]!OPBOARD($F$7,$B$7,F19,"気配値5"),"") | F19: =F18-125 -> 28750 | G19: □
A20: =IF(G20="売","売",IF(G20="買","買","")) | B20: =IFERROR(IF([1]!OPQUOTE($F$7,$B$7,$F20,B$8)="true","◯",""),"") | C20: =IFERROR([1]!OPQUOTE($F$7,$B$7,$F20,C$8),"") | D20: =IFERROR([1]!OPBOARD($F$7,$B$7,F20,"気配値6"),"") | E20: =IFERROR([1]!OPBOARD($F$7,$B$7,F20,"気配値5"),"") | F20: =F19-125 -> 28625 | G20: □
A21: =IF(G21="売","売",IF(G21="買","買","")) | B21: =IFERROR(IF([1]!OPQUOTE($F$7,$B$7,$F21,B$8)="true","◯",""),"") | C21: =IFERROR([1]!OPQUOTE($F$7,$B$7,$F21,C$8),"") | D21: =IFERROR([1]!OPBOARD($F$7,$B$7,F21,"気配値6"),"") | E21: =IFERROR([1]!OPBOARD($F$7,$B$7,F21,"気配値5"),"") | F21: =F20-125 -> 28500 | G21: □
A22: =IF(G22="売","売",IF(G22="買","買","")) | B22: =IFERROR(IF([1]!OPQUOTE($F$7,$B$7,$F22,B$8)="true","◯",""),"") | C22: =IFERROR([1]!OPQUOTE($F$7,$B$7,$F22,C$8),"") | D22: =IFERROR([1]!OPBOARD($F$7,$B$7,F22,"気配値6"),"") | E22: =IFERROR([1]!OPBOARD($F$7,$B$7,F22,"気配値5"),"") | F22: =F21-125 -> 28375 | G22: □
A23: =IF(G23="売","売",IF(G23="買","買","")) | B23: =IFERROR(IF([1]!OPQUOTE($F$7,$B$7,$F23,B$8)="true","◯",""),"") | C23: =IFERROR([1]!OPQUOTE($F$7,$B$7,$F23,C$8),"") | D23: =IFERROR([1]!OPBOARD($F$7,$B$7,F23,"気配値6"),"") | E23: =IFERROR([1]!OPBOARD($F$7,$B$7,F23,"気配値5"),"") | F23: =F22-125 -> 28250 | G23: □
A24: =IF(G24="売","売",IF(G24="買","買","")) | B24: =IFERROR(IF([1]!OPQUOTE($F$7,$B$7,$F24,B$8)="true","◯",""),"") | C24: =IFERROR([1]!OPQUOTE($F$7,$B$7,$F24,C$8),"") | D24: =IFERROR([1]!OPBOARD($F$7,$B$7,F24,"気配値6"),"") | E24: =IFERROR([1]!OPBOARD($F$7,$B$7,F24,"気配値5"),"") | F24: =F23-125 -> 28125 | G24: □
A25: =IF(G25="売","売",IF(G25="買","買","")) | B25: =IFERROR(IF([1]!OPQUOTE($F$7,$B$7,$F25,B$8)="true","◯",""),"") | C25: =IFERROR([1]!OPQUOTE($F$7,$B$7,$F25,C$8),"") -> 0 | D25: =IFERROR([1]!OPBOARD($F$7,$B$7,F25,"気配値6"),"") -> 0 | E25: =IFERROR([1]!OPBOARD($F$7,$B$7,F25,"気配値5"),"") -> 1 | F25: =F24-125 -> 28000 | G25: □
A26: =IF(G26="売","売",IF(G26="買","買","")) | B26: =IFERROR(IF([1]!OPQUOTE($F$7,$B$7,$F26,B$8)="true","◯",""),"") | C26: =IFERROR([1]!OPQUOTE($F$7,$B$7,$F26,C$8),"") | D26: =IFERROR([1]!OPBOARD($F$7,$B$7,F26,"気配値6"),"") | E26: =IFERROR([1]!OPBOARD($F$7,$B$7,F26,"気配値5"),"") | F26: =F25-125 -> 27875 | G26: □
... A169: =IF(G169="売","売",IF(G169="買","買","")) | B169: =IFERROR(IF([1]!OPQUOTE($F$7,$B$7,$F169,B$8)="true","◯",""),"") | C169: =IFERROR([1]!OPQUOTE($F$7,$B$7,$F169,C$8),"") -> 0 | D169: =IFERROR([1]!OPBOARD($F$7,$B$7,F169,"気配値6"),"") -> 0 | E169: =IFERROR([1]!OPBOARD($F$7,$B$7,F169,"気配値5"),"") -> 0 | F169: =F168-125 -> 10000 | G169: □

Sheet 発注シート
G1: 発注確認 | I1: システム
B2: PASS
B3: 限 月 | C3: =価格リスト!F7 -> 0 | E3: 発 注 | G3: ON | I3: OFF
B4: オプション | C4: C | E4: ▲ | G4: ▲ | I4: ▲
B5: 発注ID | C5: 003 | E5: ダブルクリックで発注 | G5: ダブルクリックで切替 | I5: 横のボタンでで切替
B9: コール・売 | F9: コール・買 | J9: 本 日
B10: 行使価格 | C10: =価格リスト!O2 -> 23250 | F10: 行使価格 | G10: =価格リスト!P2 -> 22625 | J10: =TODAY() -> 43149
B11: 成行約定価格 | C11: =[1]!OPBOARD(C3,"C",C10,"気配値6") -> 39 | F11: 成行約定価格 | G11: =[1]!OPBOARD(C3,"C",G10,"気配値5") -> 135 | J11: =NOW()-TODAY() -> 0.81537859
B12: 出来高 | C12: =[1]!OPBOARD($C$3,$C$4,C10,"買気配数量6") -> 1 | D12: （４以上） | F12: 出来高 | G12: =[1]!OPBOARD($C$3,$C$4,G10,"売気配数量5") -> 8
C13: ▲ | G13: ▲
B14: ターゲット | F14: ターゲット
C16: =IFERROR(VLOOKUP(A16,保有!$F$4:$H$500,3,0),"-") -> - | G16: =IFERROR(VLOOKUP(G17,保有!$G$4:$H$500,2,0),"-") -> -
C17: =IFERROR(VLOOKUP(A17,保有!$F$4:$H$500,3,0),"-") -> - | F17: メモ | G17: =注文!C48 -> OP_L003
C18: =IFERROR(VLOOKUP(A18,保有!$F$4:$H$500,3,0),"-") -> -
C19: =IFERROR(VLOOKUP(A19,保有!$F$4:$H$500,3,0),"-") -> -
B21: メモ | C21: =注文!C21 -> OP_S003
B23: 売気配 | C23: 価格 | D23: 買気配 | F23: 売気配 | G23: 価格 | H23: 買気配
B24: =[1]!OPBOARD($C$3,$C$4,$C$10,"売気配数量2") -> 4 | C24: =[1]!OPBOARD($C$3,$C$4,$C$10,"気配値2") -> 43 | D24: =[1]!OPBOARD($C$3,$C$4,$C$10,"買気配数量2") -> 0 | F24: =[1]!OPBOARD($C$3,$C$4,$G$10,"売気配数量2") -> 1 | G24: =[1]!OPBOARD($C$3,$C$4,$G$10,"気配値2") -> 210 | H24: =[1]!OPBOARD($C$3,$C$4,$G$10,"買気配数量2") -> 0
B25: =[1]!OPBOARD($C$3,$C$4,$C$10,"売気配数量3") -> 8 | C25: =[1]!OPBOARD($C$3,$C$4,$C$10,"気配値3") -> 42 | D25: =[1]!OPBOARD($C$3,$C$4,$C$10,"買気配数量3") -> 0 | F25: =[1]!OPBOARD($C$3,$C$4,$G$10,"売気配数量3") -> 12 | G25: =[1]!OPBOARD($C$3,$C$4,$G$10,"気配値3") -> 145 | H25: =[1]!OPBOARD($C$3,$C$4,$G$10,"買気配数量3") -> 0
B26: =[1]!OPBOARD($C$3,$C$4,$C$10,"売気配数量4") -> 9 | C26: =[1]!OPBOARD($C$3,$C$4,$C$10,"気配値4") -> 41 | D26: =[1]!OPBOARD($C$3,$C$4,$C$10,"買気配数量4") -> 0 | F26: =[1]!OPBOARD($C$3,$C$4,$G$10,"売気配数量4") -> 4 | G26: =[1]!OPBOARD($C$3,$C$4,$G$10,"気配値4") -> 140 | H26: =[1]!OPBOARD($C$3,$C$4,$G$10,"買気配数量4") -> 0
B27: =[1]!OPBOARD($C$3,$C$4,$C$10,"売気配数量5") -> 3 | C27: =[1]!OPBOARD($C$3,$C$4,$C$10,"気配値5") -> 40 | D27: =[1]!OPBOARD($C$3,$C$4,$C$10,"買気配数量5") -> 0 | F27: =[1]!OPBOARD($C$3,$C$4,$G$10,"売気配数量5") -> 8 | G27: =[1]!OPBOARD($C$3,$C$4,$G$10,"気配値5") -> 135 | H27: =[1]!OPBOARD($C$3,$C$4,$G$10,"買気配数量5") -> 0
B28: =[1]!OPBOARD($C$3,$C$4,$C$10,"売気配数量6") -> 0 | C28: =[1]!OPBOARD($C$3,$C$4,$C$10,"気配値6") -> 39 | D28: =[1]!OPBOARD($C$3,$C$4,$C$10,"買気配数量6") -> 1 | F28: =[1]!OPBOARD($C$3,$C$4,$G$10,"売気配数量6") -> 0 | G28: =[1]!OPBOARD($C$3,$C$4,$G$10,"気配値6") -> 110 | H28: =[1]!OPBOARD($C$3,$C$4,$G$10,"買気配数量6") -> 10
B29: =[1]!OPBOARD($C$3,$C$4,$C$10,"売気配数量7") -> 0 | C29: =[1]!OPBOARD($C$3,$C$4,$C$10,"気配値7") -> 38 | D29: =[1]!OPBOARD($C$3,$C$4,$C$10,"買気配数量7") -> 2 | F29: =[1]!OPBOARD($C$3,$C$4,$G$10,"売気配数量7") -> 0 | G29: =[1]!OPBOARD($C$3,$C$4,$G$10,"気配値7") -> 105 | H29: =[1]!OPBOARD($C$3,$C$4,$G$10,"買気配数量7") -> 8
B30: =[1]!OPBOARD($C$3,$C$4,$C$10,"売気配数量8") -> 0 | C30: =[1]!OPBOARD($C$3,$C$4,$C$10,"気配値8") -> 36 | D30: =[1]!OPBOARD($C$3,$C$4,$C$10,"買気配数量8") -> 7 | F30: =[1]!OPBOARD($C$3,$C$4,$G$10,"売気配数量8") -> 0 | G30: =[1]!OPBOARD($C$3,$C$4,$G$10,"気配値8") -> 100 | H30: =[1]!OPBOARD($C$3,$C$4,$G$10,"買気配数量8") -> 8
B31: =[1]!OPBOARD($C$3,$C$4,$C$10,"売気配数量9") -> 0 | C31: =[1]!OPBOARD($C$3,$C$4,$C$10,"気配値9") -> 35 | D31: =[1]!OPBOARD($C$3,$C$4,$C$10,"買気配数量9") -> 4 | F31: =[1]!OPBOARD($C$3,$C$4,$G$10,"売気配数量9") -> 0 | G31: =[1]!OPBOARD($C$3,$C$4,$G$10,"気配値9") -> 90 | H31: =[1]!OPBOARD($C$3,$C$4,$G$10,"買気配数量9") -> 3
C33: =[1]!OPQUOTE(C3,C4,C10,"現在値") -> 39 | G33: =[1]!OPQUOTE(C3,C4,G10,"現在値") -> 120
C34: 現在値 | G34: 現在値

Sheet 建玉状況
B2: コール・売り | H2: コール・買い
B3: =発注シート!C3 -> 0 | C3: C | D3: =発注シート!C10 -> 23250 | E3: =[1]!OPQUOTE(B3,C3,D3,"銘柄名") -> N225OP 18/03C23250 | H3: =B3 -> 0 | I3: C | J3: =発注シート!G10 -> 22625 | K3: =[1]!OPQUOTE(H3,I3,J3,"銘柄名") -> N225OP 18/03C22625
D4: 32 | F4: =D4 -> 32 | G4: =F6+J6 -> -13 | J4: 115
D5: =D18 -> 40 | F5: =D5 -> 40 | J5: =J19 -> 110
D6: =D4-D5 -> -8 | F6: =D6 -> -8 | J6: =J5-J4 -> -5
G8: ホールド | L8: 建玉監視 | N8: システム
D9: =IFERROR(VLOOKUP(D10,約定一覧!D4:E500,2,0),"-") -> - | J9: =IFERROR(VLOOKUP(J10,約定一覧!L4:M500,2,0),"-") -> -
D10: =発注シート!C21 -> OP_S003 | J10: =発注シート!G17 -> OP_L003 | L10: OFF | N10: OFF
G11: 強制決済 | L11: ▲ | N11: ▲
G12: ▲ | L12: ダブルクリックで切替 | N12: 上のボタンでで切替
G13: ダブルクリックで強制決済
C14: 売気配 | D14: 価格 | E14: 買気配 | I14: 売気配 | J14: 価格 | K14: 買気配
C15: =[1]!OPBOARD(B3,C3,D3,"売気配数量2") -> 4 | D15: =[1]!OPBOARD(B3,C3,D3,"気配値2") -> 43 | E15: =[1]!OPBOARD(B3,C3,D3,"買気配数量2") -> 0 | I15: =[1]!OPBOARD(H3,I3,J3,"売気配数量2") -> 1 | J15: =[1]!OPBOARD(H3,I3,J3,"気配値2") -> 210 | K15: =[1]!OPBOARD(H3,I3,J3,"買気配数量2") -> 0
C16: =[1]!OPBOARD(B3,C3,D3,"売気配数量3") -> 8 | D16: =[1]!OPBOARD(B3,C3,D3,"気配値3") -> 42 | E16: =[1]!OPBOARD(B3,C3,D3,"買気配数量3") -> 0 | I16: =[1]!OPBOARD(H3,I3,J3,"売気配数量3") -> 12 | J16: =[1]!OPBOARD(H3,I3,J3,"気配値3") -> 145 | K16: =[1]!OPBOARD(H3,I3,J3,"買気配数量3") -> 0
C17: =[1]!OPBOARD(B3,C3,D3,"売気配数量4") -> 9 | D17: =[1]!OPBOARD(B3,C3,D3,"気配値4") -> 41 | E17: =[1]!OPBOARD(B3,C3,D3,"買気配数量4") -> 0 | G17: 50 | I17: =[1]!OPBOARD(H3,I3,J3,"売気配数量4") -> 4 | J17: =[1]!OPBOARD(H3,I3,J3,"気配値4") -> 140 | K17: =[1]!OPBOARD(H3,I3,J3,"買気配数量4") -> 0
C18: =[1]!OPBOARD(B3,C3,D3,"売気配数量5") -> 3 | D18: =[1]!OPBOARD(B3,C3,D3,"気配値5") -> 40 | E18: =[1]!OPBOARD(B3,C3,D3,"買気配数量5") -> 0 | I18: =[1]!OPBOARD(H3,I3,J3,"売気配数量5") -> 8 | J18: =[1]!OPBOARD(H3,I3,J3,"気配値5") -> 135 | K18: =[1]!OPBOARD(H3,I3,J3,"買気配数量5") -> 0
C19: =[1]!OPBOARD(B3,C3,D3,"売気配数量6") -> 0 | D19: =[1]!OPBOARD(B3,C3,D3,"気配値6") -> 39 | E19: =[1]!OPBOARD(B3,C3,D3,"買気配数量6") -> 1 | G19: 本 日 | I19: =[1]!OPBOARD(H3,I3,J3,"売気配数量6") -> 0 | J19: =[1]!OPBOARD(H3,I3,J3,"気配値6") -> 110 | K19: =[1]!OPBOARD(H3,I3,J3,"買気配数量6") -> 10
C20: =[1]!OPBOARD(B3,C3,D3,"売気配数量7") -> 0 | D20: =[1]!OPBOARD(B3,C3,D3,"気配値7") -> 38 | E20: =[1]!OPBOARD(B3,C3,D3,"買気配数量7") -> 2 | G20: =TODAY() -> 43149 | I20: =[1]!OPBOARD(H3,I3,J3,"売気配数量7") -> 0 | J20: =[1]!OPBOARD(H3,I3,J3,"気配値7") -> 105 | K20: =[1]!OPBOARD(H3,I3,J3,"買気配数量7") -> 8
C21: =[1]!OPBOARD(B3,C3,D3,"売気配数量8") -> 0 | D21: =[1]!OPBOARD(B3,C3,D3,"気配値8") -> 36 | E21: =[1]!OPBOARD(B3,C3,D3,"買気配数量8") -> 7 | G21: =NOW()-TODAY() -> 0.81537859 | I21: =[1]!OPBOARD(H3,I3,J3,"売気配数量8") -> 0 | J21: =[1]!OPBOARD(H3,I3,J3,"気配値8") -> 100 | K21: =[1]!OPBOARD(H3,I3,J3,"買気配数量8") -> 8
C22: =[1]!OPBOARD(B3,C3,D3,"売気配数量9") -> 0 | D22: =[1]!OPBOARD(B3,C3,D3,"気配値9") -> 35 | E22: =[1]!OPBOARD(B3,C3,D3,"買気配数量9") -> 4 | I22: =[1]!OPBOARD(H3,I3,J3,"売気配数量9") -> 0 | J22: =[1]!OPBOARD(H3,I3,J3,"気配値9") -> 90 | K22: =[1]!OPBOARD(H3,I3,J3,"買気配数量9") -> 3
G23: 建 日
D24: =[1]!OPQUOTE(B3,C3,D3,"現在値") -> 39 | G24: =IFERROR(VLOOKUP(D10,約定一覧!D4:E500,4,0),"-") -> - | J24: =[1]!OPQUOTE(H3,I3,J3,"現在値") -> 120
D25: 現在値 | G25: 強制決済 | J25: 現在値
G26: ホールド日数
G27: =IFERROR(G20-G24&"日","-") -> -
G29: 残日数
G30: =IFERROR(G23-G27&"日","-") -> -

Sheet クォート
A1: クォート（売） | I1: クォート（買）
A2: =価格リスト!F7 -> 0 | B2: C | C2: =建玉状況!D3 -> 23250 | D2: =[1]!OPQUOTE(A2,B2,C2,"銘柄名") -> N225OP 18/03C23250 | I2: =価格リスト!F7 -> 0 | J2: C | K2: =建玉状況!J3 -> 22625 | L2: =[1]!OPQUOTE(I2,J2,K2,"銘柄名") -> N225OP 18/03C22625
A3: 現在値 | B3: =[1]!OPQUOTE(A2,B2,C2,"現在値") -> 39 | C3: 前日比 | D3: =[1]!OPQUOTE(A2,B2,C2,"前日比") -> 10 | E3: ="("&[1]!OPQUOTE(A2,B2,C2,"前日比率")&")" -> (34.48) | F3: 出来高 | G3: =[1]!OPQUOTE(A2,B2,C2,"出来高") -> 560 | I3: 現在値 | J3: =[1]!OPQUOTE(I2,J2,K2,"現在値") -> 120 | K3: 前日比 | L3: =[1]!OPQUOTE(I2,J2,K2,"前日比") -> 25 | M3: ="("&[1]!OPQUOTE(I2,J2,K2,"前日比率")&")" -> (26.32) | N3: 出来高 | O3: =[1]!OPQUOTE(I2,J2,K2,"出来高") -> 238
A4: 売買代金 | B4: =[1]!OPQUOTE(A2,B2,C2,"売買代金") -> 18561 | C4: 残存建玉 | D4: =[1]!OPQUOTE(A2,B2,C2,"建玉残高") -> 7555 | F4: 理論価格 | G4: =[1]!OPQUOTE(A2,B2,C2,"理論価格") -> 39 | I4: 売買代金 | J4: =[1]!OPQUOTE(I2,J2,K2,"売買代金") -> 24720 | K4: 残存建玉 | L4: =[1]!OPQUOTE(I2,J2,K2,"建玉残高") -> 1656 | N4: 理論価格 | O4: =[1]!OPQUOTE(I2,J2,K2,"理論価格") -> 120
A5: 前日終値 | B5: =[1]!OPQUOTE(A2,B2,C2,"前日終値") -> 29 | C5: HV | D5: =[1]!OPQUOTE(A2,B2,C2,"HV") -> 14.9466 | F5: IV | G5: =[1]!OPQUOTE(A2,B2,C2,"IV") -> 18.73 | I5: 前日終値 | J5: =[1]!OPQUOTE(I2,J2,K2,"前日終値") -> 95 | K5: HV | L5: =[1]!OPQUOTE(I2,J2,K2,"HV") -> 14.9466 | N5: IV | O5: =[1]!OPQUOTE(I2,J2,K2,"IV") -> 18.33
B6: 日中 | D6: 夜間 | F6: 日通し | J6: 日中 | L6: 夜間 | N6: 日通し
A7: 始値 | B7: =[1]!OPQUOTE(A2,B2,C2,"日中始値") -> 22 | C7: =[1]!OPQUOTE(A2,B2,C2,"日中始値時間") -> 09:00:01 | D7: =[1]!OPQUOTE(A2,B2,C2,"夜間始値") -> 30 | E7: =[1]!OPQUOTE(A2,B2,C2,"夜間始値時刻") -> 16:30:01 | F7: =[1]!OPQUOTE(A2,B2,C2,"始値") -> 30 | G7: =[1]!OPQUOTE(A2,B2,C2,"始値時刻") -> 16:30:01 | I7: 始値 | J7: =[1]!OPQUOTE(I2,J2,K2,"日中始値") -> 75 | K7: =[1]!OPQUOTE(I2,J2,K2,"日中始値時間") -> 09:00:01 | L7: =[1]!OPQUOTE(I2,J2,K2,"夜間始値") -> 100 | M7: =[1]!OPQUOTE(I2,J2,K2,"夜間始値時刻") -> 16:30:03 | N7: =[1]!OPQUOTE(I2,J2,K2,"始値") -> 100 | O7: =[1]!OPQUOTE(I2,J2,K2,"始値時刻") -> 16:30:03
A8: 高値 | B8: =[1]!OPQUOTE(A2,B2,C2,"日中高値") -> 42 | C8: =[1]!OPQUOTE(A2,B2,C2,"日中高値時間") -> 12:47:05 | D8: =[1]!OPQUOTE(A2,B2,C2,"夜間高値") -> 39 | E8: =[1]!OPQUOTE(A2,B2,C2,"夜間高値時刻") -> 02:34:27 | F8: =[1]!OPQUOTE(A2,B2,C2,"高値") -> 39 | G8: =[1]!OPQUOTE(A2,B2,C2,"高値時刻") -> 02:34:27 | I8: 高値 | J8: =[1]!OPQUOTE(I2,J2,K2,"日中高値") -> 125 | K8: =[1]!OPQUOTE(I2,J2,K2,"日中高値時間") -> 12:47:20 | L8: =[1]!OPQUOTE(I2,J2,K2,"夜間高値") -> 125 | M8: =[1]!OPQUOTE(I2,J2,K2,"夜間高値時刻") -> 05:11:22 | N8: =[1]!OPQUOTE(I2,J2,K2,"高値") -> 125 | O8: =[1]!OPQUOTE(I2,J2,K2,"高値時刻") -> 05:11:22
A9: 安値 | B9: =[1]!OPQUOTE(A2,B2,C2,"日中安値") -> 20 | C9: =[1]!OPQUOTE(A2,B2,C2,"日中安値時間") -> 09:09:35 | D9: =[1]!OPQUOTE(A2,B2,C2,"夜間安値") -> 27 | E9: =[1]!OPQUOTE(A2,B2,C2,"夜間安値時刻") -> 17:01:54 | F9: =[1]!OPQUOTE(A2,B2,C2,"安値") -> 27 | G9: =[1]!OPQUOTE(A2,B2,C2,"安値時刻") -> 17:01:54 | I9: 安値 | J9: =[1]!OPQUOTE(I2,J2,K2,"日中安値") -> 65 | K9: =[1]!OPQUOTE(I2,J2,K2,"日中安値時間") -> 09:08:50 | L9: =[1]!OPQUOTE(I2,J2,K2,"夜間安値") -> 95 | M9: =[1]!OPQUOTE(I2,J2,K2,"夜間安値時刻") -> 16:35:35 | N9: =[1]!OPQUOTE(I2,J2,K2,"安値") -> 95 | O9: =[1]!OPQUOTE(I2,J2,K2,"安値時刻") -> 16:35:35
A10: 終値 | B10: =[1]!OPQUOTE(A2,B2,C2,"日中終値") -> 29 | C10: =[1]!OPQUOTE(A2,B2,C2,"日中終値時間") -> 15:09:48 | D10: =[1]!OPQUOTE(A2,B2,C2,"夜間終値") -> 39 | E10: =[1]!OPQUOTE(A2,B2,C2,"夜間終値時刻") -> 05:18:37 | F10: =[1]!OPQUOTE(A2,B2,C2,"夜間終値") -> 39 | G10: =[1]!OPQUOTE(A2,B2,C2,"夜間終値時刻") -> 05:18:37 | I10: 終値 | J10: =[1]!OPQUOTE(I2,J2,K2,"日中終値") -> 95 | K10: =[1]!OPQUOTE(I2,J2,K2,"日中終値時間") -> 15:15:01 | L10: =[1]!OPQUOTE(I2,J2,K2,"夜間終値") -> 120 | M10: =[1]!OPQUOTE(I2,J2,K2,"夜間終値時刻") -> 05:30:01 | N10: =[1]!OPQUOTE(I2,J2,K2,"夜間終値") -> 120 | O10: =[1]!OPQUOTE(I2,J2,K2,"夜間終値時刻") -> 05:30:01
A11: 値幅 | B11: 上場来高値 | D11: SQ情報 | F11: 日経平均年初来高値 | I11: 値幅 | J11: 上場来高値 | L11: SQ情報 | N11: 日経平均年初来高値
A12: =[1]!OPQUOTE(A2,B2,C2,"値幅下限") -> 1 | B12: =[1]!OPQUOTE(A2,B2,C2,"上場来高値") -> 990 | D12: =[1]!OPQUOTE(A2,B2,C2,"SQ日") -> 2018/03/09 | F12: =[1]!OPQUOTE(A2,B2,C2,"日経平均年初来高値") -> 24129.34 | I12: =[1]!OPQUOTE(I2,J2,K2,"値幅下限") -> 1 | J12: =[1]!OPQUOTE(I2,J2,K2,"上場来高値") -> 720 | L12: =[1]!OPQUOTE(I2,J2,K2,"SQ日") -> 2018/03/09 | N12: =[1]!OPQUOTE(I2,J2,K2,"日経平均年初来高値") -> 24129.34
A13: =[1]!OPQUOTE(A2,B2,C2,"値幅上限") -> 915 | B13: =[1]!OPQUOTE(A2,B2,C2,"上場来高値日付") -> 2018/01/09 | D13: 残存日数 | E13: =[1]!OPQUOTE(A2,B2,C2,"残存日数") -> 21 | F13: =[1]!OPQUOTE(A2,B2,C2,"日経平均年初来高値日付") -> 2018/01/23 | I13: =[1]!OPQUOTE(I2,J2,K2,"値幅上限") -> 1420 | J13: =[1]!OPQUOTE(I2,J2,K2,"上場来高値日付") -> 2017/12/20 | L13: 残存日数 | M13: =[1]!OPQUOTE(I2,J2,K2,"残存日数") -> 21 | N13: =[1]!OPQUOTE(I2,J2,K2,"日経平均年初来高値日付") -> 2018/01/23
A14: 最良気配 | B14: 上場来安値 | D14: 日経平均 | F14: 日経平均年初来安値 | I14: 最良気配 | J14: 上場来安値 | L14: 日経平均 | N14: 日経平均年初来安値
A15: =[1]!OPQUOTE(A2,B2,C2,"売気配値") -> 40 | B15: =[1]!OPQUOTE(A2,B2,C2,"上場来安値") -> 20 | D15: =[1]!OPQUOTE(A2,B2,C2,"日経平均") -> 21,720.25 | F15: =[1]!OPQUOTE(A2,B2,C2,"日経平均年初来安値") -> 18224.68 | I15: =[1]!OPQUOTE(I2,J2,K2,"売気配値") -> 135 | J15: =[1]!OPQUOTE(I2,J2,K2,"上場来安値") -> 55 | L15: =[1]!OPQUOTE(I2,J2,K2,"日経平均") -> 21,720.25 | N15: =[1]!OPQUOTE(I2,J2,K2,"日経平均年初来安値") -> 18224.68
A16: =[1]!OPQUOTE(A2,B2,C2,"買気配値") -> 39 | B16: =[1]!OPQUOTE(A2,B2,C2,"上場来安値日付") -> 2018/02/16 | D16: =[1]!OPQUOTE(A2,B2,C2,"日経平均前日比") -> 255.27 | E16: ="("&[1]!OPQUOTE(A2,B2,C2,"日経平均前日比率")&"%)" -> (+1.19%) | F16: =[1]!OPQUOTE(A2,B2,C2,"日経平均年初来安値日付") -> 2017/04/17 | I16: =[1]!OPQUOTE(I2,J2,K2,"買気配値") -> 110 | J16: =[1]!OPQUOTE(I2,J2,K2,"上場来安値日付") -> 2018/02/14 | L16: =[1]!OPQUOTE(I2,J2,K2,"日経平均前日比") -> 255.27 | M16: ="("&[1]!OPQUOTE(I2,J2,K2,"日経平均前日比率")&"%)" -> (+1.19%) | N16: =[1]!OPQUOTE(I2,J2,K2,"日経平均年初来安値日付") -> 2017/04/17

Sheet 注文
B2: =IF(発注シート!E3="発注済",1,0) -> 0
B3: =IF(B2=1,[1]!opneworder(C5,C6,C7,C8,C9,C10,C11,C12,C13,C14,C15,C16,C17,C18,C19,C20,C21,C22,C23,C24),"未発注") -> 未発注
A4: 引数
A5: 第1引数 | B5: 限月 | C5: =発注シート!C3 -> 0 | D5: 限月をYYYYMMで指定。0を指定すると期近、1を指定すると期先
A6: 第2引数 | B6: コールプット | C6: C | D6: C：コール、P：プット
A7: 第3引数 | B7: 行使価格 | C7: =発注シート!C10 -> 23250
A8: 第4引数 | B8: 取引種類 | C8: 1 | D8: 1：新規、2：決済
A9: 第5引数 | B9: 建玉番号 | D9: 建玉番号or 決済順序。決済する建玉指定、もしくは、A：評価益（1 枚）順、B：評価損（1 枚）順、C：建日時古順、D：建日時新順。ブランクはなし。
A10: 第6引数 | B10: 建玉枝番号 | C10: 1 | D10: １を指定。
A11: 第7引数 | B11: 売買区分 | C11: 1 | D11: 1：売、3：買
A12: 第8引数 | B12: 執行条件 | C12: 13 | D12: 0：最大指値、1：指値、5：引成、6：不出来最大指値、8：逆指、10：指値（FOK）、11：指値（FAK）、12：成行（FOK）、13：成行（FAK）、14：最良指値、15：最良指値（FOK）、16：最良指値（FAK）、19：引指
A13: 第9引数 | B13: 単価 | C13: 0 | D13: 成行の場合は0を指定
A14: 第10引数 | B14: 数量 | C14: 1 | D14: 数量を指定
A15: 第11引数 | B15: 確認 | C15: =IF(発注シート!G3="ON",0,1) -> 0 | D15: 0：表示あり、１：表示無し
A16: 第12引数 | B16: 注文完了 | C16: 1 | D16: 0：表示あり、１：表示無し
A17: 第13引数 | B17: 注文画面表示 | C17: 1 | D17: 0：表示あり、１：表示無し
A18: 第14引数 | B18: パスワード | C18: =発注シート!C2 -> 0 | D18: 先物注文取引パスワード
A19: 第15引数 | B19: 発注ID | C19: ="OP_S"&発注シート!C5 -> OP_S003 | D19: 発注IDを指定
A20: 第16引数 | B20: 有効期間区分 | C20: 1 | D20: 1：当ｾｯｼｮﾝのみ(GFD)、3：最終日まで(GTC)、YYYYMMDD（GTDの場合のみ日付設定）※指定しない場合当セッションのみ
A21: 第17引数 | B21: メモ | C21: =C19 -> OP_S003 | D21: 0-9/a-z/A-Z の範囲文字と_(アンダーバー)のみ
A22: 第18引数 | B22: 発注条件 | D22: 0：最大指値 ※逆指値指定時のみ有効1：指値、10：指値（FOK）、11：指値（FAK）、12：成行（FOK）、13：成行（FAK）、14：最良指値、15：最良指値（FOK）、16：最良指値（FAK）、19：引指
A23: 第19引数 | B23: 発注単価 | D23: （逆指値）
A24: 第20引数 | B24: 銘柄 | C24: N225op | D24: N225op：日経 225 オプション、TOPIXop：TOPIX オプション
B30: =IF(B2=1,[1]!opneworder(C32,C33,C34,C35,C36,C37,C38,C39,C40,C41,C42,C43,C44,C45,C46,C47,C48,C49,C50,C51),"未発注") -> 未発注
A31: 引数
A32: 第1引数 | B32: 限月 | C32: =C5 -> 0 | D32: 限月をYYYYMMで指定。0を指定すると期近、1を指定すると期先
A33: 第2引数 | B33: コールプット | C33: C | D33: C：コール、P：プット
A34: 第3引数 | B34: 行使価格 | C34: =発注シート!G10 -> 22625
A35: 第4引数 | B35: 取引種類 | C35: 1 | D35: 1：新規、2：決済
A36: 第5引数 | B36: 建玉番号 | D36: 建玉番号or 決済順序。決済する建玉指定、もしくは、A：評価益（1 枚）順、B：評価損（1 枚）順、C：建日時古順、D：建日時新順。ブランクはなし。
A37: 第6引数 | B37: 建玉枝番号 | C37: 1 | D37: １を指定。
A38: 第7引数 | B38: 売買区分 | C38: 3 | D38: 1：売、3：買
A39: 第8引数 | B39: 執行条件 | C39: 13 | D39: 0：最大指値、1：指値、5：引成、6：不出来最大指値、8：逆指、10：指値（FOK）、11：指値（FAK）、12：成行（FOK）、13：成行（FAK）、14：最良指値、15：最良指値（FOK）、16：最良指値（FAK）、19：引指
A40: 第9引数 | B40: 単価 | C40: 0 | D40: 成行の場合は0を指定
A41: 第10引数 | B41: 数量 | C41: 1 | D41: 数量を指定
A42: 第11引数 | B42: 確認 | C42: =C15 -> 0 | D42: 0：表示あり、１：表示無し
A43: 第12引数 | B43: 注文完了 | C43: 1 | D43: 0：表示あり、１：表示無し
A44: 第13引数 | B44: 注文画面表示 | C44: 1 | D44: 0：表示あり、１：表示無し
A45: 第14引数 | B45: パスワード | C45: =C18 -> 0 | D45: 先物注文取引パスワード
A46: 第15引数 | B46: 発注ID | C46: ="OP_L"&発注シート!C5 -> OP_L003 | D46: 発注IDを指定
A47: 第16引数 | B47: 有効期間区分 | C47: 1 | D47: 1：当ｾｯｼｮﾝのみ(GFD)、3：最終日まで(GTC)、YYYYMMDD（GTDの場合のみ日付設定）※指定しない場合当セッションのみ
A48: 第17引数 | B48: メモ | C48: =C46 -> OP_L003 | D48: 0-9/a-z/A-Z の範囲文字と_(アンダーバー)のみ
A49: 第18引数 | B49: 発注条件 | D49: 0：最大指値 ※逆指値指定時のみ有効1：指値、10：指値（FOK）、11：指値（FAK）、12：成行（FOK）、13：成行（FAK）、14：最良指値、15：最良指値（FOK）、16：最良指値（FAK）、19：引指
A50: 第19引数 | B50: 発注単価 | D50: （逆指値）
A51: 第20引数 | B51: 銘柄 | C51: N225op | D51: N225op：日経 225 オプション、TOPIXop：TOPIX オプション
B61: 建玉監視
B62: =建玉状況!$L$10 -> OFF
B70: =建玉状況!G8 -> ホールド
A72: 引数
A73: 第4引数 | B73: 取引種類 | C73: 2 | D73: 1：新規、2：決済
A75: 第7引数 | B75: 売買区分 | C75: 3 | D75: 1：売、3：買
A76: 第8引数 | B76: 執行条件 | C76: 13 | D76: 0：最大指値、1：指値、5：引成、6：不出来最大指値、8：逆指、10：指値（FOK）、11：指値（FAK）、12：成行（FOK）、13：成行（FAK）、14：最良指値、15：最良指値（FOK）、16：最良指値（FAK）、19：引指
A77: 第9引数 | B77: 単価 | C77: 0 | D77: 成行の場合は0を指定
A78: 第11引数 | B78: 確認 | C78: =IF(建玉状況!L10="ON",1,0) -> 0 | D78: 0：表示あり、１：表示無し
A79: 第15引数 | B79: 発注ID | C79: ="OP_SL"&発注シート!C5 -> OP_SL003 | D79: 発注IDを指定
B89: =B70 -> ホールド
A91: 引数
A92: 第4引数 | B92: 取引種類 | C92: 2 | D92: 1：新規、2：決済
A93: 第5引数 | B93: 建玉番号 | C93: =発注シート!G16 -> -
A94: 第7引数 | B94: 売買区分 | C94: 1 | D94: 1：売、3：買
A95: 第8引数 | B95: 執行条件 | C95: 13 | D95: 0：最大指値、1：指値、5：引成、6：不出来最大指値、8：逆指、10：指値（FOK）、11：指値（FAK）、12：成行（FOK）、13：成行（FAK）、14：最良指値、15：最良指値（FOK）、16：最良指値（FAK）、19：引指
A96: 第9引数 | B96: 単価 | C96: 0 | D96: 成行の場合は0を指定
A97: 第11引数 | B97: 確認 | C97: =C78 -> 0 | D97: 0：表示あり、１：表示無し
A98: 第15引数 | B98: 発注ID | C98: ="OP_LS"&発注シート!C5 -> OP_LS003 | D98: 発注IDを指定

Sheet 保有
A1: =[1]!FOPPOSITION(A3,A4) -> FOPPOSITION(A3,A4) | B1: =[1]!FOPPOSITION(B3,B4) -> FOPPOSITION(B3,B4) | C1: =[1]!FOPPOSITION(C3,C4) -> FOPPOSITION(C3,C4) | D1: =[1]!FOPPOSITION(D3,D4) -> FOPPOSITION(D3,D4) | G1: =[1]!FOPPOSITION(G3,G4) -> FOPPOSITION(G3,G4) | H1: =[1]!FOPPOSITION(H3,H4) -> FOPPOSITION(H3,H4) | I1: =[1]!FOPPOSITION(I3,I4) -> FOPPOSITION(I3,I4) | J1: =[1]!FOPPOSITION(J3,J4) -> FOPPOSITION(J3,J4) | K1: =[1]!FOPPOSITION(K3,K4) -> FOPPOSITION(K3,K4)
A2: 保有照会
A3: 銘柄名 | B3: 売買 | C3: 数量 | D3: 建玉単価 | E3: No. | F3: Key | G3: メモ | H3: 建玉番号 | I3: 建玉日時 | J3: 評価損益額 | K3: 現値
A4: ***END*** | B4: ***END*** | C4: ***END*** | D4: ***END*** | E4: =COUNTIF($G$4:G4,G4) -> 1 | F4: =E4&G4 -> 1***END*** | G4: ***END*** | H4: ***END*** | I4: ***END*** | J4: ***END*** | K4: ***END***
D5: ***END*** | E5: =COUNTIF($G$4:G5,G5) -> 0 | F5: =E5&G5 -> 0 | I5: ***END*** | J5: ***END*** | K5: ***END***
D6: ***END*** | E6: =COUNTIF($G$4:G6,G6) -> 0 | F6: =E6&G6 -> 0 | I6: ***END*** | J6: ***END***
E7: =COUNTIF($G$4:G7,G7) -> 0 | F7: =E7&G7 -> 0
E8: =COUNTIF($G$4:G8,G8) -> 0 | F8: =E8&G8 -> 0
E9: =COUNTIF($G$4:G9,G9) -> 0 | F9: =E9&G9 -> 0
E10: =COUNTIF($G$4:G10,G10) -> 0 | F10: =E10&G10 -> 0
E11: =COUNTIF($G$4:G11,G11) -> 0 | F11: =E11&G11 -> 0
E12: =COUNTIF($G$4:G12,G12) -> 0 | F12: =E12&G12 -> 0
E13: =COUNTIF($G$4:G13,G13) -> 0 | F13: =E13&G13 -> 0
E14: =COUNTIF($G$4:G14,G14) -> 0 | F14: =E14&G14 -> 0
E15: =COUNTIF($G$4:G15,G15) -> 0 | F15: =E15&G15 -> 0
E16: =COUNTIF($G$4:G16,G16) -> 0 | F16: =E16&G16 -> 0
E17: =COUNTIF($G$4:G17,G17) -> 0 | F17: =E17&G17 -> 0
E18: =COUNTIF($G$4:G18,G18) -> 0 | F18: =E18&G18 -> 0
... E500: =COUNTIF($G$4:G500,G500) -> 0 | F500: =E500&G500 -> 0

Sheet 約定一覧
A1: =[1]!FOPEXEC(A3,A4) -> FOPEXEC(A3,A4) | B1: =[1]!FOPEXEC(B3,B4) -> FOPEXEC(B3,B4) | C1: =[1]!FOPEXEC(C3,C4) -> FOPEXEC(C3,C4) | D1: =[1]!FOPEXEC(D3,D4) -> FOPEXEC(D3,D4) | E1: =[1]!FOPEXEC(E3,E4) -> FOPEXEC(E3,E4) | F1: =[1]!FOPEXEC(F3,F4) -> FOPEXEC(F3,F4) | G1: =[1]!FOPEXEC(G3,G4) -> FOPEXEC(G3,G4) | H1: =[1]!FOPEXEC(H3,H4) -> FOPEXEC(H3,H4) | I1: =[1]!FOPEXEC(I3,I4) -> FOPEXEC(I3,I4)
A2: 約定一覧
A3: 銘柄名 | B3: 売買 | C3: 約定数量 | D3: メモ | E3: 約定単価 | F3: 約定番号 | G3: 約定日 | H3: 損益 | I3: 現値

Sheet 売・四本値
A1: 売・四本値 | K1: 引数 | N1: opcandle($K$2,$K$3,$K$4,$K$5,$K$6,"市場コード",A3,$K$7,$K$8)
B2: 日付 | C2: 時間 | D2: 始値 | E2: 高値 | F2: 安値 | G2: 終値 | I2: 売損益 | K2: 限月 | L2: 0 | N2: =[1]!opcandle($L$2,$L$3,$L$4,$L$5,$L$6,"取引日付",A3,$L$7,$L$8) -> opcandle($L$2,$L$3,$L$4,$L$5,$L$6,"取引日付",A3,$L$7,$L$8)
A3: 43140 | B3: =IFERROR(IF(C3=TIMEVALUE("9:00"),A3,""),"") -> 43140 | C3: 0.375 | D3: 70 | E3: 75 | F3: 60 | G3: 75 | H3: =IF(G3="","",IFERROR(G3,"")) -> 75 | I3: =IF(G3="","",IFERROR(建玉状況!$F$4-H3,"")) -> -43 | K3: コールプット | L3: C | N3: =[1]!opcandle($L$2,$L$3,$L$4,$L$5,$L$6,"約定時刻",C3,$L$7,$L$8) -> opcandle($L$2,$L$3,$L$4,$L$5,$L$6,"約定時刻",C3,$L$7,$L$8)
A4: 43140 | B4: =IFERROR(IF(C4=TIMEVALUE("9:00"),A4,""),"") | C4: 0.41666667 | D4: 80 | E4: 85 | F4: 75 | G4: 75 | H4: =IF(G4="","",IFERROR(G4,"")) -> 75 | I4: =IF(G4="","",IFERROR(建玉状況!$F$4-H4,"")) -> -43 | K4: 行使価格 | L4: =発注シート!C10 -> 23250 | N4: =[1]!opcandle($L$2,$L$3,$L$4,$L$5,$L$6,"始値",D3,$L$7,$L$8) -> opcandle($L$2,$L$3,$L$4,$L$5,$L$6,"始値",D3,$L$7,$L$8)
A5: 43140 | B5: =IFERROR(IF(C5=TIMEVALUE("9:00"),A5,""),"") | C5: 0.45833333 | D5: 75 | E5: 80 | F5: 75 | G5: 80 | H5: =IF(G5="","",IFERROR(G5,"")) -> 80 | I5: =IF(G5="","",IFERROR(建玉状況!$F$4-H5,"")) -> -48 | K5: 足種別 | L5: 60 | N5: =[1]!opcandle($L$2,$L$3,$L$4,$L$5,$L$6,"高値",E3,$L$7,$L$8) -> opcandle($L$2,$L$3,$L$4,$L$5,$L$6,"高値",E3,$L$7,$L$8)
A6: 43140 | B6: =IFERROR(IF(C6=TIMEVALUE("9:00"),A6,""),"") | C6: 0.5 | D6: 75 | E6: 85 | F6: 75 | G6: 80 | H6: =IF(G6="","",IFERROR(G6,"")) -> 80 | I6: =IF(G6="","",IFERROR(建玉状況!$F$4-H6,"")) -> -48 | K6: 取得期間 | L6: 5 | N6: =[1]!opcandle($L$2,$L$3,$L$4,$L$5,$L$6,"安値",F3,$L$7,$L$8) -> opcandle($L$2,$L$3,$L$4,$L$5,$L$6,"安値",F3,$L$7,$L$8)
A7: 43140 | B7: =IFERROR(IF(C7=TIMEVALUE("9:00"),A7,""),"") | C7: 0.54166667 | D7: 80 | E7: 90 | F7: 80 | G7: 85 | H7: =IF(G7="","",IFERROR(G7,"")) -> 85 | I7: =IF(G7="","",IFERROR(建玉状況!$F$4-H7,"")) -> -53 | K7: 昇順降順 | L7: A | N7: =[1]!opcandle($L$2,$L$3,$L$4,$L$5,$L$6,"終値",G3,$L$7,$L$8) -> opcandle($L$2,$L$3,$L$4,$L$5,$L$6,"終値",G3,$L$7,$L$8)
A8: 43140 | B8: =IFERROR(IF(C8=TIMEVALUE("9:00"),A8,""),"") | C8: 0.58333333 | D8: 85 | E8: 90 | F8: 85 | G8: 90 | H8: =IF(G8="","",IFERROR(G8,"")) -> 90 | I8: =IF(G8="","",IFERROR(建玉状況!$F$4-H8,"")) -> -58 | K8: 本数 | L8: 0 | N8: opcandle($K$2,$K$3,$K$4,$K$5,$K$6,"出来高",H3,$K$7,$K$8)
A9: 43140 | B9: =IFERROR(IF(C9=TIMEVALUE("9:00"),A9,""),"") | C9: 0.625 | D9: 95 | E9: 100 | F9: 95 | G9: 95 | H9: =IF(G9="","",IFERROR(G9,"")) -> 95 | I9: =IF(G9="","",IFERROR(建玉状況!$F$4-H9,"")) -> -63
A10: 43140 | B10: =IFERROR(IF(C10=TIMEVALUE("9:00"),A10,""),"") | C10: 0.66666667 | D10: 95 | E10: 95 | F10: 95 | G10: 95 | H10: =IF(G10="","",IFERROR(G10,"")) -> 95 | I10: =IF(G10="","",IFERROR(建玉状況!$F$4-H10,"")) -> -63
A11: 43140 | B11: =IFERROR(IF(C11=TIMEVALUE("9:00"),A11,""),"") | C11: 0.70833333 | D11: 95 | E11: 95 | F11: 95 | G11: 95 | H11: =IF(G11="","",IFERROR(G11,"")) -> 95 | I11: =IF(G11="","",IFERROR(建玉状況!$F$4-H11,"")) -> -63
A12: 43140 | B12: =IFERROR(IF(C12=TIMEVALUE("9:00"),A12,""),"") | C12: 0.75 | D12: 95 | E12: 95 | F12: 95 | G12: 95 | H12: =IF(G12="","",IFERROR(G12,"")) -> 95 | I12: =IF(G12="","",IFERROR(建玉状況!$F$4-H12,"")) -> -63
A13: 43140 | B13: =IFERROR(IF(C13=TIMEVALUE("9:00"),A13,""),"") | C13: 0.79166667 | D13: 95 | E13: 95 | F13: 95 | G13: 95 | H13: =IF(G13="","",IFERROR(G13,"")) -> 95 | I13: =IF(G13="","",IFERROR(建玉状況!$F$4-H13,"")) -> -63
A14: 43140 | B14: =IFERROR(IF(C14=TIMEVALUE("9:00"),A14,""),"") | C14: 0.83333333 | D14: 95 | E14: 95 | F14: 95 | G14: 95 | H14: =IF(G14="","",IFERROR(G14,"")) -> 95 | I14: =IF(G14="","",IFERROR(建玉状況!$F$4-H14,"")) -> -63
A15: 43140 | B15: =IFERROR(IF(C15=TIMEVALUE("9:00"),A15,""),"") | C15: 0.875 | D15: 95 | E15: 95 | F15: 95 | G15: 95 | H15: =IF(G15="","",IFERROR(G15,"")) -> 95 | I15: =IF(G15="","",IFERROR(建玉状況!$F$4-H15,"")) -> -63
A16: 43140 | B16: =IFERROR(IF(C16=TIMEVALUE("9:00"),A16,""),"") | C16: 0.91666667 | D16: 95 | E16: 95 | F16: 95 | G16: 95 | H16: =IF(G16="","",IFERROR(G16,"")) -> 95 | I16: =IF(G16="","",IFERROR(建玉状況!$F$4-H16,"")) -> -63
A17: 43140 | B17: =IFERROR(IF(C17=TIMEVALUE("9:00"),A17,""),"") | C17: 0.95833333 | D17: 95 | E17: 95 | F17: 95 | G17: 95 | H17: =IF(G17="","",IFERROR(G17,"")) -> 95 | I17: =IF(G17="","",IFERROR(建玉状況!$F$4-H17,"")) -> -63
A18: 43141 | B18: =IFERROR(IF(C18=TIMEVALUE("9:00"),A18,""),"") | C18: 0 | D18: 95 | E18: 95 | F18: 95 | G18: 95 | H18: =IF(G18="","",IFERROR(G18,"")) -> 95 | I18: =IF(G18="","",IFERROR(建玉状況!$F$4-H18,"")) -> -63
A19: 43141 | B19: =IFERROR(IF(C19=TIMEVALUE("9:00"),A19,""),"") | C19: 0.041666667 | D19: 95 | E19: 95 | F19: 95 | G19: 95 | H19: =IF(G19="","",IFERROR(G19,"")) -> 95 | I19: =IF(G19="","",IFERROR(建玉状況!$F$4-H19,"")) -> -63
A20: 43141 | B20: =IFERROR(IF(C20=TIMEVALUE("9:00"),A20,""),"") | C20: 0.083333333 | D20: 95 | E20: 95 | F20: 95 | G20: 95 | H20: =IF(G20="","",IFERROR(G20,"")) -> 95 | I20: =IF(G20="","",IFERROR(建玉状況!$F$4-H20,"")) -> -63
... A107: 43148 | B107: =IFERROR(IF(C107=TIMEVALUE("9:00"),A107,""),"") | C107: 0.20833333 | D107: 39 | E107: 39 | F107: 39 | G107: 39 | H107: =IF(G107="","",IFERROR(G107,"")) -> 39 | I107: =IF(G107="","",IFERROR(建玉状況!$F$4-H107,"")) -> -7

Sheet 買・四本値
A1: 買・四本値 | J1: 引数 | M1: opcandle($K$2,$K$3,$K$4,$K$5,$K$6,"市場コード",A3,$K$7,$K$8)
B2: 日付 | C2: 時間 | D2: 始値 | E2: 高値 | F2: 安値 | G2: 終値 | H2: 買損益 | J2: 限月 | K2: 0 | M2: =[1]!opcandle($K$2,$K$3,$K$4,$K$5,$K$6,"取引日付",A3,$K$7,$K$8) -> opcandle($K$2,$K$3,$K$4,$K$5,$K$6,"取引日付",A3,$K$7,$K$8)
A3: 43140 | B3: =IFERROR(IF(C3=TIMEVALUE("9:00"),A3,""),"") -> 43140 | C3: 0.375 | D3: 145 | E3: 165 | F3: 140 | G3: 165 | H3: =IF(G3="","",IFERROR(G3-建玉状況!$J$4,"")) -> 50 | J3: コールプット | K3: C | M3: =[1]!opcandle($K$2,$K$3,$K$4,$K$5,$K$6,"約定時刻",C3,$K$7,$K$8) -> opcandle($K$2,$K$3,$K$4,$K$5,$K$6,"約定時刻",C3,$K$7,$K$8)
A4: 43140 | B4: =IFERROR(IF(C4=TIMEVALUE("9:00"),A4,""),"") | C4: 0.41666667 | D4: 180 | E4: 190 | F4: 165 | G4: 165 | H4: =IF(G4="","",IFERROR(G4-建玉状況!$J$4,"")) -> 50 | J4: 行使価格 | K4: =発注シート!G10 -> 22625 | M4: =[1]!opcandle($K$2,$K$3,$K$4,$K$5,$K$6,"始値",D3,$K$7,$K$8) -> opcandle($K$2,$K$3,$K$4,$K$5,$K$6,"始値",D3,$K$7,$K$8)
A5: 43140 | B5: =IFERROR(IF(C5=TIMEVALUE("9:00"),A5,""),"") | C5: 0.45833333 | D5: 160 | E5: 170 | F5: 160 | G5: 170 | H5: =IF(G5="","",IFERROR(G5-建玉状況!$J$4,"")) -> 55 | J5: 足種別 | K5: 60 | M5: =[1]!opcandle($K$2,$K$3,$K$4,$K$5,$K$6,"高値",E3,$K$7,$K$8) -> opcandle($K$2,$K$3,$K$4,$K$5,$K$6,"高値",E3,$K$7,$K$8)
A6: 43140 | B6: =IFERROR(IF(C6=TIMEVALUE("9:00"),A6,""),"") | C6: 0.5 | D6: 175 | E6: 190 | F6: 170 | G6: 170 | H6: =IF(G6="","",IFERROR(G6-建玉状況!$J$4,"")) -> 55 | J6: 取得期間 | K6: 5 | M6: =[1]!opcandle($K$2,$K$3,$K$4,$K$5,$K$6,"安値",F3,$K$7,$K$8) -> opcandle($K$2,$K$3,$K$4,$K$5,$K$6,"安値",F3,$K$7,$K$8)
A7: 43140 | B7: =IFERROR(IF(C7=TIMEVALUE("9:00"),A7,""),"") | C7: 0.54166667 | D7: 170 | E7: 195 | F7: 170 | G7: 185 | H7: =IF(G7="","",IFERROR(G7-建玉状況!$J$4,"")) -> 70 | J7: 昇順降順 | K7: A | M7: =[1]!opcandle($K$2,$K$3,$K$4,$K$5,$K$6,"終値",G3,$K$7,$K$8) -> opcandle($K$2,$K$3,$K$4,$K$5,$K$6,"終値",G3,$K$7,$K$8)
A8: 43140 | B8: =IFERROR(IF(C8=TIMEVALUE("9:00"),A8,""),"") | C8: 0.58333333 | D8: 190 | E8: 205 | F8: 180 | G8: 200 | H8: =IF(G8="","",IFERROR(G8-建玉状況!$J$4,"")) -> 85 | J8: 本数 | K8: 0 | M8: opcandle($K$2,$K$3,$K$4,$K$5,$K$6,"出来高",H3,$K$7,$K$8)
A9: 43140 | B9: =IFERROR(IF(C9=TIMEVALUE("9:00"),A9,""),"") | C9: 0.625 | D9: 210 | E9: 215 | F9: 205 | G9: 210 | H9: =IF(G9="","",IFERROR(G9-建玉状況!$J$4,"")) -> 95
A10: 43140 | B10: =IFERROR(IF(C10=TIMEVALUE("9:00"),A10,""),"") | C10: 0.66666667 | D10: 210 | E10: 210 | F10: 210 | G10: 210 | H10: =IF(G10="","",IFERROR(G10-建玉状況!$J$4,"")) -> 95
A11: 43140 | B11: =IFERROR(IF(C11=TIMEVALUE("9:00"),A11,""),"") | C11: 0.70833333 | D11: 210 | E11: 210 | F11: 210 | G11: 210 | H11: =IF(G11="","",IFERROR(G11-建玉状況!$J$4,"")) -> 95
A12: 43140 | B12: =IFERROR(IF(C12=TIMEVALUE("9:00"),A12,""),"") | C12: 0.75 | D12: 210 | E12: 210 | F12: 210 | G12: 210 | H12: =IF(G12="","",IFERROR(G12-建玉状況!$J$4,"")) -> 95
A13: 43140 | B13: =IFERROR(IF(C13=TIMEVALUE("9:00"),A13,""),"") | C13: 0.79166667 | D13: 210 | E13: 210 | F13: 210 | G13: 210 | H13: =IF(G13="","",IFERROR(G13-建玉状況!$J$4,"")) -> 95
A14: 43140 | B14: =IFERROR(IF(C14=TIMEVALUE("9:00"),A14,""),"") | C14: 0.83333333 | D14: 210 | E14: 210 | F14: 210 | G14: 210 | H14: =IF(G14="","",IFERROR(G14-建玉状況!$J$4,"")) -> 95
A15: 43140 | B15: =IFERROR(IF(C15=TIMEVALUE("9:00"),A15,""),"") | C15: 0.875 | D15: 210 | E15: 210 | F15: 210 | G15: 210 | H15: =IF(G15="","",IFERROR(G15-建玉状況!$J$4,"")) -> 95
A16: 43140 | B16: =IFERROR(IF(C16=TIMEVALUE("9:00"),A16,""),"") | C16: 0.91666667 | D16: 210 | E16: 210 | F16: 210 | G16: 210 | H16: =IF(G16="","",IFERROR(G16-建玉状況!$J$4,"")) -> 95
A17: 43140 | B17: =IFERROR(IF(C17=TIMEVALUE("9:00"),A17,""),"") | C17: 0.95833333 | D17: 210 | E17: 210 | F17: 210 | G17: 210 | H17: =IF(G17="","",IFERROR(G17-建玉状況!$J$4,"")) -> 95
A18: 43141 | B18: =IFERROR(IF(C18=TIMEVALUE("9:00"),A18,""),"") | C18: 0 | D18: 210 | E18: 210 | F18: 210 | G18: 210 | H18: =IF(G18="","",IFERROR(G18-建玉状況!$J$4,"")) -> 95
A19: 43141 | B19: =IFERROR(IF(C19=TIMEVALUE("9:00"),A19,""),"") | C19: 0.041666667 | D19: 210 | E19: 210 | F19: 210 | G19: 210 | H19: =IF(G19="","",IFERROR(G19-建玉状況!$J$4,"")) -> 95
A20: 43141 | B20: =IFERROR(IF(C20=TIMEVALUE("9:00"),A20,""),"") | C20: 0.083333333 | D20: 210 | E20: 210 | F20: 210 | G20: 210 | H20: =IF(G20="","",IFERROR(G20-建玉状況!$J$4,"")) -> 95
... A107: 43148 | B107: =IFERROR(IF(C107=TIMEVALUE("9:00"),A107,""),"") | C107: 0.20833333 | D107: 125 | E107: 125 | F107: 120 | G107: 120 | H107: =IF(G107="","",IFERROR(G107-建玉状況!$J$4,"")) -> 5

Sheet 売買損益グラフ
U10: システム
U12: OFF
U13: ▲
R14: 決算可能損益 | U14: 上のボタンでで切替
R16: =建玉状況!G4 -> -13

Sheet 損益グラフ
B2: =売・四本値!B2 -> 日付 | C2: =売・四本値!C2 -> 時間 | D2: =売・四本値!I2 -> 売損益 | E2: =買・四本値!H2 -> 買損益 | F2: 損益
B3: =売・四本値!B3 -> 43140 | C3: =IF(売・四本値!C3="","",売・四本値!C3) -> 0.375 | D3: =IF(売・四本値!I3="",#N/A,売・四本値!I3) -> -43 | E3: =IF(買・四本値!H3="",#N/A,買・四本値!H3) -> 50 | F3: =IF(D3="",#N/A,IFERROR(D3+E3,"")) -> 7
B4: =売・四本値!B4 | C4: =IF(売・四本値!C4="","",売・四本値!C4) -> 0.41666667 | D4: =IF(売・四本値!I4="",#N/A,売・四本値!I4) -> -43 | E4: =IF(買・四本値!H4="",#N/A,買・四本値!H4) -> 50 | F4: =IF(D4="",#N/A,IFERROR(D4+E4,"")) -> 7
B5: =売・四本値!B5 | C5: =IF(売・四本値!C5="","",売・四本値!C5) -> 0.45833333 | D5: =IF(売・四本値!I5="",#N/A,売・四本値!I5) -> -48 | E5: =IF(買・四本値!H5="",#N/A,買・四本値!H5) -> 55 | F5: =IF(D5="",#N/A,IFERROR(D5+E5,"")) -> 7
B6: =売・四本値!B6 | C6: =IF(売・四本値!C6="","",売・四本値!C6) -> 0.5 | D6: =IF(売・四本値!I6="",#N/A,売・四本値!I6) -> -48 | E6: =IF(買・四本値!H6="",#N/A,買・四本値!H6) -> 55 | F6: =IF(D6="",#N/A,IFERROR(D6+E6,"")) -> 7
B7: =売・四本値!B7 | C7: =IF(売・四本値!C7="","",売・四本値!C7) -> 0.54166667 | D7: =IF(売・四本値!I7="",#N/A,売・四本値!I7) -> -53 | E7: =IF(買・四本値!H7="",#N/A,買・四本値!H7) -> 70 | F7: =IF(D7="",#N/A,IFERROR(D7+E7,"")) -> 17
B8: =売・四本値!B8 | C8: =IF(売・四本値!C8="","",売・四本値!C8) -> 0.58333333 | D8: =IF(売・四本値!I8="",#N/A,売・四本値!I8) -> -58 | E8: =IF(買・四本値!H8="",#N/A,買・四本値!H8) -> 85 | F8: =IF(D8="",#N/A,IFERROR(D8+E8,"")) -> 27
B9: =売・四本値!B9 | C9: =IF(売・四本値!C9="","",売・四本値!C9) -> 0.625 | D9: =IF(売・四本値!I9="",#N/A,売・四本値!I9) -> -63 | E9: =IF(買・四本値!H9="",#N/A,買・四本値!H9) -> 95 | F9: =IF(D9="",#N/A,IFERROR(D9+E9,"")) -> 32
B10: =売・四本値!B10 | C10: =IF(売・四本値!C10="","",売・四本値!C10) -> 0.66666667 | D10: =IF(売・四本値!I10="",#N/A,売・四本値!I10) -> -63 | E10: =IF(買・四本値!H10="",#N/A,買・四本値!H10) -> 95 | F10: =IF(D10="",#N/A,IFERROR(D10+E10,"")) -> 32
B11: =売・四本値!B11 | C11: =IF(売・四本値!C11="","",売・四本値!C11) -> 0.70833333 | D11: =IF(売・四本値!I11="",#N/A,売・四本値!I11) -> -63 | E11: =IF(買・四本値!H11="",#N/A,買・四本値!H11) -> 95 | F11: =IF(D11="",#N/A,IFERROR(D11+E11,"")) -> 32 | W11: 決算可能損益
B12: =売・四本値!B12 | C12: =IF(売・四本値!C12="","",売・四本値!C12) -> 0.75 | D12: =IF(売・四本値!I12="",#N/A,売・四本値!I12) -> -63 | E12: =IF(買・四本値!H12="",#N/A,買・四本値!H12) -> 95 | F12: =IF(D12="",#N/A,IFERROR(D12+E12,"")) -> 32
B13: =売・四本値!B13 | C13: =IF(売・四本値!C13="","",売・四本値!C13) -> 0.79166667 | D13: =IF(売・四本値!I13="",#N/A,売・四本値!I13) -> -63 | E13: =IF(買・四本値!H13="",#N/A,買・四本値!H13) -> 95 | F13: =IF(D13="",#N/A,IFERROR(D13+E13,"")) -> 32 | W13: =建玉状況!G4 -> -13
B14: =売・四本値!B14 | C14: =IF(売・四本値!C14="","",売・四本値!C14) -> 0.83333333 | D14: =IF(売・四本値!I14="",#N/A,売・四本値!I14) -> -63 | E14: =IF(買・四本値!H14="",#N/A,買・四本値!H14) -> 95 | F14: =IF(D14="",#N/A,IFERROR(D14+E14,"")) -> 32
B15: =売・四本値!B15 | C15: =IF(売・四本値!C15="","",売・四本値!C15) -> 0.875 | D15: =IF(売・四本値!I15="",#N/A,売・四本値!I15) -> -63 | E15: =IF(買・四本値!H15="",#N/A,買・四本値!H15) -> 95 | F15: =IF(D15="",#N/A,IFERROR(D15+E15,"")) -> 32
B16: =売・四本値!B16 | C16: =IF(売・四本値!C16="","",売・四本値!C16) -> 0.91666667 | D16: =IF(売・四本値!I16="",#N/A,売・四本値!I16) -> -63 | E16: =IF(買・四本値!H16="",#N/A,買・四本値!H16) -> 95 | F16: =IF(D16="",#N/A,IFERROR(D16+E16,"")) -> 32
B17: =売・四本値!B17 | C17: =IF(売・四本値!C17="","",売・四本値!C17) -> 0.95833333 | D17: =IF(売・四本値!I17="",#N/A,売・四本値!I17) -> -63 | E17: =IF(買・四本値!H17="",#N/A,買・四本値!H17) -> 95 | F17: =IF(D17="",#N/A,IFERROR(D17+E17,"")) -> 32
B18: =売・四本値!B18 | C18: =IF(売・四本値!C18="","",売・四本値!C18) -> 0 | D18: =IF(売・四本値!I18="",#N/A,売・四本値!I18) -> -63 | E18: =IF(買・四本値!H18="",#N/A,買・四本値!H18) -> 95 | F18: =IF(D18="",#N/A,IFERROR(D18+E18,"")) -> 32
B19: =売・四本値!B19 | C19: =IF(売・四本値!C19="","",売・四本値!C19) -> 0.041666667 | D19: =IF(売・四本値!I19="",#N/A,売・四本値!I19) -> -63 | E19: =IF(買・四本値!H19="",#N/A,買・四本値!H19) -> 95 | F19: =IF(D19="",#N/A,IFERROR(D19+E19,"")) -> 32
B20: =売・四本値!B20 | C20: =IF(売・四本値!C20="","",売・四本値!C20) -> 0.083333333 | D20: =IF(売・四本値!I20="",#N/A,売・四本値!I20) -> -63 | E20: =IF(買・四本値!H20="",#N/A,買・四本値!H20) -> 95 | F20: =IF(D20="",#N/A,IFERROR(D20+E20,"")) -> 32
B21: =売・四本値!B21 | C21: =IF(売・四本値!C21="","",売・四本値!C21) -> 0.125 | D21: =IF(売・四本値!I21="",#N/A,売・四本値!I21) -> -63 | E21: =IF(買・四本値!H21="",#N/A,買・四本値!H21) -> 95 | F21: =IF(D21="",#N/A,IFERROR(D21+E21,"")) -> 32
B22: =売・四本値!B22 | C22: =IF(売・四本値!C22="","",売・四本値!C22) -> 0.16666667 | D22: =IF(売・四本値!I22="",#N/A,売・四本値!I22) -> -63 | E22: =IF(買・四本値!H22="",#N/A,買・四本値!H22) -> 95 | F22: =IF(D22="",#N/A,IFERROR(D22+E22,"")) -> 32
B23: =売・四本値!B23 | C23: =IF(売・四本値!C23="","",売・四本値!C23) -> 0.20833333 | D23: =IF(売・四本値!I23="",#N/A,売・四本値!I23) -> -63 | E23: =IF(買・四本値!H23="",#N/A,買・四本値!H23) -> 95 | F23: =IF(D23="",#N/A,IFERROR(D23+E23,"")) -> 32
B24: =売・四本値!B24 -> 43144 | C24: =IF(売・四本値!C24="","",売・四本値!C24) -> 0.375 | D24: =IF(売・四本値!I24="",#N/A,売・四本値!I24) -> -11 | E24: =IF(買・四本値!H24="",#N/A,買・四本値!H24) -> 10 | F24: =IF(D24="",#N/A,IFERROR(D24+E24,"")) -> -1
B25: =売・四本値!B25 | C25: =IF(売・四本値!C25="","",売・四本値!C25) -> 0.41666667 | D25: =IF(売・四本値!I25="",#N/A,売・四本値!I25) -> -16 | E25: =IF(買・四本値!H25="",#N/A,買・四本値!H25) -> 20 | F25: =IF(D25="",#N/A,IFERROR(D25+E25,"")) -> 4
... B107: =売・四本値!B107 | C107: =IF(売・四本値!C107="","",売・四本値!C107) -> 0.20833333 | D107: =IF(売・四本値!I107="",#N/A,売・四本値!I107) -> -7 | E107: =IF(買・四本値!H107="",#N/A,買・四本値!H107) -> 5 | F107: =IF(D107="",#N/A,IFERROR(D107+E107,"")) -> -2

Sheet 注文通知情報
A1: =[1]!ORDERRESULT("注文番号",A3) -> ORDERRESULT("注文番号",A3) | B1: =[1]!ORDERRESULT("注文種別",B3) -> ORDERRESULT("注文種別",B3) | C1: =[1]!ORDERRESULT("注文状態",C3) -> ORDERRESULT("注文状態",C3) | D1: =[1]!ORDERRESULT("エラーメッセージ",D3) -> ORDERRESULT("エラーメッセージ",D3)
A2: 注文番号 | B2: 注文種別 | C2: 注文状態 | D2: エラーメッセージ（※発注時エラーの場合、発注ID）
A3: ***END*** | B3: ***END*** | C3: ***END*** | D3: ***END***
