Workbook

Sheet 発注設定
A1: エントリ
B2: 売買 | C2: 買い
B3: エントリ価格 | C3: 19000
B4: 枚数 | C4: 6
A8: 利確
C9: 価格 | D9: 枚数
B10: 1 | C10: 19100 | D10: 2
B11: 2 | C11: 19200 | D11: 1
B12: 3 | C12: 19300 | D12: 1
B13: 4 | C13: 19400 | D13: 1
B14: 5 | C14: 19500 | D14: 1
A19: 損切り
B20: 価格 | C20: 18000

Sheet 発注
A1: 現在値 | B1: =[1]!FQUOTE("N225","0","現在値") -> 0
A4: エントリ判断
B5: =IF(AND(発注設定!C2="買い",#REF!>発注設定!C3),"エントリ",IF(AND(発注設定!C2="売り",#REF!<発注設定!C3),"エントリ","待機")) -> #REF!
A9: エントリ
B10: =IF(B5="エントリ","FOPNEWORDER()","待機") -> #REF!
A14: 利確
B15: 約定してる？ | C15: =情報!$C$3 -> まだ
C17: 判断 | D17: 発注
B18: 1 | C18: =IF(AND($C$15="約定",発注設定!$C$2="買い",発注設定!C10<=#REF!),"利確",IF(AND($C$15="約定",発注設定!$C$2="売り",発注設定!C10>=#REF!),"利確","利確待機")) -> #REF! | D18: =IF(C18="利確","FNEWORDER()","") -> #REF!
B19: 2 | C19: =IF(AND($C$15="約定",発注設定!$C$2="買い",発注設定!C11<=#REF!),"利確",IF(AND($C$15="約定",発注設定!$C$2="売り",発注設定!C11>=#REF!),"利確","利確待機")) -> #REF! | D19: =IF(C19="利確","FNEWORDER()","") -> #REF!
B20: 3 | C20: =IF(AND($C$15="約定",発注設定!$C$2="買い",発注設定!C12<=#REF!),"利確",IF(AND($C$15="約定",発注設定!$C$2="売り",発注設定!C12>=#REF!),"利確","利確待機")) -> #REF! | D20: =IF(C20="利確","FNEWORDER()","") -> #REF!
B21: 4 | C21: =IF(AND($C$15="約定",発注設定!$C$2="買い",発注設定!C13<=#REF!),"利確",IF(AND($C$15="約定",発注設定!$C$2="売り",発注設定!C13>=#REF!),"利確","利確待機")) -> #REF! | D21: =IF(C21="利確","FNEWORDER()","") -> #REF!
B22: 5 | C22: =IF(AND($C$15="約定",発注設定!$C$2="買い",発注設定!C14<=#REF!),"利確",IF(AND($C$15="約定",発注設定!$C$2="売り",発注設定!C14>=#REF!),"利確","利確待機")) -> #REF! | D22: =IF(C22="利確","FNEWORDER()","") -> #REF!
A34: 損切り
B35: 約定してる？ | C35: =情報!$C$3 -> まだ
B36: 一部でも約定した？ | C36: =情報!$D$3 -> まだ
B37: 損切り価格 | C37: =IF(C36="一部利確",発注設定!C3,発注設定!C20) -> 18000
C39: 判断 | D39: 発注
B40: 1 | C40: =IF(AND($C$35="約定",発注設定!$C$2="買い",C37>=#REF!),"損切",IF(AND($C$35="約定",発注設定!$C$2="売り",C37<=#REF!),"損切","損切待機")) -> #REF! | D40: =IF(C40="損切","FNEWORDER()","") -> #REF!

Sheet 情報
A1: ポジション
B2: =[1]!FOPPOSITION("数量",B3,"0") -> #N/A | C2: 約定してる？ | D2: 一部でも利確した？
B3: ***END*** | C3: =IF(B3="***END***","まだ","約定") -> まだ | D3: =IF(AND(発注設定!C4<>B3,C3="約定"),"一部利確","まだ") -> まだ
