Workbook
Name _MA10: 'SIM(3ヶ月)'!$I$10:$I$66
Name _MA10: #REF!
Name _MA3: 'SIM(3ヶ月)'!$G$10:$G$66
Name _MA3: #REF!
Name _MA5: 'SIM(3ヶ月)'!$H$10:$H$66
Name _MA5: #REF!
Name Dlog_bk_prj_id: "エディット 12"
Name Dlog_bk_prj_name: "エディット 13"
Name Dlog_bk_sht_id: "エディット 14"
Name Dlog_sh_sht_name: "ドロップ 95"
Name シート選択見だし: "ラベル 5"
Name 現在時刻: 注文!$F$4:$G$4
Name 終値: 'SIM(3ヶ月)'!$F$10:$F$66
Name 終値: #REF!

Sheet 注文
A1: 新規発注
A2: =IF(G15="発注",[1]!fneworder(C5,C6,C7,C8,C9,C10,C11,C12,C13,C14,C15,C16,C17,C18,C19,C20,C21,C22),"-") -> - | B2: =fneworder(C5,C6,C7,C8,C9,C10,C11,C12,C13,C14,C15,C16,C17,C18,C19,C20,C21,C22)
A4: 引数 | F4: 現在時刻 | G4: =NOW() -> 43469.464 | H4: ★Excelを再起動しない（発注IDは日付が変わらないと更新されない）
A5: 第1引数 | B5: 先物コード | C5: N225mini | D5: N225：日経225先物、N225mini：ミニ先物、TOPIX：TOPIX先物、TOPIXmini：ミニTOPIX、JPX400 ：JPX400先物、MOTHERS：マザーズ先物、Core30：TOPIX Core30、REIT：REIT 先物、DOW：NYダウ先物、VI：日経VI先物 | H5: ②毎日16:15に発注（一度正常に発注されたら翌日まで再発注しない）
A6: 第2引数 | B6: 限月 | C6: 0 | D6: 限月をYYYYMMで指定。0を指定すると期近、1を指定すると期先 | F6: 新規発注 | H6: ③毎日15:10に決済（一度正常に決済されたら翌日まで再決済しない）
A7: 第3引数 | B7: 取引種類 | C7: 1 | D7: 1：新規、2：決済 | F7: 発注日 | G7: =TODAY() -> 43469 | H7: ④時間に関係なく条件に達したら決済（一度正常に決済されたら翌日まで再決済しない）
A8: 第4引数 | B8: 建玉番号 | C8: A | D8: 建玉番号or 決済順序。決済する建玉指定、もしくは、A：評価益（1 枚）順、B：評価損（1 枚）順、C：建日時古順、D：建日時新順。ブランクはなし。 | F8: 発注開始時刻 | G8: 0.67708333 | H8: ※現在時刻を常時更新する仕組みが必要
A9: 第5引数 | B9: 建玉枝番号 | C9: 1 | D9: １を指定。 | F9: 発注終了時刻 | G9: 0.67777778 | H9: →
A10: 第6引数 | B10: 売買区分 | C10: =IF('SIM(3ヶ月)'!L65="売",1,3) -> 1 | D10: 1：売、3：買 | F10: 決済発注
A11: 第7引数 | B11: 執行条件 | C11: 13 | D11: 0：最大指値、1：指値、5：引成、6：不出来最大指値、8：逆指、10：指値（FOK）、11：指値（FAK）、12：成行（FOK）、13：成行（FAK）、14：最良指値、15：最良指値（FOK）、16：最良指値（FAK）、19：引指 | F11: 決済日 | G11: =TODAY() -> 43469
A12: 第8引数 | B12: 単価 | C12: 0 | D12: 成行の場合は０を指定。 | F12: 決済開始時刻 | G12: 0.62847222
A13: 第9引数 | B13: 数量 | C13: ='SIM(3ヶ月)'!M65 -> 10 | D13: 数量を指定 | F13: 決済終了時刻 | G13: 0.62916667 | I13: 現在値 | J13: 利食い率/金額 | K13: ﾛｽｶｯﾄ額/金額
A14: 第10引数 | B14: 注文確認 | C14: 1 | D14: 0：表示あり、１：表示無し | G14: 発注有無 | I14: =[1]!FQUOTE($C$5,$C$6,I13) -> #VALUE! | J14: 0.03 | K14: -200
A15: 第11引数 | B15: 完了メッセージ | C15: 1 | D15: 0：表示あり、１：表示無し | F15: ="新規"&C5 -> 新規N225mini | G15: =IF(AND(G7+G8<G4,G7+G9>G4,C13>0),"発注","-") -> - | J15: =$H$20*$I$20*(J14*100) -> #VALUE! | K15: =K14*100*$I$20 -> #VALUE!
A16: 第12引数 | B16: 注文画面 | C16: 1 | D16: 0：表示あり、１：表示無し | F16: ="決済"&C5 -> 決済N225mini | G16: =IF(AND(G11+G12<G4,G11+G13>G4,I20>0,I20<101),"発注","-") -> -
A17: 第13引数 | B17: パスワード | C17: XXXXX | D17: 先物注文取引パスワード
A18: 第14引数 | B18: 発注ID | C18: ="SH"&'SIM(3ヶ月)'!B65 -> SH43469 | D18: 発注IDを指定 | F18: =[1]!FOPPOSITION("商品種別",$F$20,"0") -> #N/A | G18: =[1]!FOPPOSITION("売買",$G$20,"0") -> #N/A | H18: =[1]!FOPPOSITION("建玉単価",$H$20,"0") -> #N/A | I18: =[1]!FOPPOSITION("数量",$I$20,"0") -> #N/A | J18: =[1]!FOPPOSITION("評価損益額",$J$20,"0") -> #N/A | K18: =[1]!FOPPOSITION("建玉番号",$K$20,"0") -> #N/A
A19: 第15引数 | B19: 有効期間区分 | C19: 1 | D19: 1：当ｾｯｼｮﾝのみ(GFD)、3：最終日まで(GTC)、YYYMMDD（GTDの場合のみ日付設定）※指定しない場合当セッションのみ | F19: 保有情報 | G19: 売買区分 | H19: 建玉単価 | I19: 数量 | J19: 評価損益額 | K19: 建玉番号
A20: 第16引数 | B20: メモ | C20: Shinki_Hacchu | D20: 0-9/a-z/A-Z の範囲文字と_(アンダーバー)のみ入力可 | F20: ***END*** | G20: ***END*** | H20: ***END*** | I20: ***END*** | J20: ***END*** | K20: ***END***
A21: 第17引数 | B21: 発注条件 | C21: 13 | D21: 0：最大指値 ※逆指値指定時のみ有効、1：指値、10：指値（FOK）、11：指値（FAK）、12：成行（FOK）、13：成行（FAK）、14：最良指値、15：最良指値（FOK）、16：最良指値（FAK）、19：引指 | F21: ***END*** | G21: ***END*** | H21: ***END*** | I21: ***END*** | J21: ***END*** | K21: ***END***
A22: 第18引数 | B22: 発注単価 | D22: （逆指値時）
F23: =[1]!FOPORDQUERY(1,2,"商品種別",$F$25) -> #N/A | G23: =[1]!FOPORDQUERY(1,2,"注文状態",$G$25) -> #N/A | H23: =[1]!FOPORDQUERY(1,2,"受付日時",$H$25) -> #N/A | I23: =[1]!FOPORDQUERY(1,2,"売買",$I$25) -> #N/A | J23: =[1]!FOPORDQUERY(1,2,"注文数量",$J$25) -> #N/A | K23: =[1]!FOPORDQUERY(1,2,"受付可否理由",$K$25) -> #N/A
A24: 決済発注 | F24: 注文情報 | G24: 注文状態 | H24: 受付日時 | I24: 売買区分 | J24: 注文数量 | K24: 受付可否理由
A25: =IF(G16="発注",[1]!fneworder(C5,C6,C28,C29,C9,C30,C31,C32,I20,C14,C15,C16,C17,C33,C34,C35),"-") -> - | B25: =IF(G16="発注",fneworder(C5,C6,C28,C29,C9,C30,C31,C32,I20,C14,C15,C16,C17,C33,C34,C35),"-") | F25: ***END*** | G25: ***END*** | H25: ***END*** | I25: ***END*** | J25: ***END***
A27: 引数
A28: 第3引数 | B28: 取引種類 | C28: 2 | D28: 1：新規、2：決済 | F28: ★Excelを再起動しない（発注IDは日付が変わらないと更新されない）
A29: 第4引数 | B29: 建玉番号 | C29: =$K$20 -> ***END*** | D29: 建玉番号or 決済順序。決済する建玉指定、もしくは、A：評価益（1 枚）順、B：評価損（1 枚）順、C：建日時古順、D：建日時新順。ブランクはなし。 | F29: ①毎日15:10に前日分を決済 （前日の建玉アリ→正常に決済→翌日まで再決済しない） | L29: 前日建玉番号⤵
A30: 第6引数 | B30: 売買区分 | C30: =IF(G20="売",3,IF(G20="買",1,"-")) -> - | D30: 1：売、3：買 | F30: ②毎日16:15に新規発注 （一度正常に発注されたら翌日まで再発注しない） | L30: 当日建玉番号⤴
A31: 第7引数 | B31: 執行条件 | C31: 13 | D31: 0：最大指値、1：指値、5：引成、6：不出来最大指値、8：逆指、10：指値（FOK）、11：指値（FAK）、12：成行（FOK）、13：成行（FAK）、14：最良指値、15：最良指値（FOK）、16：最良指値（FAK）、19：引指 | F31: ③時間に関係なく条件に達したら決済（一度正常に決済されたら翌日まで再決済しない） | L31: ↑上記をループ
A32: 第8引数 | B32: 単価 | C32: 0 | D32: 成行の場合は0を指定
A33: 第14引数 | B33: 発注ID | C33: ="TK"&'SIM(3ヶ月)'!B65 -> TK43469 | D33: 発注IDを指定 | F33: ★Excelを再起動しない（発注IDは日付が変わらないと更新されない）
A34: 第15引数 | B34: 有効期間区分 | C34: 1 | D34: 1：当ｾｯｼｮﾝのみ(GFD)、3：最終日まで(GTC)、YYYMMDD（GTDの場合のみ日付設定）※指定しない場合当セッションのみ | F34: ①毎日15:10に前日分を決済 （前日の建玉ナシ→正常に決済されず→発注持ち越し） | L34: ***END***
A35: 第16引数 | B35: メモ | C35: Time_Kessai | D35: 0-9/a-z/A-Z の範囲文字と_(アンダーバー)のみ入力可 | F35: ②毎日16:15に新規発注（一度正常に発注されたら翌日まで再発注しない） | L35: 当日建玉番号
F36: →建玉が発生した時点で①で持ち越した発注分を即決済 | L36: ***END***じゃ無い→決済無し
A37: 条件発注 | B37: 利食い率を超えると利益確定の売買をし、ロスカット率を超えると損切りの売買を行う | F37: ③時間に関係なく条件に達したら決済（一度正常に決済されたら翌日まで再決済しない）
A38: =IF(OR(J20>J15,J20<K15),[1]!fneworder(C5,C6,C28,C29,C9,C30,C31,C32,I20,C14,C15,C16,C17,C41,C42,C43),"-") -> #VALUE! | B38: =IF(OR(J20>J15,J20<K15),fneworder(C5,C6,C28,C29,C9,C30,C31,C32,I20,C14,C15,C16,C17,C41,C42,C43),"-")
A40: 引数
A41: 第14引数 | B41: 発注ID | C41: ="JK"&'SIM(3ヶ月)'!B65 -> JK43469 | D41: 発注IDを指定
A42: 第15引数 | B42: 有効期間区分 | C42: 1 | D42: 1：当ｾｯｼｮﾝのみ(GFD)、3：最終日まで(GTC)、YYYMMDD（GTDの場合のみ日付設定）※指定しない場合当セッションのみ
A43: 第16引数 | B43: メモ | C43: Jouken_Kessai | D43: 0-9/a-z/A-Z の範囲文字と_(アンダーバー)のみ入力可

Sheet SIM(3ヶ月)
M1: =SUBTOTAL(109,$M$3:$M$65) -> 510 | N1: =SUBTOTAL(109,$N$3:$N$65) -> 2545000 | O1: =SUBTOTAL(109,$O$3:$O$65) -> 4335000 | Q1: 引数 | T1: =[1]!FCANDLE($R$2,$R$3,$R$4,$R$5,"市場コード",A3,$R$6,$R$7) -> #N/A
A2: 市場 コード | B2: 取引 日付 | C2: 始値 | D2: 高値 | E2: 安値 | F2: 終値 | G2: 移動平均/MA3 | H2: 移動平均/MA5 | I2: 移動平均/MA10 | J2: 変動額/MA3 | K2: 変動指数/MA5 | L2: 売買 シグナル | M2: 保有 数量 | N2: 損益 (毎日決済) | O2: 損益 (ロスカット) | P2: 月 | Q2: 先物コード | R2: N225mini | T2: =[1]!FCANDLE($R$2,$R$3,$R$4,$R$5,"取引日付",B3,$R$6,$R$7) -> #N/A
A3: 大証 | B3: 43374 | C3: 24110 | D3: 24320 | E3: 24000 | F3: 24310 | G3: - | H3: - | I3: - | J3: - | K3: - | L3: - | P3: =MONTH(B3) -> 10 | Q3: 限月 | R3: 0
A4: 大証 | B4: 43375 | C4: 24325 | D4: 24480 | E4: 24215 | F4: 24280 | G4: - | H4: - | I4: - | J4: - | K4: - | L4: - | P4: =MONTH(B4) -> 10 | Q4: 足種別 | R4: T | T4: =[1]!FCANDLE($R$2,$R$3,$R$4,$R$5,"始値",C3,$R$6,$R$7) -> #N/A
A5: 大証 | B5: 43376 | C5: 24240 | D5: 24310 | E5: 24035 | F5: 24140 | G5: =AVERAGE(F3:F5) -> 24243.333 | H5: - | I5: - | J5: - | K5: - | L5: - | P5: =MONTH(B5) -> 10 | Q5: 取得期間 | R5: 0 | T5: =[1]!FCANDLE($R$2,$R$3,$R$4,$R$5,"高値",D3,$R$6,$R$7) -> #N/A
A6: 大証 | B6: 43377 | C6: 24170 | D6: 24360 | E6: 23910 | F6: 23920 | G6: =AVERAGE(F4:F6) -> 24113.333 | H6: - | I6: - | J6: - | K6: - | L6: - | P6: =MONTH(B6) -> 10 | Q6: 昇順降順 | R6: A | T6: =[1]!FCANDLE($R$2,$R$3,$R$4,$R$5,"安値",E3,$R$6,$R$7) -> #N/A
A7: 大証 | B7: 43378 | C7: 23920 | D7: 24030 | E7: 23615 | F7: 23820 | G7: =AVERAGE(F5:F7) -> 23960 | H7: =AVERAGE(F3:F7) -> 24094 | I7: - | J7: =ABS(G7-G6) -> 153.33333 | K7: =(MAX(F3:F7)-MIN(F3:F7))/(MAX(F3:F7)+MIN(F3:F7)/2)*10000 -> 135.28437 | L7: =IF(G7>G6,"買",IF(G7<G6,"売","-")) -> 売 | M7: =_xlfn.IFS(J7<$Q$10,$R$10,J7<$Q$11,$R$11,J7<$Q$12,$R$12) -> 10 | N7: =_xlfn.IFS($L7="買",($F8-$C8)*M7*100,$L7="売",($C8-$F8)*M7*100,$L7="-",0) -> 315000 | O7: =_xlfn.IFS(AND($L7="買",($E8-$C8)<注文!$K$14),(注文!$K$14-5)*M7*100,AND($L7="売",($C8-$D8)<注文!$K$14),(注文!$K$14-5)*M7*100,AND($L7="買",($E8-$C8)>=注文!$K$14),$N7,AND($L7="売",($C8-$D8)>=注文!$K$14),$N7,$L7="-",0) -> 315000 | P7: =MONTH(B7) -> 10 | Q7: 本数 | R7: 63 | T7: =[1]!FCANDLE($R$2,$R$3,$R$4,$R$5,"終値",F3,$R$6,$R$7) -> #N/A
A8: 大証 | B8: 43382 | C8: 23780 | D8: 23885 | E8: 23440 | F8: 23465 | G8: =AVERAGE(F6:F8) -> 23735 | H8: =AVERAGE(F4:F8) -> 23925 | I8: - | J8: =ABS(G8-G7) -> 225 | K8: =(MAX(F4:F8)-MIN(F4:F8))/(MAX(F4:F8)+MIN(F4:F8)/2)*10000 -> 226.31031 | L8: =IF(G8>G7,"買",IF(G8<G7,"売","-")) -> 売 | M8: =_xlfn.IFS(J8<$Q$10,$R$10,J8<$Q$11,$R$11,J8<$Q$12,$R$12) -> 10 | N8: =_xlfn.IFS($L8="買",($F9-$C9)*M8*100,$L8="売",($C9-$F9)*M8*100,$L8="-",0) -> -40000 | O8: =_xlfn.IFS(AND($L8="買",($E9-$C9)<注文!$K$14),(注文!$K$14-5)*M8*100,AND($L8="売",($C9-$D9)<注文!$K$14),(注文!$K$14-5)*M8*100,AND($L8="買",($E9-$C9)>=注文!$K$14),$N8,AND($L8="売",($C9-$D9)>=注文!$K$14),$N8,$L8="-",0) -> -40000 | P8: =MONTH(B8) -> 10
A9: 大証 | B9: 43383 | C9: 23490 | D9: 23595 | E9: 23320 | F9: 23530 | G9: =AVERAGE(F7:F9) -> 23605 | H9: =AVERAGE(F5:F9) -> 23775 | I9: - | J9: =ABS(G9-G8) -> 130 | K9: =(MAX(F5:F9)-MIN(F5:F9))/(MAX(F5:F9)+MIN(F5:F9)/2)*10000 -> 188.16642 | L9: =IF(G9>G8,"買",IF(G9<G8,"売","-")) -> 売 | M9: =_xlfn.IFS(J9<$Q$10,$R$10,J9<$Q$11,$R$11,J9<$Q$12,$R$12) -> 10 | N9: =_xlfn.IFS($L9="買",($F10-$C10)*M9*100,$L9="売",($C10-$F10)*M9*100,$L9="-",0) -> 935000 | O9: =_xlfn.IFS(AND($L9="買",($E10-$C10)<注文!$K$14),(注文!$K$14-5)*M9*100,AND($L9="売",($C10-$D10)<注文!$K$14),(注文!$K$14-5)*M9*100,AND($L9="買",($E10-$C10)>=注文!$K$14),$N9,AND($L9="売",($C10-$D10)>=注文!$K$14),$N9,$L9="-",0) -> 935000 | P9: =MONTH(B9) -> 10 | Q9: 変動額 | T9: 利益/1枚
A10: 大証 | B10: 43384 | C10: 23520 | D10: 23590 | E10: 22405 | F10: 22585 | G10: =AVERAGE(F8:F10) -> 23193.333 | H10: =AVERAGE(F6:F10) -> 23464 | I10: - | J10: =ABS(G10-G9) -> 411.66667 | K10: =(MAX(F6:F10)-MIN(F6:F10))/(MAX(F6:F10)+MIN(F6:F10)/2)*10000 -> 379.12673 | L10: =IF(G10>G9,"買",IF(G10<G9,"売","-")) -> 売 | M10: =_xlfn.IFS(J10<$Q$10,$R$10,J10<$Q$11,$R$11,J10<$Q$12,$R$12) -> 10 | N10: =_xlfn.IFS($L10="買",($F11-$C11)*M10*100,$L10="売",($C11-$F11)*M10*100,$L10="-",0) -> 140000 | O10: =_xlfn.IFS(AND($L10="買",($E11-$C11)<注文!$K$14),(注文!$K$14-5)*M10*100,AND($L10="売",($C11-$D11)<注文!$K$14),(注文!$K$14-5)*M10*100,AND($L10="買",($E11-$C11)>=注文!$K$14),$N10,AND($L10="売",($C11-$D11)>=注文!$K$14),$N10,$L10="-",0) -> 140000 | P10: =MONTH(B10) -> 10 | Q10: 40 | R10: 0 | T10: =O1/M1 -> 8500
A11: 大証 | B11: 43385 | C11: 22790 | D11: 22905 | E11: 22240 | F11: 22650 | G11: =AVERAGE(F9:F11) -> 22921.667 | H11: =AVERAGE(F7:F11) -> 23210 | I11: - | J11: =ABS(G11-G10) -> 271.66667 | K11: =(MAX(F7:F11)-MIN(F7:F11))/(MAX(F7:F11)+MIN(F7:F11)/2)*10000 -> 351.72659 | L11: =IF(G11>G10,"買",IF(G11<G10,"売","-")) -> 売 | M11: =_xlfn.IFS(J11<$Q$10,$R$10,J11<$Q$11,$R$11,J11<$Q$12,$R$12) -> 10 | N11: =_xlfn.IFS($L11="買",($F12-$C12)*M11*100,$L11="売",($C12-$F12)*M11*100,$L11="-",0) -> 465000 | O11: =_xlfn.IFS(AND($L11="買",($E12-$C12)<注文!$K$14),(注文!$K$14-5)*M11*100,AND($L11="売",($C12-$D12)<注文!$K$14),(注文!$K$14-5)*M11*100,AND($L11="買",($E12-$C12)>=注文!$K$14),$N11,AND($L11="売",($C12-$D12)>=注文!$K$14),$N11,$L11="-",0) -> 465000 | P11: =MONTH(B11) -> 10 | Q11: 100 | R11: 10
A12: 大証 | B12: 43388 | C12: 22665 | D12: 22670 | E12: 22200 | F12: 22200 | G12: =AVERAGE(F10:F12) -> 22478.333 | H12: =AVERAGE(F8:F12) -> 22886 | I12: =AVERAGE(F3:F12) -> 23490 | J12: =ABS(G12-G11) -> 443.33333 | K12: =(MAX(F8:F12)-MIN(F8:F12))/(MAX(F8:F12)+MIN(F8:F12)/2)*10000 -> 384.06006 | L12: =IF(G12>G11,"買",IF(G12<G11,"売","-")) -> 売 | M12: =_xlfn.IFS(J12<$Q$10,$R$10,J12<$Q$11,$R$11,J12<$Q$12,$R$12) -> 10 | N12: =_xlfn.IFS($L12="買",($F13-$C13)*M12*100,$L12="売",($C13-$F13)*M12*100,$L12="-",0) -> -220000 | O12: =_xlfn.IFS(AND($L12="買",($E13-$C13)<注文!$K$14),(注文!$K$14-5)*M12*100,AND($L12="売",($C13-$D13)<注文!$K$14),(注文!$K$14-5)*M12*100,AND($L12="買",($E13-$C13)>=注文!$K$14),$N12,AND($L12="売",($C13-$D13)>=注文!$K$14),$N12,$L12="-",0) -> -205000 | P12: =MONTH(B12) -> 10 | Q12: 1000 | R12: 10
A13: 大証 | B13: 43389 | C13: 22205 | D13: 22540 | E13: 22030 | F13: 22425 | G13: =AVERAGE(F11:F13) -> 22425 | H13: =AVERAGE(F9:F13) -> 22678 | I13: =AVERAGE(F4:F13) -> 23301.5 | J13: =ABS(G13-G12) -> 53.333333 | K13: =(MAX(F9:F13)-MIN(F9:F13))/(MAX(F9:F13)+MIN(F9:F13)/2)*10000 -> 384.06006 | L13: =IF(G13>G12,"買",IF(G13<G12,"売","-")) -> 売 | M13: =_xlfn.IFS(J13<$Q$10,$R$10,J13<$Q$11,$R$11,J13<$Q$12,$R$12) -> 10 | N13: =_xlfn.IFS($L13="買",($F14-$C14)*M13*100,$L13="売",($C14-$F14)*M13*100,$L13="-",0) -> -430000 | O13: =_xlfn.IFS(AND($L13="買",($E14-$C14)<注文!$K$14),(注文!$K$14-5)*M13*100,AND($L13="売",($C14-$D14)<注文!$K$14),(注文!$K$14-5)*M13*100,AND($L13="買",($E14-$C14)>=注文!$K$14),$N13,AND($L13="売",($C14-$D14)>=注文!$K$14),$N13,$L13="-",0) -> -205000 | P13: =MONTH(B13) -> 10
A14: 大証 | B14: 43390 | C14: 22460 | D14: 22950 | E14: 22435 | F14: 22890 | G14: =AVERAGE(F12:F14) -> 22505 | H14: =AVERAGE(F10:F14) -> 22550 | I14: =AVERAGE(F5:F14) -> 23162.5 | J14: =ABS(G14-G13) -> 80 | K14: =(MAX(F10:F14)-MIN(F10:F14))/(MAX(F10:F14)+MIN(F10:F14)/2)*10000 -> 203.00088 | L14: =IF(G14>G13,"買",IF(G14<G13,"売","-")) -> 買 | M14: =_xlfn.IFS(J14<$Q$10,$R$10,J14<$Q$11,$R$11,J14<$Q$12,$R$12) -> 10 | N14: =_xlfn.IFS($L14="買",($F15-$C15)*M14*100,$L14="売",($C15-$F15)*M14*100,$L14="-",0) -> -305000 | O14: =_xlfn.IFS(AND($L14="買",($E15-$C15)<注文!$K$14),(注文!$K$14-5)*M14*100,AND($L14="売",($C15-$D15)<注文!$K$14),(注文!$K$14-5)*M14*100,AND($L14="買",($E15-$C15)>=注文!$K$14),$N14,AND($L14="売",($C15-$D15)>=注文!$K$14),$N14,$L14="-",0) -> -205000 | P14: =MONTH(B14) -> 10 | Q14: 1月 | R14: 2月 | S14: 3月 | T14: 4月 | U14: 5月 | V14: 6月 | W14: 7月 | X14: 8月 | Y14: 9月 | Z14: 10月 | AA14: 11月 | AB14: 12月
A15: 大証 | B15: 43391 | C15: 22900 | D15: 22915 | E15: 22590 | F15: 22595 | G15: =AVERAGE(F13:F15) -> 22636.667 | H15: =AVERAGE(F11:F15) -> 22552 | I15: =AVERAGE(F6:F15) -> 23008 | J15: =ABS(G15-G14) -> 131.66667 | K15: =(MAX(F11:F15)-MIN(F11:F15))/(MAX(F11:F15)+MIN(F11:F15)/2)*10000 -> 203.00088 | L15: =IF(G15>G14,"買",IF(G15<G14,"売","-")) -> 買 | M15: =_xlfn.IFS(J15<$Q$10,$R$10,J15<$Q$11,$R$11,J15<$Q$12,$R$12) -> 10 | N15: =_xlfn.IFS($L15="買",($F16-$C16)*M15*100,$L15="売",($C16-$F16)*M15*100,$L15="-",0) -> -115000 | O15: =_xlfn.IFS(AND($L15="買",($E16-$C16)<注文!$K$14),(注文!$K$14-5)*M15*100,AND($L15="売",($C16-$D16)<注文!$K$14),(注文!$K$14-5)*M15*100,AND($L15="買",($E16-$C16)>=注文!$K$14),$N15,AND($L15="売",($C16-$D16)>=注文!$K$14),$N15,$L15="-",0) -> -205000 | P15: =MONTH(B15) -> 10 | Q15: =SUMIFS($O$7:$O$65,$P$7:$P$65,"1") -> 0 | R15: =SUMIFS($O$7:$O$65,$P$7:$P$65,"2") -> 0 | S15: =SUMIFS($O$7:$O$65,$P$7:$P$65,"3") -> 0 | T15: =SUMIFS($O$7:$O$65,$P$7:$P$65,"4") -> 0 | U15: =SUMIFS($O$7:$O$65,$P$7:$P$65,"5") -> 0 | V15: =SUMIFS($O$7:$O$65,$P$7:$P$65,"6") -> 0 | W15: =SUMIFS($O$7:$O$65,$P$7:$P$65,"7") -> 0 | X15: =SUMIFS($O$7:$O$65,$P$7:$P$65,"8") -> 0 | Y15: =SUMIFS($O$7:$O$65,$P$7:$P$65,"9") -> 0 | Z15: =SUMIFS($O$7:$O$65,$P$7:$P$65,"10") -> 1735000 | AA15: =SUMIFS($O$7:$O$65,$P$7:$P$65,"11") -> 250000 | AB15: =SUMIFS($O$7:$O$65,$P$7:$P$65,"12") -> 2350000
A16: 大証 | B16: 43392 | C16: 22640 | D16: 22750 | E16: 22155 | F16: 22525 | G16: =AVERAGE(F14:F16) -> 22670 | H16: =AVERAGE(F12:F16) -> 22527 | I16: =AVERAGE(F7:F16) -> 22868.5 | J16: =ABS(G16-G15) -> 33.333333 | K16: =(MAX(F12:F16)-MIN(F12:F16))/(MAX(F12:F16)+MIN(F12:F16)/2)*10000 -> 203.00088 | L16: =IF(G16>G15,"買",IF(G16<G15,"売","-")) -> 買 | M16: =_xlfn.IFS(J16<$Q$10,$R$10,J16<$Q$11,$R$11,J16<$Q$12,$R$12) -> 0 | N16: =_xlfn.IFS($L16="買",($F17-$C17)*M16*100,$L16="売",($C17-$F17)*M16*100,$L16="-",0) -> 0 | O16: =_xlfn.IFS(AND($L16="買",($E17-$C17)<注文!$K$14),(注文!$K$14-5)*M16*100,AND($L16="売",($C17-$D17)<注文!$K$14),(注文!$K$14-5)*M16*100,AND($L16="買",($E17-$C17)>=注文!$K$14),$N16,AND($L16="売",($C17-$D17)>=注文!$K$14),$N16,$L16="-",0) -> 0 | P16: =MONTH(B16) -> 10
A17: 大証 | B17: 43395 | C17: 22520 | D17: 22690 | E17: 22260 | F17: 22625 | G17: =AVERAGE(F15:F17) -> 22581.667 | H17: =AVERAGE(F13:F17) -> 22612 | I17: =AVERAGE(F8:F17) -> 22749 | J17: =ABS(G17-G16) -> 88.333333 | K17: =(MAX(F13:F17)-MIN(F13:F17))/(MAX(F13:F17)+MIN(F13:F17)/2)*10000 -> 136.35364 | L17: =IF(G17>G16,"買",IF(G17<G16,"売","-")) -> 売 | M17: =_xlfn.IFS(J17<$Q$10,$R$10,J17<$Q$11,$R$11,J17<$Q$12,$R$12) -> 10 | N17: =_xlfn.IFS($L17="買",($F18-$C18)*M17*100,$L17="売",($C18-$F18)*M17*100,$L17="-",0) -> 740000 | O17: =_xlfn.IFS(AND($L17="買",($E18-$C18)<注文!$K$14),(注文!$K$14-5)*M17*100,AND($L17="売",($C18-$D18)<注文!$K$14),(注文!$K$14-5)*M17*100,AND($L17="買",($E18-$C18)>=注文!$K$14),$N17,AND($L17="売",($C18-$D18)>=注文!$K$14),$N17,$L17="-",0) -> 740000 | P17: =MONTH(B17) -> 10 | R17: -150 | S17: 1283000 | T17: 673000 | W17: =T17-S17 -> -610000
A18: 大証 | B18: 43396 | C18: 22670 | D18: 22690 | E18: 21930 | F18: 21930 | G18: =AVERAGE(F16:F18) -> 22360 | H18: =AVERAGE(F14:F18) -> 22513 | I18: =AVERAGE(F9:F18) -> 22595.5 | J18: =ABS(G18-G17) -> 221.66667 | K18: =(MAX(F14:F18)-MIN(F14:F18))/(MAX(F14:F18)+MIN(F14:F18)/2)*10000 -> 283.56225 | L18: =IF(G18>G17,"買",IF(G18<G17,"売","-")) -> 売 | M18: =_xlfn.IFS(J18<$Q$10,$R$10,J18<$Q$11,$R$11,J18<$Q$12,$R$12) -> 10 | N18: =_xlfn.IFS($L18="買",($F19-$C19)*M18*100,$L18="売",($C19-$F19)*M18*100,$L18="-",0) -> -40000 | O18: =_xlfn.IFS(AND($L18="買",($E19-$C19)<注文!$K$14),(注文!$K$14-5)*M18*100,AND($L18="売",($C19-$D19)<注文!$K$14),(注文!$K$14-5)*M18*100,AND($L18="買",($E19-$C19)>=注文!$K$14),$N18,AND($L18="売",($C19-$D19)>=注文!$K$14),$N18,$L18="-",0) -> -205000 | P18: =MONTH(B18) -> 10 | R18: -200 | S18: 1283000 | T18: 1410000 | W18: =T18-S18 -> 127000 | X18: ○
A19: 大証 | B19: 43397 | C19: 21990 | D19: 22210 | E19: 21635 | F19: 22030 | G19: =AVERAGE(F17:F19) -> 22195 | H19: =AVERAGE(F15:F19) -> 22341 | I19: =AVERAGE(F10:F19) -> 22445.5 | J19: =ABS(G19-G18) -> 165 | K19: =(MAX(F15:F19)-MIN(F15:F19))/(MAX(F15:F19)+MIN(F15:F19)/2)*10000 -> 206.90682 | L19: =IF(G19>G18,"買",IF(G19<G18,"売","-")) -> 売 | M19: =_xlfn.IFS(J19<$Q$10,$R$10,J19<$Q$11,$R$11,J19<$Q$12,$R$12) -> 10 | N19: =_xlfn.IFS($L19="買",($F20-$C20)*M19*100,$L19="売",($C20-$F20)*M19*100,$L19="-",0) -> 655000 | O19: =_xlfn.IFS(AND($L19="買",($E20-$C20)<注文!$K$14),(注文!$K$14-5)*M19*100,AND($L19="売",($C20-$D20)<注文!$K$14),(注文!$K$14-5)*M19*100,AND($L19="買",($E20-$C20)>=注文!$K$14),$N19,AND($L19="売",($C20-$D20)>=注文!$K$14),$N19,$L19="-",0) -> 655000 | P19: =MONTH(B19) -> 10 | R19: -250 | S19: 1283000 | T19: 1443000 | W19: =T19-S19 -> 160000 | X19: ◎
A20: 大証 | B20: 43398 | C20: 21930 | D20: 22100 | E20: 21195 | F20: 21275 | G20: =AVERAGE(F18:F20) -> 21745 | H20: =AVERAGE(F16:F20) -> 22077 | I20: =AVERAGE(F11:F20) -> 22314.5 | J20: =ABS(G20-G19) -> 450 | K20: =(MAX(F16:F20)-MIN(F16:F20))/(MAX(F16:F20)+MIN(F16:F20)/2)*10000 -> 405.86246 | L20: =IF(G20>G19,"買",IF(G20<G19,"売","-")) -> 売 | M20: =_xlfn.IFS(J20<$Q$10,$R$10,J20<$Q$11,$R$11,J20<$Q$12,$R$12) -> 10 | N20: =_xlfn.IFS($L20="買",($F21-$C21)*M20*100,$L20="売",($C21-$F21)*M20*100,$L20="-",0) -> 135000 | O20: =_xlfn.IFS(AND($L20="買",($E21-$C21)<注文!$K$14),(注文!$K$14-5)*M20*100,AND($L20="売",($C21-$D21)<注文!$K$14),(注文!$K$14-5)*M20*100,AND($L20="買",($E21-$C21)>=注文!$K$14),$N20,AND($L20="売",($C21-$D21)>=注文!$K$14),$N20,$L20="-",0) -> -205000 | P20: =MONTH(B20) -> 10 | R20: -300 | S20: 1283000 | T20: 1369000 | W20: =T20-S20 -> 86000 | X20: △
A21: 大証 | B21: 43399 | C21: 21370 | D21: 21790 | E21: 20960 | F21: 21235 | G21: =AVERAGE(F19:F21) -> 21513.333 | H21: =AVERAGE(F17:F21) -> 21819 | I21: =AVERAGE(F12:F21) -> 22173 | J21: =ABS(G21-G20) -> 231.66667 | K21: =(MAX(F17:F21)-MIN(F17:F21))/(MAX(F17:F21)+MIN(F17:F21)/2)*10000 -> 418.13943 | L21: =IF(G21>G20,"買",IF(G21<G20,"売","-")) -> 売 | M21: =_xlfn.IFS(J21<$Q$10,$R$10,J21<$Q$11,$R$11,J21<$Q$12,$R$12) -> 10 | N21: =_xlfn.IFS($L21="買",($F22-$C22)*M21*100,$L21="売",($C22-$F22)*M21*100,$L21="-",0) -> 85000 | O21: =_xlfn.IFS(AND($L21="買",($E22-$C22)<注文!$K$14),(注文!$K$14-5)*M21*100,AND($L21="売",($C22-$D22)<注文!$K$14),(注文!$K$14-5)*M21*100,AND($L21="買",($E22-$C22)>=注文!$K$14),$N21,AND($L21="売",($C22-$D22)>=注文!$K$14),$N21,$L21="-",0) -> -205000 | P21: =MONTH(B21) -> 10 | R21: -350 | S21: 1283000 | T21: 1241000 | W21: =T21-S21 -> -42000
A22: 大証 | B22: 43402 | C22: 21185 | D22: 21470 | E22: 20790 | F22: 21100 | G22: =AVERAGE(F20:F22) -> 21203.333 | H22: =AVERAGE(F18:F22) -> 21514 | I22: =AVERAGE(F13:F22) -> 22063 | J22: =ABS(G22-G21) -> 310 | K22: =(MAX(F18:F22)-MIN(F18:F22))/(MAX(F18:F22)+MIN(F18:F22)/2)*10000 -> 285.4512 | L22: =IF(G22>G21,"買",IF(G22<G21,"売","-")) -> 売 | M22: =_xlfn.IFS(J22<$Q$10,$R$10,J22<$Q$11,$R$11,J22<$Q$12,$R$12) -> 10 | N22: =_xlfn.IFS($L22="買",($F23-$C23)*M22*100,$L22="売",($C23-$F23)*M22*100,$L22="-",0) -> -345000 | O22: =_xlfn.IFS(AND($L22="買",($E23-$C23)<注文!$K$14),(注文!$K$14-5)*M22*100,AND($L22="売",($C23-$D23)<注文!$K$14),(注文!$K$14-5)*M22*100,AND($L22="買",($E23-$C23)>=注文!$K$14),$N22,AND($L22="売",($C23-$D23)>=注文!$K$14),$N22,$L22="-",0) -> -205000 | P22: =MONTH(B22) -> 10
A23: 大証 | B23: 43403 | C23: 21130 | D23: 21570 | E23: 20800 | F23: 21475 | G23: =AVERAGE(F21:F23) -> 21270 | H23: =AVERAGE(F19:F23) -> 21423 | I23: =AVERAGE(F14:F23) -> 21968 | J23: =ABS(G23-G22) -> 66.666667 | K23: =(MAX(F19:F23)-MIN(F19:F23))/(MAX(F19:F23)+MIN(F19:F23)/2)*10000 -> 285.4512 | L23: =IF(G23>G22,"買",IF(G23<G22,"売","-")) -> 買 | M23: =_xlfn.IFS(J23<$Q$10,$R$10,J23<$Q$11,$R$11,J23<$Q$12,$R$12) -> 10 | N23: =_xlfn.IFS($L23="買",($F24-$C24)*M23*100,$L23="売",($C24-$F24)*M23*100,$L23="-",0) -> 370000 | O23: =_xlfn.IFS(AND($L23="買",($E24-$C24)<注文!$K$14),(注文!$K$14-5)*M23*100,AND($L23="売",($C24-$D24)<注文!$K$14),(注文!$K$14-5)*M23*100,AND($L23="買",($E24-$C24)>=注文!$K$14),$N23,AND($L23="売",($C24-$D24)>=注文!$K$14),$N23,$L23="-",0) -> 370000 | P23: =MONTH(B23) -> 10
A24: 大証 | B24: 43404 | C24: 21500 | D24: 21910 | E24: 21305 | F24: 21870 | G24: =AVERAGE(F22:F24) -> 21481.667 | H24: =AVERAGE(F20:F24) -> 21391 | I24: =AVERAGE(F15:F24) -> 21866 | J24: =ABS(G24-G23) -> 211.66667 | K24: =(MAX(F20:F24)-MIN(F20:F24))/(MAX(F20:F24)+MIN(F20:F24)/2)*10000 -> 237.50771 | L24: =IF(G24>G23,"買",IF(G24<G23,"売","-")) -> 買 | M24: =_xlfn.IFS(J24<$Q$10,$R$10,J24<$Q$11,$R$11,J24<$Q$12,$R$12) -> 10 | N24: =_xlfn.IFS($L24="買",($F25-$C25)*M24*100,$L24="売",($C25-$F25)*M24*100,$L24="-",0) -> -310000 | O24: =_xlfn.IFS(AND($L24="買",($E25-$C25)<注文!$K$14),(注文!$K$14-5)*M24*100,AND($L24="売",($C25-$D25)<注文!$K$14),(注文!$K$14-5)*M24*100,AND($L24="買",($E25-$C25)>=注文!$K$14),$N24,AND($L24="売",($C25-$D25)>=注文!$K$14),$N24,$L24="-",0) -> -205000 | P24: =MONTH(B24) -> 10
A25: 大証 | B25: 43405 | C25: 21855 | D25: 21940 | E25: 21545 | F25: 21545 | G25: =AVERAGE(F23:F25) -> 21630 | H25: =AVERAGE(F21:F25) -> 21445 | I25: =AVERAGE(F16:F25) -> 21761 | J25: =ABS(G25-G24) -> 148.33333 | K25: =(MAX(F21:F25)-MIN(F21:F25))/(MAX(F21:F25)+MIN(F21:F25)/2)*10000 -> 237.50771 | L25: =IF(G25>G24,"買",IF(G25<G24,"売","-")) -> 買 | M25: =_xlfn.IFS(J25<$Q$10,$R$10,J25<$Q$11,$R$11,J25<$Q$12,$R$12) -> 10 | N25: =_xlfn.IFS($L25="買",($F26-$C26)*M25*100,$L25="売",($C26-$F26)*M25*100,$L25="-",0) -> 660000 | O25: =_xlfn.IFS(AND($L25="買",($E26-$C26)<注文!$K$14),(注文!$K$14-5)*M25*100,AND($L25="売",($C26-$D26)<注文!$K$14),(注文!$K$14-5)*M25*100,AND($L25="買",($E26-$C26)>=注文!$K$14),$N25,AND($L25="売",($C26-$D26)>=注文!$K$14),$N25,$L25="-",0) -> 660000 | P25: =MONTH(B25) -> 11
A26: 大証 | B26: 43406 | C26: 21565 | D26: 22300 | E26: 21530 | F26: 22225 | G26: =AVERAGE(F24:F26) -> 21880 | H26: =AVERAGE(F22:F26) -> 21643 | I26: =AVERAGE(F17:F26) -> 21731 | J26: =ABS(G26-G25) -> 250 | K26: =(MAX(F22:F26)-MIN(F22:F26))/(MAX(F22:F26)+MIN(F22:F26)/2)*10000 -> 343.24943 | L26: =IF(G26>G25,"買",IF(G26<G25,"売","-")) -> 買 | M26: =_xlfn.IFS(J26<$Q$10,$R$10,J26<$Q$11,$R$11,J26<$Q$12,$R$12) -> 10 | N26: =_xlfn.IFS($L26="買",($F27-$C27)*M26*100,$L26="売",($C27-$F27)*M26*100,$L26="-",0) -> -375000 | O26: =_xlfn.IFS(AND($L26="買",($E27-$C27)<注文!$K$14),(注文!$K$14-5)*M26*100,AND($L26="売",($C27-$D27)<注文!$K$14),(注文!$K$14-5)*M26*100,AND($L26="買",($E27-$C27)>=注文!$K$14),$N26,AND($L26="売",($C27-$D27)>=注文!$K$14),$N26,$L26="-",0) -> -205000 | P26: =MONTH(B26) -> 11
A27: 大証 | B27: 43409 | C27: 22245 | D27: 22280 | E27: 21840 | F27: 21870 | G27: =AVERAGE(F25:F27) -> 21880 | H27: =AVERAGE(F23:F27) -> 21797 | I27: =AVERAGE(F18:F27) -> 21655.5 | J27: =ABS(G27-G26) -> 0 | K27: =(MAX(F23:F27)-MIN(F23:F27))/(MAX(F23:F27)+MIN(F23:F27)/2)*10000 -> 227.53129 | L27: =IF(G27>G26,"買",IF(G27<G26,"売","-")) -> - | M27: =_xlfn.IFS(J27<$Q$10,$R$10,J27<$Q$11,$R$11,J27<$Q$12,$R$12) -> 0 | N27: =_xlfn.IFS($L27="買",($F28-$C28)*M27*100,$L27="売",($C28-$F28)*M27*100,$L27="-",0) -> 0 | O27: =_xlfn.IFS(AND($L27="買",($E28-$C28)<注文!$K$14),(注文!$K$14-5)*M27*100,AND($L27="売",($C28-$D28)<注文!$K$14),(注文!$K$14-5)*M27*100,AND($L27="買",($E28-$C28)>=注文!$K$14),$N27,AND($L27="売",($C28-$D28)>=注文!$K$14),$N27,$L27="-",0) -> 0 | P27: =MONTH(B27) -> 11
A28: 大証 | B28: 43410 | C28: 21895 | D28: 22195 | E28: 21870 | F28: 22195 | G28: =AVERAGE(F26:F28) -> 22096.667 | H28: =AVERAGE(F24:F28) -> 21941 | I28: =AVERAGE(F19:F28) -> 21682 | J28: =ABS(G28-G27) -> 216.66667 | K28: =(MAX(F24:F28)-MIN(F24:F28))/(MAX(F24:F28)+MIN(F24:F28)/2)*10000 -> 206.07622 | L28: =IF(G28>G27,"買",IF(G28<G27,"売","-")) -> 買 | M28: =_xlfn.IFS(J28<$Q$10,$R$10,J28<$Q$11,$R$11,J28<$Q$12,$R$12) -> 10 | N28: =_xlfn.IFS($L28="買",($F29-$C29)*M28*100,$L28="売",($C29-$F29)*M28*100,$L28="-",0) -> -85000 | O28: =_xlfn.IFS(AND($L28="買",($E29-$C29)<注文!$K$14),(注文!$K$14-5)*M28*100,AND($L28="売",($C29-$D29)<注文!$K$14),(注文!$K$14-5)*M28*100,AND($L28="買",($E29-$C29)>=注文!$K$14),$N28,AND($L28="売",($C29-$D29)>=注文!$K$14),$N28,$L28="-",0) -> -205000 | P28: =MONTH(B28) -> 11
A29: 大証 | B29: 43411 | C29: 22200 | D29: 22435 | E29: 21985 | F29: 22115 | G29: =AVERAGE(F27:F29) -> 22060 | H29: =AVERAGE(F25:F29) -> 21990 | I29: =AVERAGE(F20:F29) -> 21690.5 | J29: =ABS(G29-G28) -> 36.666667 | K29: =(MAX(F25:F29)-MIN(F25:F29))/(MAX(F25:F29)+MIN(F25:F29)/2)*10000 -> 206.07622 | L29: =IF(G29>G28,"買",IF(G29<G28,"売","-")) -> 売 | M29: =_xlfn.IFS(J29<$Q$10,$R$10,J29<$Q$11,$R$11,J29<$Q$12,$R$12) -> 0 | N29: =_xlfn.IFS($L29="買",($F30-$C30)*M29*100,$L29="売",($C30-$F30)*M29*100,$L29="-",0) -> 0 | O29: =_xlfn.IFS(AND($L29="買",($E30-$C30)<注文!$K$14),(注文!$K$14-5)*M29*100,AND($L29="売",($C30-$D30)<注文!$K$14),(注文!$K$14-5)*M29*100,AND($L29="買",($E30-$C30)>=注文!$K$14),$N29,AND($L29="売",($C30-$D30)>=注文!$K$14),$N29,$L29="-",0) -> 0 | P29: =MONTH(B29) -> 11
A30: 大証 | B30: 43412 | C30: 22110 | D30: 22580 | E30: 22085 | F30: 22495 | G30: =AVERAGE(F28:F30) -> 22268.333 | H30: =AVERAGE(F26:F30) -> 22180 | I30: =AVERAGE(F21:F30) -> 21812.5 | J30: =ABS(G30-G29) -> 208.33333 | K30: =(MAX(F26:F30)-MIN(F26:F30))/(MAX(F26:F30)+MIN(F26:F30)/2)*10000 -> 186.95782 | L30: =IF(G30>G29,"買",IF(G30<G29,"売","-")) -> 買 | M30: =_xlfn.IFS(J30<$Q$10,$R$10,J30<$Q$11,$R$11,J30<$Q$12,$R$12) -> 10 | N30: =_xlfn.IFS($L30="買",($F31-$C31)*M30*100,$L30="売",($C31-$F31)*M30*100,$L30="-",0) -> -190000 | O30: =_xlfn.IFS(AND($L30="買",($E31-$C31)<注文!$K$14),(注文!$K$14-5)*M30*100,AND($L30="売",($C31-$D31)<注文!$K$14),(注文!$K$14-5)*M30*100,AND($L30="買",($E31-$C31)>=注文!$K$14),$N30,AND($L30="売",($C31-$D31)>=注文!$K$14),$N30,$L30="-",0) -> -205000 | P30: =MONTH(B30) -> 11
A31: 大証 | B31: 43413 | C31: 22460 | D31: 22505 | E31: 22215 | F31: 22270 | G31: =AVERAGE(F29:F31) -> 22293.333 | H31: =AVERAGE(F27:F31) -> 22189 | I31: =AVERAGE(F22:F31) -> 21916 | J31: =ABS(G31-G30) -> 25 | K31: =(MAX(F27:F31)-MIN(F27:F31))/(MAX(F27:F31)+MIN(F27:F31)/2)*10000 -> 186.95782 | L31: =IF(G31>G30,"買",IF(G31<G30,"売","-")) -> 買 | M31: =_xlfn.IFS(J31<$Q$10,$R$10,J31<$Q$11,$R$11,J31<$Q$12,$R$12) -> 0 | N31: =_xlfn.IFS($L31="買",($F32-$C32)*M31*100,$L31="売",($C32-$F32)*M31*100,$L31="-",0) -> 0 | O31: =_xlfn.IFS(AND($L31="買",($E32-$C32)<注文!$K$14),(注文!$K$14-5)*M31*100,AND($L31="売",($C32-$D32)<注文!$K$14),(注文!$K$14-5)*M31*100,AND($L31="買",($E32-$C32)>=注文!$K$14),$N31,AND($L31="売",($C32-$D32)>=注文!$K$14),$N31,$L31="-",0) -> 0 | P31: =MONTH(B31) -> 11
A32: 大証 | B32: 43416 | C32: 22220 | D32: 22325 | E32: 22005 | F32: 22255 | G32: =AVERAGE(F30:F32) -> 22340 | H32: =AVERAGE(F28:F32) -> 22266 | I32: =AVERAGE(F23:F32) -> 22031.5 | J32: =ABS(G32-G31) -> 46.666667 | K32: =(MAX(F28:F32)-MIN(F28:F32))/(MAX(F28:F32)+MIN(F28:F32)/2)*10000 -> 113.25535 | L32: =IF(G32>G31,"買",IF(G32<G31,"売","-")) -> 買 | M32: =_xlfn.IFS(J32<$Q$10,$R$10,J32<$Q$11,$R$11,J32<$Q$12,$R$12) -> 10 | N32: =_xlfn.IFS($L32="買",($F33-$C33)*M32*100,$L32="売",($C33-$F33)*M32*100,$L32="-",0) -> -480000 | O32: =_xlfn.IFS(AND($L32="買",($E33-$C33)<注文!$K$14),(注文!$K$14-5)*M32*100,AND($L32="売",($C33-$D33)<注文!$K$14),(注文!$K$14-5)*M32*100,AND($L32="買",($E33-$C33)>=注文!$K$14),$N32,AND($L32="売",($C33-$D33)>=注文!$K$14),$N32,$L32="-",0) -> -205000 | P32: =MONTH(B32) -> 11
A33: 大証 | B33: 43417 | C33: 22240 | D33: 22260 | E33: 21470 | F33: 21760 | G33: =AVERAGE(F31:F33) -> 22095 | H33: =AVERAGE(F29:F33) -> 22179 | I33: =AVERAGE(F24:F33) -> 22060 | J33: =ABS(G33-G32) -> 245 | K33: =(MAX(F29:F33)-MIN(F29:F33))/(MAX(F29:F33)+MIN(F29:F33)/2)*10000 -> 220.22472 | L33: =IF(G33>G32,"買",IF(G33<G32,"売","-")) -> 売 | M33: =_xlfn.IFS(J33<$Q$10,$R$10,J33<$Q$11,$R$11,J33<$Q$12,$R$12) -> 10 | N33: =_xlfn.IFS($L33="買",($F34-$C34)*M33*100,$L33="売",($C34-$F34)*M33*100,$L33="-",0) -> -80000 | O33: =_xlfn.IFS(AND($L33="買",($E34-$C34)<注文!$K$14),(注文!$K$14-5)*M33*100,AND($L33="売",($C34-$D34)<注文!$K$14),(注文!$K$14-5)*M33*100,AND($L33="買",($E34-$C34)>=注文!$K$14),$N33,AND($L33="売",($C34-$D34)>=注文!$K$14),$N33,$L33="-",0) -> -205000 | P33: =MONTH(B33) -> 11
... A64: 大証 | B64: 43462 | C64: 19930 | D64: 20055 | E64: 19495 | F64: 19845 | G64: =AVERAGE(F62:F64) -> 19750 | H64: =AVERAGE(F60:F64) -> 19661 | I64: =AVERAGE(F55:F64) -> 20327.5 | J64: =ABS(G64-G63) -> 281.66667 | K64: =(MAX(F60:F64)-MIN(F60:F64))/(MAX(F60:F64)+MIN(F60:F64)/2)*10000 -> 356.9616 | L64: =IF(G64>G63,"買",IF(G64<G63,"売","-")) -> 買 | M64: =_xlfn.IFS(J64<$Q$10,$R$10,J64<$Q$11,$R$11,J64<$Q$12,$R$12) -> 10 | N64: =_xlfn.IFS($L64="買",($F65-$C65)*M64*100,$L64="売",($C65-$F65)*M64*100,$L64="-",0) -> -560000 | O64: =_xlfn.IFS(AND($L64="買",($E65-$C65)<注文!$K$14),(注文!$K$14-5)*M64*100,AND($L64="売",($C65-$D65)<注文!$K$14),(注文!$K$14-5)*M64*100,AND($L64="買",($E65-$C65)>=注文!$K$14),$N64,AND($L64="売",($C65-$D65)>=注文!$K$14),$N64,$L64="-",0) -> -205000 | P64: =MONTH(B64) -> 12
A65: 大証 | B65: 43469 | C65: 19820 | D65: 20040 | E65: 19205 | F65: 19260 | G65: =AVERAGE(F63:F65) -> 19706.667 | H65: =AVERAGE(F61:F65) -> 19502 | I65: =AVERAGE(F56:F65) -> 20123 | J65: =ABS(G65-G64) -> 43.333333 | K65: =(MAX(F61:F65)-MIN(F61:F65))/(MAX(F61:F65)+MIN(F61:F65)/2)*10000 -> 343.89294 | L65: =IF(G65>G64,"買",IF(G65<G64,"売","-")) -> 売 | M65: =_xlfn.IFS(J65<$Q$10,$R$10,J65<$Q$11,$R$11,J65<$Q$12,$R$12) -> 10 | N65: - | O65: - | P65: =MONTH(B65) -> 1 | Q65: ←この時点での売買を判断
A66: 市場 コード | B66: 取引 日付 | C66: 始値 | D66: 高値 | E66: 安値 | F66: 終値 | G66: 移動平均/MA3 | H66: 移動平均/MA5 | I66: 移動平均/MA10 | J66: 変動額/MA3 | K66: 変動指数/MA5 | L66: 売買 シグナル | M66: 保有数量 | N66: 損益 (毎日決済) | O66: 損益 (ロスカット) | P66: 月
C67: 0.6875 | F67: 0.63541667 | N67: =SUBTOTAL(109,$N$3:$N$65) -> 2545000 | O67: =SUBTOTAL(109,$O$3:$O$65) -> 4335000
