Workbook
Name Dlog_bk_prj_id: "エディット 12"
Name Dlog_bk_prj_name: "エディット 13"
Name Dlog_bk_sht_id: "エディット 14"
Name Dlog_sh_sht_name: "ドロップ 95"
Name シート選択見だし: "ラベル 5"

Sheet 注文照会
A1: =[1]!ORDQUERY("4",A3,A4) -> #N/A | B1: =[1]!ORDQUERY("4",B3,B4) -> #N/A | C1: =[1]!ORDQUERY("4",C3,C4) -> #N/A | D1: =[1]!ORDQUERY("4",D3,D4) -> #N/A | E1: =[1]!ORDQUERY("4",E3,E4) -> #N/A | F1: =[1]!ORDQUERY("4",F3,F4) -> #N/A | G1: =[1]!ORDQUERY("4",G3,G4) -> #N/A | H1: =[1]!ORDQUERY("4",H3,H4) -> #N/A | ... X1: =[1]!ORDQUERY("4",X3,X4) -> #N/A
A2: 注文照会
A3: 銘柄コード | B3: 銘柄名 | C3: 執行市場 | D3: 現在値 | E3: 前日終値 | F3: 前日比 | G3: 前日比率 | H3: 注文番号 | I3: 注文状態 | J3: 約定状態 | K3: 売買 | L3: 預り区分 | M3: 平均約定単価 | N3: 手数料プラン | O3: 受付日時 | P3: 有効期間 | Q3: 有効日付 | R3: 注文株数 | S3: 未約定株数 | T3: 約定株数 | U3: 執行条件 | V3: 注文単価 | W3: 取消可能状態 | X3: 訂正可能状態
A4: 2914 | B4: ＪＴ | C4: 東証 | D4: 2517.5 | E4: 2494.5 | F4: 23 | G4: 0.0092 | H4: 126 | I4: 完了 | J4: 全部約定 | K4: 信用新規買 | L4: 特定預り | M4: 2517.5 | N4: ワンショット | O4: 19/12/02 10:54 | P4: 当日中 | Q4: 12/02 | R4: 100 | S4: 0 | T4: 100 | U4: 成行 | W4: 可能 | X4: 不可能
A5: 6619 | B5: ＷＳＣＯＰＥ | C5: 東証 | D5: 834 | E5: 757 | F5: 77 | G5: 0.1017 | H5: 125 | I5: 完了 | J5: 全部約定 | K5: 信用返済売 | M5: 809.1 | N5: ワンショット | O5: 19/12/02 09:53 | P5: 当日中 | Q5: 12/02 | R5: 1600 | S5: 0 | T5: 1600 | U5: 成行 | W5: 不可能 | X5: 不可能
A6: 6619 | B6: ＷＳＣＯＰＥ | C6: 東証 | D6: 834 | E6: 757 | F6: 77 | G6: 0.1017 | H6: 124 | I6: 完了 | J6: 全部約定 | K6: 信用新規買 | L6: 特定預り | M6: 809 | N6: ワンショット | O6: 19/12/02 09:52 | P6: 当日中 | Q6: 12/02 | R6: 100 | S6: 0 | T6: 100 | U6: 成行 | W6: 不可能 | X6: 不可能
A7: 6619 | B7: ＷＳＣＯＰＥ | C7: 東証 | D7: 834 | E7: 757 | F7: 77 | G7: 0.1017 | H7: 123 | I7: 完了 | J7: 全部約定 | K7: 信用新規買 | L7: 特定預り | M7: 809 | N7: ワンショット | O7: 19/12/02 09:52 | P7: 当日中 | Q7: 12/02 | R7: 100 | S7: 0 | T7: 100 | U7: 成行 | W7: 不可能 | X7: 不可能
A8: 6619 | B8: ＷＳＣＯＰＥ | C8: 東証 | D8: 834 | E8: 757 | F8: 77 | G8: 0.1017 | H8: 122 | I8: 完了 | J8: 全部約定 | K8: 信用新規買 | L8: 特定預り | M8: 809 | N8: ワンショット | O8: 19/12/02 09:52 | P8: 当日中 | Q8: 43801 | R8: 100 | S8: 0 | T8: 100 | U8: 成行 | W8: 不可能 | X8: 不可能
A9: 6619 | B9: ＷＳＣＯＰＥ | C9: 東証 | D9: 834 | E9: 757 | F9: 77 | G9: 0.1017 | H9: 121 | I9: 完了 | J9: 全部約定 | K9: 信用新規買 | L9: 特定預り | M9: 809 | N9: ワンショット | O9: 19/12/02 09:52 | P9: 当日中 | Q9: 43801 | R9: 100 | S9: 0 | T9: 100 | U9: 成行 | W9: 不可能 | X9: 不可能
A10: 6619 | B10: ＷＳＣＯＰＥ | C10: 東証 | D10: 834 | E10: 757 | F10: 77 | G10: 0.1017 | H10: 120 | I10: 完了 | J10: 全部約定 | K10: 信用新規買 | L10: 特定預り | M10: 809 | N10: ワンショット | O10: 19/12/02 09:52 | P10: 当日中 | Q10: 43801 | R10: 100 | S10: 0 | T10: 100 | U10: 成行 | W10: 不可能 | X10: 不可能
A11: 6619 | B11: ＷＳＣＯＰＥ | C11: 東証 | D11: 834 | E11: 757 | F11: 77 | G11: 0.1017 | H11: 119 | I11: 完了 | J11: 全部約定 | K11: 信用新規買 | L11: 特定預り | M11: 809 | N11: ワンショット | O11: 19/12/02 09:52 | P11: 当日中 | Q11: 43801 | R11: 100 | S11: 0 | T11: 100 | U11: 成行 | W11: 不可能 | X11: 不可能
A12: 6619 | B12: ＷＳＣＯＰＥ | C12: 東証 | D12: 834 | E12: 757 | F12: 77 | G12: 0.1017 | H12: 118 | I12: 完了 | J12: 全部約定 | K12: 信用新規買 | L12: 特定預り | M12: 809 | N12: ワンショット | O12: 19/12/02 09:52 | P12: 当日中 | Q12: 43801 | R12: 100 | S12: 0 | T12: 100 | U12: 成行 | W12: 不可能 | X12: 不可能
A13: 6619 | B13: ＷＳＣＯＰＥ | C13: 東証 | D13: 834 | E13: 757 | F13: 77 | G13: 0.1017 | H13: 117 | I13: 完了 | J13: 全部約定 | K13: 信用新規買 | L13: 特定預り | M13: 809 | N13: ワンショット | O13: 19/12/02 09:52 | P13: 当日中 | Q13: 43801 | R13: 100 | S13: 0 | T13: 100 | U13: 成行 | W13: 不可能 | X13: 不可能
A14: 6619 | B14: ＷＳＣＯＰＥ | C14: 東証 | D14: 834 | E14: 757 | F14: 77 | G14: 0.1017 | H14: 116 | I14: 完了 | J14: 全部約定 | K14: 信用新規買 | L14: 特定預り | M14: 809 | N14: ワンショット | O14: 19/12/02 09:52 | P14: 当日中 | Q14: 43801 | R14: 100 | S14: 0 | T14: 100 | U14: 成行 | W14: 不可能 | X14: 不可能
A15: 6619 | B15: ＷＳＣＯＰＥ | C15: 東証 | D15: 834 | E15: 757 | F15: 77 | G15: 0.1017 | H15: 115 | I15: 完了 | J15: 全部約定 | K15: 信用新規買 | L15: 特定預り | M15: 809 | N15: ワンショット | O15: 19/12/02 09:52 | P15: 当日中 | Q15: 43801 | R15: 100 | S15: 0 | T15: 100 | U15: 成行 | W15: 不可能 | X15: 不可能
A16: 6619 | B16: ＷＳＣＯＰＥ | C16: 東証 | D16: 834 | E16: 757 | F16: 77 | G16: 0.1017 | H16: 114 | I16: 完了 | J16: 全部約定 | K16: 信用新規買 | L16: 特定預り | M16: 809 | N16: ワンショット | O16: 19/12/02 09:52 | P16: 当日中 | Q16: 43801 | R16: 100 | S16: 0 | T16: 100 | U16: 成行 | W16: 不可能 | X16: 不可能
A17: 6619 | B17: ＷＳＣＯＰＥ | C17: 東証 | D17: 834 | E17: 757 | F17: 77 | G17: 0.1017 | H17: 113 | I17: 完了 | J17: 全部約定 | K17: 信用新規買 | L17: 特定預り | M17: 810 | N17: ワンショット | O17: 19/12/02 09:52 | P17: 当日中 | Q17: 43801 | R17: 100 | S17: 0 | T17: 100 | U17: 成行 | W17: 不可能 | X17: 不可能
A18: 6619 | B18: ＷＳＣＯＰＥ | C18: 東証 | D18: 834 | E18: 757 | F18: 77 | G18: 0.1017 | H18: 112 | I18: 完了 | J18: 全部約定 | K18: 信用新規買 | L18: 特定預り | M18: 810 | N18: ワンショット | O18: 19/12/02 09:52 | P18: 当日中 | Q18: 43801 | R18: 100 | S18: 0 | T18: 100 | U18: 成行 | W18: 不可能 | X18: 不可能
A19: 6619 | B19: ＷＳＣＯＰＥ | C19: 東証 | D19: 834 | E19: 757 | F19: 77 | G19: 0.1017 | H19: 111 | I19: 完了 | J19: 全部約定 | K19: 信用新規買 | L19: 特定預り | M19: 810 | N19: ワンショット | O19: 19/12/02 09:52 | P19: 当日中 | Q19: 43801 | R19: 100 | S19: 0 | T19: 100 | U19: 成行 | W19: 不可能 | X19: 不可能
... A21: 6619 | B21: ＷＳＣＯＰＥ | C21: 東証 | D21: 834 | E21: 757 | F21: 77 | G21: 0.1017 | H21: 109 | I21: 完了 | J21: 全部約定 | K21: 信用新規買 | L21: 特定預り | M21: 809 | N21: ワンショット | O21: 19/12/02 09:52 | P21: 当日中 | Q21: 43801 | R21: 100 | S21: 0 | T21: 100 | U21: 成行 | W21: 不可能 | X21: 不可能
A22: 4448 | B22: Ｍ－Ｃｈａｔｗｏｒｋ | C22: 東証 | D22: 1187 | E22: 1156 | F22: 31 | G22: 0.0268 | H22: 108 | I22: 完了 | J22: 全部約定 | K22: 信用返済売 | M22: 1194 | N22: ワンショット | O22: 19/12/02 09:30 | P22: 当日中 | Q22: 43801 | R22: 1100 | S22: 0 | T22: 1100 | U22: 成行 | W22: 不可能 | X22: 不可能
A23: 4448 | B23: Ｍ－Ｃｈａｔｗｏｒｋ | C23: 東証 | D23: 1187 | E23: 1156 | F23: 31 | G23: 0.0268 | H23: 107 | I23: 完了 | J23: 全部約定 | K23: 信用新規買 | L23: 特定預り | M23: 1199 | N23: ワンショット | O23: 19/12/02 09:29 | P23: 当日中 | Q23: 43801 | R23: 100 | S23: 0 | T23: 100 | U23: 成行 | W23: 不可能 | X23: 不可能
A24: 4448 | B24: Ｍ－Ｃｈａｔｗｏｒｋ | C24: 東証 | D24: 1187 | E24: 1156 | F24: 31 | G24: 0.0268 | H24: 106 | I24: 完了 | J24: 全部約定 | K24: 信用新規買 | L24: 特定預り | M24: 1199 | N24: ワンショット | O24: 19/12/02 09:29 | P24: 当日中 | Q24: 43801 | R24: 100 | S24: 0 | T24: 100 | U24: 成行 | W24: 不可能 | X24: 不可能
A25: 4448 | B25: Ｍ－Ｃｈａｔｗｏｒｋ | C25: 東証 | D25: 1187 | E25: 1156 | F25: 31 | G25: 0.0268 | H25: 105 | I25: 完了 | J25: 全部約定 | K25: 信用新規買 | L25: 特定預り | M25: 1199 | N25: ワンショット | O25: 19/12/02 09:29 | P25: 当日中 | Q25: 43801 | R25: 100 | S25: 0 | T25: 100 | U25: 成行 | W25: 不可能 | X25: 不可能
A26: 4448 | B26: Ｍ－Ｃｈａｔｗｏｒｋ | C26: 東証 | D26: 1187 | E26: 1156 | F26: 31 | G26: 0.0268 | H26: 104 | I26: 完了 | J26: 全部約定 | K26: 信用新規買 | L26: 特定預り | M26: 1199 | N26: ワンショット | O26: 19/12/02 09:29 | P26: 当日中 | Q26: 43801 | R26: 100 | S26: 0 | T26: 100 | U26: 成行 | W26: 不可能 | X26: 不可能
A27: 4448 | B27: Ｍ－Ｃｈａｔｗｏｒｋ | C27: 東証 | D27: 1187 | E27: 1156 | F27: 31 | G27: 0.0268 | H27: 103 | I27: 完了 | J27: 全部約定 | K27: 信用新規買 | L27: 特定預り | M27: 1199 | N27: ワンショット | O27: 19/12/02 09:29 | P27: 当日中 | Q27: 43801 | R27: 100 | S27: 0 | T27: 100 | U27: 成行 | W27: 不可能 | X27: 不可能
A28: 4448 | B28: Ｍ－Ｃｈａｔｗｏｒｋ | C28: 東証 | D28: 1187 | E28: 1156 | F28: 31 | G28: 0.0268 | H28: 102 | I28: 完了 | J28: 全部約定 | K28: 信用新規買 | L28: 特定預り | M28: 1199 | N28: ワンショット | O28: 19/12/02 09:29 | P28: 当日中 | Q28: 43801 | R28: 100 | S28: 0 | T28: 100 | U28: 成行 | W28: 不可能 | X28: 不可能
A29: 4448 | B29: Ｍ－Ｃｈａｔｗｏｒｋ | C29: 東証 | D29: 1187 | E29: 1156 | F29: 31 | G29: 0.0268 | H29: 101 | I29: 完了 | J29: 全部約定 | K29: 信用新規買 | L29: 特定預り | M29: 1199 | N29: ワンショット | O29: 19/12/02 09:29 | P29: 当日中 | Q29: 43801 | R29: 100 | S29: 0 | T29: 100 | U29: 成行 | W29: 不可能 | X29: 不可能
A30: 4448 | B30: Ｍ－Ｃｈａｔｗｏｒｋ | C30: 東証 | D30: 1187 | E30: 1156 | F30: 31 | G30: 0.0268 | H30: 100 | I30: 完了 | J30: 全部約定 | K30: 信用新規買 | L30: 特定預り | M30: 1198 | N30: ワンショット | O30: 19/12/02 09:29 | P30: 当日中 | Q30: 43801 | R30: 100 | S30: 0 | T30: 100 | U30: 成行 | W30: 不可能 | X30: 不可能
A31: 4448 | B31: Ｍ－Ｃｈａｔｗｏｒｋ | C31: 東証 | D31: 1187 | E31: 1156 | F31: 31 | G31: 0.0268 | H31: 99 | I31: 完了 | J31: 全部約定 | K31: 信用新規買 | L31: 特定預り | M31: 1198 | N31: ワンショット | O31: 19/12/02 09:29 | P31: 当日中 | Q31: 43801 | R31: 100 | S31: 0 | T31: 100 | U31: 成行 | W31: 不可能 | X31: 不可能
A32: 4448 | B32: Ｍ－Ｃｈａｔｗｏｒｋ | C32: 東証 | D32: 1187 | E32: 1156 | F32: 31 | G32: 0.0268 | H32: 98 | I32: 完了 | J32: 全部約定 | K32: 信用新規買 | L32: 特定預り | M32: 1198 | N32: ワンショット | O32: 19/12/02 09:29 | P32: 当日中 | Q32: 43801 | R32: 100 | S32: 0 | T32: 100 | U32: 成行 | W32: 不可能 | X32: 不可能
A33: 4448 | B33: Ｍ－Ｃｈａｔｗｏｒｋ | C33: 東証 | D33: 1187 | E33: 1156 | F33: 31 | G33: 0.0268 | H33: 97 | I33: 完了 | J33: 全部約定 | K33: 信用新規買 | L33: 特定預り | M33: 1198 | N33: ワンショット | O33: 19/12/02 09:29 | P33: 当日中 | Q33: 43801 | R33: 100 | S33: 0 | T33: 100 | U33: 成行 | W33: 不可能 | X33: 不可能
A34: 4476 | B34: Ｍ－ＡＩ ＣＲＯＳＳ | C34: 東証 | D34: 2469 | E34: 2355 | F34: 114 | G34: 0.0484 | H34: 96 | I34: 完了 | J34: 全部約定 | K34: 信用返済売 | M34: 2442.6 | N34: ワンショット | O34: 19/12/02 09:06 | P34: 当日中 | Q34: 43801 | R34: 500 | S34: 0 | T34: 500 | U34: 成行 | W34: 不可能 | X34: 不可能
A35: 4476 | B35: Ｍ－ＡＩ ＣＲＯＳＳ | C35: 東証 | D35: 2469 | E35: 2355 | F35: 114 | G35: 0.0484 | H35: 95 | I35: 完了 | J35: 全部約定 | K35: 信用新規買 | L35: 特定預り | M35: 2426 | N35: ワンショット | O35: 19/12/02 09:04 | P35: 当日中 | Q35: 43801 | R35: 100 | S35: 0 | T35: 100 | U35: 成行 | W35: 不可能 | X35: 不可能
A36: 4476 | B36: Ｍ－ＡＩ ＣＲＯＳＳ | C36: 東証 | D36: 2469 | E36: 2355 | F36: 114 | G36: 0.0484 | H36: 94 | I36: 完了 | J36: 全部約定 | K36: 信用新規買 | L36: 特定預り | M36: 2426 | N36: ワンショット | O36: 19/12/02 09:04 | P36: 当日中 | Q36: 43801 | R36: 100 | S36: 0 | T36: 100 | U36: 成行 | W36: 不可能 | X36: 不可能
A37: 4476 | B37: Ｍ－ＡＩ ＣＲＯＳＳ | C37: 東証 | D37: 2469 | E37: 2355 | F37: 114 | G37: 0.0484 | H37: 93 | I37: 完了 | J37: 全部約定 | K37: 信用新規買 | L37: 特定預り | M37: 2426 | N37: ワンショット | O37: 19/12/02 09:04 | P37: 当日中 | Q37: 43801 | R37: 100 | S37: 0 | T37: 100 | U37: 成行 | W37: 不可能 | X37: 不可能
A38: 4476 | B38: Ｍ－ＡＩ ＣＲＯＳＳ | C38: 東証 | D38: 2469 | E38: 2355 | F38: 114 | G38: 0.0484 | H38: 92 | I38: 完了 | J38: 全部約定 | K38: 信用新規買 | L38: 特定預り | M38: 2425 | N38: ワンショット | O38: 19/12/02 09:04 | P38: 当日中 | Q38: 43801 | R38: 100 | S38: 0 | T38: 100 | U38: 成行 | W38: 不可能 | X38: 不可能
A39: 4476 | B39: Ｍ－ＡＩ ＣＲＯＳＳ | C39: 東証 | D39: 2469 | E39: 2355 | F39: 114 | G39: 0.0484 | H39: 91 | I39: 完了 | J39: 全部約定 | K39: 信用新規買 | L39: 特定預り | M39: 2427 | N39: ワンショット | O39: 19/12/02 09:04 | P39: 当日中 | Q39: 43801 | R39: 100 | S39: 0 | T39: 100 | U39: 成行 | W39: 不可能 | X39: 不可能
A40: 3672 | B40: オルトプラス | C40: 東証 | D40: 805 | E40: 796 | F40: 9 | G40: 0.0113 | H40: 90 | I40: 取消完了 | J40: 未約定 | K40: 信用新規買 | L40: 特定預り | N40: ワンショット | O40: 19/12/01 18:25 | P40: 当日中 | Q40: 43801 | R40: 100 | S40: 0 | T40: 0 | U40: 成行 | W40: 不可能 | X40: 不可能
A41: ***END*** | B41: ***END*** | C41: ***END*** | D41: ***END*** | E41: ***END*** | F41: ***END*** | G41: ***END*** | H41: ***END*** | I41: ***END*** | J41: ***END*** | K41: ***END*** | L41: ***END*** | M41: ***END*** | N41: ***END*** | O41: ***END*** | P41: ***END*** | Q41: ***END*** | R41: ***END*** | S41: ***END*** | T41: ***END*** | U41: ***END*** | V41: ***END*** | W41: ***END*** | X41: ***END***
A42: 6838 | B42: Ｊ－多摩川ＨＤ | C42: 東証 | D42: 2101 | E42: 2093 | F42: 8 | G42: 0.0038 | H42: 49 | I42: 完了 | J42: 全部約定 | K42: 信用新規買 | L42: 特定預り | M42: 2134 | N42: ワンショット | O42: 19/11/29 09:00 | P42: 当日中 | Q42: 43798 | R42: 100 | S42: 0 | T42: 100 | U42: 逆指値 | W42: 不可能 | X42: 不可能
A43: 7600 | B43: ＭＤＭ | C43: 東証 | D43: 2324 | E43: 2260 | F43: 64 | G43: 0.0283 | H43: 48 | I43: 完了 | J43: 全部約定 | K43: 信用返済売 | M43: 2297 | N43: ワンショット | O43: 19/11/29 08:26 | P43: 当日中 | Q43: 43798 | R43: 100 | S43: 0 | T43: 100 | U43: 成行 | W43: 不可能 | X43: 不可能
A44: 6550 | B44: Ｍ－Ｆｒｉｎｇｅ８１ | C44: 東証 | D44: 978 | E44: 1020 | F44: -42 | G44: -0.0412 | H44: 47 | I44: 完了 | J44: 全部約定 | K44: 信用返済売 | M44: 1010 | N44: ワンショット | O44: 19/11/29 08:25 | P44: 当日中 | Q44: 43798 | R44: 300 | S44: 0 | T44: 300 | U44: 成行 | W44: 不可能 | X44: 不可能
A45: ***END*** | B45: ***END*** | C45: ***END*** | D45: ***END*** | E45: ***END*** | F45: ***END*** | G45: ***END*** | H45: ***END*** | I45: ***END*** | J45: ***END*** | K45: ***END*** | L45: ***END*** | M45: ***END*** | N45: ***END*** | O45: ***END*** | P45: ***END*** | Q45: ***END*** | R45: ***END*** | S45: ***END*** | T45: ***END*** | U45: ***END*** | V45: ***END*** | W45: ***END*** | X45: ***END***

Sheet 約定一覧
A1: =[1]!ORDQUERY("2",A3,A4) -> #N/A | B1: =[1]!ORDQUERY("2",B3,B4) -> #N/A | C1: =[1]!ORDQUERY("2",C3,C4) -> #N/A | D1: =[1]!ORDQUERY("2",D3,D4) -> #N/A | E1: =[1]!ORDQUERY("2",E3,E4) -> #N/A | F1: =[1]!ORDQUERY("2",F3,F4) -> #N/A | G1: =[1]!ORDQUERY("2",G3,G4) -> #N/A | H1: =[1]!ORDQUERY("2",H3,H4) -> #N/A | ... T1: =[1]!ORDQUERY("2",T3,T4) -> #N/A
A2: 当日約定一覧
A3: 銘柄コード | B3: 銘柄名 | C3: 執行市場 | D3: 現在値 | E3: 注文番号 | F3: 注文状態 | G3: 約定状態 | H3: 預り区分 | I3: 平均約定単価 | J3: 受付日時 | K3: 有効期間 | L3: 有効日付 | M3: 注文株数 | N3: 未約定株数 | O3: 約定株数 | P3: 執行条件 | Q3: 注文単価 | R3: 取消可能状態 | S3: 訂正可能状態 | T3: 売買 | U3: ソートキー | V3: 概算受渡金額
A4: 2914 | B4: ＪＴ | C4: 東証 | D4: 2517.5 | E4: 126 | F4: 完了 | G4: 全部約定 | H4: 特定預り | I4: 2517.5 | J4: 19/12/02 10:54 | K4: 当日中 | L4: 12/02 | M4: 100 | N4: 0 | O4: 100 | P4: 成行 | R4: 不可能 | S4: 不可能 | T4: 信用新規買 | U4: =IF(T4="株式現物買",1,IF(T4="株式現物売",2,IF(T4="信用新規買",3,IF(T4="信用返済売",4,IF(T4="信用新規売",5,6))))) -> 3 | V4: =IF(RIGHT(TRIM(T4),1)="買",-I4,I4)*O4 -> -251750
A5: 6619 | B5: ＷＳＣＯＰＥ | C5: 東証 | D5: 834 | E5: 125 | F5: 完了 | G5: 全部約定 | I5: 809.1 | J5: 19/12/02 09:53 | K5: 当日中 | L5: 12/02 | M5: 1600 | N5: 0 | O5: 1600 | P5: 成行 | R5: 不可能 | S5: 不可能 | T5: 信用返済売 | U5: =IF(T5="株式現物買",1,IF(T5="株式現物売",2,IF(T5="信用新規買",3,IF(T5="信用返済売",4,IF(T5="信用新規売",5,6))))) -> 4 | V5: =IF(RIGHT(TRIM(T5),1)="買",-I5,I5)*O5 -> 1294560
A6: 6619 | B6: ＷＳＣＯＰＥ | C6: 東証 | D6: 834 | E6: 124 | F6: 完了 | G6: 全部約定 | H6: 特定預り | I6: 809 | J6: 19/12/02 09:52 | K6: 当日中 | L6: 12/02 | M6: 100 | N6: 0 | O6: 100 | P6: 成行 | R6: 不可能 | S6: 不可能 | T6: 信用新規買 | U6: =IF(T6="株式現物買",1,IF(T6="株式現物売",2,IF(T6="信用新規買",3,IF(T6="信用返済売",4,IF(T6="信用新規売",5,6))))) -> 3 | V6: =IF(RIGHT(TRIM(T6),1)="買",-I6,I6)*O6 -> -80900
A7: 6619 | B7: ＷＳＣＯＰＥ | C7: 東証 | D7: 834 | E7: 123 | F7: 完了 | G7: 全部約定 | H7: 特定預り | I7: 809 | J7: 19/12/02 09:52 | K7: 当日中 | L7: 12/02 | M7: 100 | N7: 0 | O7: 100 | P7: 成行 | R7: 不可能 | S7: 不可能 | T7: 信用新規買 | U7: =IF(T7="株式現物買",1,IF(T7="株式現物売",2,IF(T7="信用新規買",3,IF(T7="信用返済売",4,IF(T7="信用新規売",5,6))))) -> 3 | V7: =IF(RIGHT(TRIM(T7),1)="買",-I7,I7)*O7 -> -80900
A8: 6619 | B8: ＷＳＣＯＰＥ | C8: 東証 | D8: 834 | E8: 122 | F8: 完了 | G8: 全部約定 | H8: 特定預り | I8: 809 | J8: 19/12/02 09:52 | K8: 当日中 | L8: 12/02 | M8: 100 | N8: 0 | O8: 100 | P8: 成行 | R8: 不可能 | S8: 不可能 | T8: 信用新規買 | U8: =IF(T8="株式現物買",1,IF(T8="株式現物売",2,IF(T8="信用新規買",3,IF(T8="信用返済売",4,IF(T8="信用新規売",5,6))))) -> 3 | V8: =IF(RIGHT(TRIM(T8),1)="買",-I8,I8)*O8 -> -80900
A9: 6619 | B9: ＷＳＣＯＰＥ | C9: 東証 | D9: 834 | E9: 121 | F9: 完了 | G9: 全部約定 | H9: 特定預り | I9: 809 | J9: 19/12/02 09:52 | K9: 当日中 | L9: 12/02 | M9: 100 | N9: 0 | O9: 100 | P9: 成行 | R9: 不可能 | S9: 不可能 | T9: 信用新規買 | U9: =IF(T9="株式現物買",1,IF(T9="株式現物売",2,IF(T9="信用新規買",3,IF(T9="信用返済売",4,IF(T9="信用新規売",5,6))))) -> 3 | V9: =IF(RIGHT(TRIM(T9),1)="買",-I9,I9)*O9 -> -80900
A10: 6619 | B10: ＷＳＣＯＰＥ | C10: 東証 | D10: 834 | E10: 120 | F10: 完了 | G10: 全部約定 | H10: 特定預り | I10: 809 | J10: 19/12/02 09:52 | K10: 当日中 | L10: 12/02 | M10: 100 | N10: 0 | O10: 100 | P10: 成行 | R10: 不可能 | S10: 不可能 | T10: 信用新規買 | U10: =IF(T10="株式現物買",1,IF(T10="株式現物売",2,IF(T10="信用新規買",3,IF(T10="信用返済売",4,IF(T10="信用新規売",5,6))))) -> 3 | V10: =IF(RIGHT(TRIM(T10),1)="買",-I10,I10)*O10 -> -80900
A11: 6619 | B11: ＷＳＣＯＰＥ | C11: 東証 | D11: 834 | E11: 119 | F11: 完了 | G11: 全部約定 | H11: 特定預り | I11: 809 | J11: 19/12/02 09:52 | K11: 当日中 | L11: 12/02 | M11: 100 | N11: 0 | O11: 100 | P11: 成行 | R11: 不可能 | S11: 不可能 | T11: 信用新規買 | U11: =IF(T11="株式現物買",1,IF(T11="株式現物売",2,IF(T11="信用新規買",3,IF(T11="信用返済売",4,IF(T11="信用新規売",5,6))))) -> 3 | V11: =IF(RIGHT(TRIM(T11),1)="買",-I11,I11)*O11 -> -80900
A12: 6619 | B12: ＷＳＣＯＰＥ | C12: 東証 | D12: 834 | E12: 118 | F12: 完了 | G12: 全部約定 | H12: 特定預り | I12: 809 | J12: 19/12/02 09:52 | K12: 当日中 | L12: 12/02 | M12: 100 | N12: 0 | O12: 100 | P12: 成行 | R12: 不可能 | S12: 不可能 | T12: 信用新規買 | U12: =IF(T12="株式現物買",1,IF(T12="株式現物売",2,IF(T12="信用新規買",3,IF(T12="信用返済売",4,IF(T12="信用新規売",5,6))))) -> 3 | V12: =IF(RIGHT(TRIM(T12),1)="買",-I12,I12)*O12 -> -80900
A13: 6619 | B13: ＷＳＣＯＰＥ | C13: 東証 | D13: 834 | E13: 117 | F13: 完了 | G13: 全部約定 | H13: 特定預り | I13: 809 | J13: 19/12/02 09:52 | K13: 当日中 | L13: 12/02 | M13: 100 | N13: 0 | O13: 100 | P13: 成行 | R13: 不可能 | S13: 不可能 | T13: 信用新規買 | U13: =IF(T13="株式現物買",1,IF(T13="株式現物売",2,IF(T13="信用新規買",3,IF(T13="信用返済売",4,IF(T13="信用新規売",5,6))))) -> 3 | V13: =IF(RIGHT(TRIM(T13),1)="買",-I13,I13)*O13 -> -80900
A14: 6619 | B14: ＷＳＣＯＰＥ | C14: 東証 | D14: 834 | E14: 116 | F14: 完了 | G14: 全部約定 | H14: 特定預り | I14: 809 | J14: 19/12/02 09:52 | K14: 当日中 | L14: 12/02 | M14: 100 | N14: 0 | O14: 100 | P14: 成行 | R14: 不可能 | S14: 不可能 | T14: 信用新規買 | U14: =IF(T14="株式現物買",1,IF(T14="株式現物売",2,IF(T14="信用新規買",3,IF(T14="信用返済売",4,IF(T14="信用新規売",5,6))))) -> 3 | V14: =IF(RIGHT(TRIM(T14),1)="買",-I14,I14)*O14 -> -80900
A15: 6619 | B15: ＷＳＣＯＰＥ | C15: 東証 | D15: 834 | E15: 115 | F15: 完了 | G15: 全部約定 | H15: 特定預り | I15: 809 | J15: 19/12/02 09:52 | K15: 当日中 | L15: 12/02 | M15: 100 | N15: 0 | O15: 100 | P15: 成行 | R15: 不可能 | S15: 不可能 | T15: 信用新規買 | U15: =IF(T15="株式現物買",1,IF(T15="株式現物売",2,IF(T15="信用新規買",3,IF(T15="信用返済売",4,IF(T15="信用新規売",5,6))))) -> 3 | V15: =IF(RIGHT(TRIM(T15),1)="買",-I15,I15)*O15 -> -80900
A16: 6619 | B16: ＷＳＣＯＰＥ | C16: 東証 | D16: 834 | E16: 114 | F16: 完了 | G16: 全部約定 | H16: 特定預り | I16: 809 | J16: 19/12/02 09:52 | K16: 当日中 | L16: 12/02 | M16: 100 | N16: 0 | O16: 100 | P16: 成行 | R16: 不可能 | S16: 不可能 | T16: 信用新規買 | U16: =IF(T16="株式現物買",1,IF(T16="株式現物売",2,IF(T16="信用新規買",3,IF(T16="信用返済売",4,IF(T16="信用新規売",5,6))))) -> 3 | V16: =IF(RIGHT(TRIM(T16),1)="買",-I16,I16)*O16 -> -80900
A17: 6619 | B17: ＷＳＣＯＰＥ | C17: 東証 | D17: 834 | E17: 113 | F17: 完了 | G17: 全部約定 | H17: 特定預り | I17: 810 | J17: 19/12/02 09:52 | K17: 当日中 | L17: 12/02 | M17: 100 | N17: 0 | O17: 100 | P17: 成行 | R17: 不可能 | S17: 不可能 | T17: 信用新規買 | U17: =IF(T17="株式現物買",1,IF(T17="株式現物売",2,IF(T17="信用新規買",3,IF(T17="信用返済売",4,IF(T17="信用新規売",5,6))))) -> 3 | V17: =IF(RIGHT(TRIM(T17),1)="買",-I17,I17)*O17 -> -81000
... A21: 6619 | B21: ＷＳＣＯＰＥ | C21: 東証 | D21: 834 | E21: 109 | F21: 完了 | G21: 全部約定 | H21: 特定預り | I21: 809 | J21: 19/12/02 09:52 | K21: 当日中 | L21: 12/02 | M21: 100 | N21: 0 | O21: 100 | P21: 成行 | R21: 不可能 | S21: 不可能 | T21: 信用新規買 | U21: =IF(T21="株式現物買",1,IF(T21="株式現物売",2,IF(T21="信用新規買",3,IF(T21="信用返済売",4,IF(T21="信用新規売",5,6))))) -> 3 | V21: =IF(RIGHT(TRIM(T21),1)="買",-I21,I21)*O21 -> -80900
A22: 4448 | B22: Ｍ－Ｃｈａｔｗｏｒｋ | C22: 東証 | D22: 1187 | E22: 108 | F22: 完了 | G22: 全部約定 | I22: 1194 | J22: 19/12/02 09:30 | K22: 当日中 | L22: 12/02 | M22: 1100 | N22: 0 | O22: 1100 | P22: 成行 | R22: 不可能 | S22: 不可能 | T22: 信用返済売 | U22: =IF(T22="株式現物買",1,IF(T22="株式現物売",2,IF(T22="信用新規買",3,IF(T22="信用返済売",4,IF(T22="信用新規売",5,6))))) -> 4 | V22: =IF(RIGHT(TRIM(T22),1)="買",-I22,I22)*O22 -> 1313400
A23: 4448 | B23: Ｍ－Ｃｈａｔｗｏｒｋ | C23: 東証 | D23: 1187 | E23: 107 | F23: 完了 | G23: 全部約定 | H23: 特定預り | I23: 1199 | J23: 19/12/02 09:29 | K23: 当日中 | L23: 12/02 | M23: 100 | N23: 0 | O23: 100 | P23: 成行 | R23: 不可能 | S23: 不可能 | T23: 信用新規買 | U23: =IF(T23="株式現物買",1,IF(T23="株式現物売",2,IF(T23="信用新規買",3,IF(T23="信用返済売",4,IF(T23="信用新規売",5,6))))) -> 3 | V23: =IF(RIGHT(TRIM(T23),1)="買",-I23,I23)*O23 -> -119900
A24: 4448 | B24: Ｍ－Ｃｈａｔｗｏｒｋ | C24: 東証 | D24: 1187 | E24: 106 | F24: 完了 | G24: 全部約定 | H24: 特定預り | I24: 1199 | J24: 19/12/02 09:29 | K24: 当日中 | L24: 12/02 | M24: 100 | N24: 0 | O24: 100 | P24: 成行 | R24: 不可能 | S24: 不可能 | T24: 信用新規買 | U24: =IF(T24="株式現物買",1,IF(T24="株式現物売",2,IF(T24="信用新規買",3,IF(T24="信用返済売",4,IF(T24="信用新規売",5,6))))) -> 3 | V24: =IF(RIGHT(TRIM(T24),1)="買",-I24,I24)*O24 -> -119900
A25: 4448 | B25: Ｍ－Ｃｈａｔｗｏｒｋ | C25: 東証 | D25: 1187 | E25: 105 | F25: 完了 | G25: 全部約定 | H25: 特定預り | I25: 1199 | J25: 19/12/02 09:29 | K25: 当日中 | L25: 12/02 | M25: 100 | N25: 0 | O25: 100 | P25: 成行 | R25: 不可能 | S25: 不可能 | T25: 信用新規買 | U25: =IF(T25="株式現物買",1,IF(T25="株式現物売",2,IF(T25="信用新規買",3,IF(T25="信用返済売",4,IF(T25="信用新規売",5,6))))) -> 3 | V25: =IF(RIGHT(TRIM(T25),1)="買",-I25,I25)*O25 -> -119900
A26: 4448 | B26: Ｍ－Ｃｈａｔｗｏｒｋ | C26: 東証 | D26: 1187 | E26: 104 | F26: 完了 | G26: 全部約定 | H26: 特定預り | I26: 1199 | J26: 19/12/02 09:29 | K26: 当日中 | L26: 12/02 | M26: 100 | N26: 0 | O26: 100 | P26: 成行 | R26: 不可能 | S26: 不可能 | T26: 信用新規買 | U26: =IF(T26="株式現物買",1,IF(T26="株式現物売",2,IF(T26="信用新規買",3,IF(T26="信用返済売",4,IF(T26="信用新規売",5,6))))) -> 3 | V26: =IF(RIGHT(TRIM(T26),1)="買",-I26,I26)*O26 -> -119900
A27: 4448 | B27: Ｍ－Ｃｈａｔｗｏｒｋ | C27: 東証 | D27: 1187 | E27: 103 | F27: 完了 | G27: 全部約定 | H27: 特定預り | I27: 1199 | J27: 19/12/02 09:29 | K27: 当日中 | L27: 12/02 | M27: 100 | N27: 0 | O27: 100 | P27: 成行 | R27: 不可能 | S27: 不可能 | T27: 信用新規買 | U27: =IF(T27="株式現物買",1,IF(T27="株式現物売",2,IF(T27="信用新規買",3,IF(T27="信用返済売",4,IF(T27="信用新規売",5,6))))) -> 3 | V27: =IF(RIGHT(TRIM(T27),1)="買",-I27,I27)*O27 -> -119900
A28: 4448 | B28: Ｍ－Ｃｈａｔｗｏｒｋ | C28: 東証 | D28: 1187 | E28: 102 | F28: 完了 | G28: 全部約定 | H28: 特定預り | I28: 1199 | J28: 19/12/02 09:29 | K28: 当日中 | L28: 12/02 | M28: 100 | N28: 0 | O28: 100 | P28: 成行 | R28: 不可能 | S28: 不可能 | T28: 信用新規買 | U28: =IF(T28="株式現物買",1,IF(T28="株式現物売",2,IF(T28="信用新規買",3,IF(T28="信用返済売",4,IF(T28="信用新規売",5,6))))) -> 3 | V28: =IF(RIGHT(TRIM(T28),1)="買",-I28,I28)*O28 -> -119900
A29: 4448 | B29: Ｍ－Ｃｈａｔｗｏｒｋ | C29: 東証 | D29: 1187 | E29: 101 | F29: 完了 | G29: 全部約定 | H29: 特定預り | I29: 1199 | J29: 19/12/02 09:29 | K29: 当日中 | L29: 12/02 | M29: 100 | N29: 0 | O29: 100 | P29: 成行 | R29: 不可能 | S29: 不可能 | T29: 信用新規買 | U29: =IF(T29="株式現物買",1,IF(T29="株式現物売",2,IF(T29="信用新規買",3,IF(T29="信用返済売",4,IF(T29="信用新規売",5,6))))) -> 3 | V29: =IF(RIGHT(TRIM(T29),1)="買",-I29,I29)*O29 -> -119900
A30: 4448 | B30: Ｍ－Ｃｈａｔｗｏｒｋ | C30: 東証 | D30: 1187 | E30: 100 | F30: 完了 | G30: 全部約定 | H30: 特定預り | I30: 1198 | J30: 19/12/02 09:29 | K30: 当日中 | L30: 12/02 | M30: 100 | N30: 0 | O30: 100 | P30: 成行 | R30: 不可能 | S30: 不可能 | T30: 信用新規買 | U30: =IF(T30="株式現物買",1,IF(T30="株式現物売",2,IF(T30="信用新規買",3,IF(T30="信用返済売",4,IF(T30="信用新規売",5,6))))) -> 3 | V30: =IF(RIGHT(TRIM(T30),1)="買",-I30,I30)*O30 -> -119800
A31: 4448 | B31: Ｍ－Ｃｈａｔｗｏｒｋ | C31: 東証 | D31: 1187 | E31: 99 | F31: 完了 | G31: 全部約定 | H31: 特定預り | I31: 1198 | J31: 19/12/02 09:29 | K31: 当日中 | L31: 12/02 | M31: 100 | N31: 0 | O31: 100 | P31: 成行 | R31: 不可能 | S31: 不可能 | T31: 信用新規買 | U31: =IF(T31="株式現物買",1,IF(T31="株式現物売",2,IF(T31="信用新規買",3,IF(T31="信用返済売",4,IF(T31="信用新規売",5,6))))) -> 3 | V31: =IF(RIGHT(TRIM(T31),1)="買",-I31,I31)*O31 -> -119800
A32: 4448 | B32: Ｍ－Ｃｈａｔｗｏｒｋ | C32: 東証 | D32: 1187 | E32: 98 | F32: 完了 | G32: 全部約定 | H32: 特定預り | I32: 1198 | J32: 19/12/02 09:29 | K32: 当日中 | L32: 12/02 | M32: 100 | N32: 0 | O32: 100 | P32: 成行 | R32: 不可能 | S32: 不可能 | T32: 信用新規買 | U32: =IF(T32="株式現物買",1,IF(T32="株式現物売",2,IF(T32="信用新規買",3,IF(T32="信用返済売",4,IF(T32="信用新規売",5,6))))) -> 3 | V32: =IF(RIGHT(TRIM(T32),1)="買",-I32,I32)*O32 -> -119800
A33: 4448 | B33: Ｍ－Ｃｈａｔｗｏｒｋ | C33: 東証 | D33: 1187 | E33: 97 | F33: 完了 | G33: 全部約定 | H33: 特定預り | I33: 1198 | J33: 19/12/02 09:29 | K33: 当日中 | L33: 12/02 | M33: 100 | N33: 0 | O33: 100 | P33: 成行 | R33: 不可能 | S33: 不可能 | T33: 信用新規買 | U33: =IF(T33="株式現物買",1,IF(T33="株式現物売",2,IF(T33="信用新規買",3,IF(T33="信用返済売",4,IF(T33="信用新規売",5,6))))) -> 3 | V33: =IF(RIGHT(TRIM(T33),1)="買",-I33,I33)*O33 -> -119800
A34: 4476 | B34: Ｍ－ＡＩ ＣＲＯＳＳ | C34: 東証 | D34: 2469 | E34: 96 | F34: 完了 | G34: 全部約定 | I34: 2442.6 | J34: 19/12/02 09:06 | K34: 当日中 | L34: 12/02 | M34: 500 | N34: 0 | O34: 500 | P34: 成行 | R34: 不可能 | S34: 不可能 | T34: 信用返済売 | U34: =IF(T34="株式現物買",1,IF(T34="株式現物売",2,IF(T34="信用新規買",3,IF(T34="信用返済売",4,IF(T34="信用新規売",5,6))))) -> 4 | V34: =IF(RIGHT(TRIM(T34),1)="買",-I34,I34)*O34 -> 1221300
A35: 4476 | B35: Ｍ－ＡＩ ＣＲＯＳＳ | C35: 東証 | D35: 2469 | E35: 95 | F35: 完了 | G35: 全部約定 | H35: 特定預り | I35: 2426 | J35: 19/12/02 09:04 | K35: 当日中 | L35: 12/02 | M35: 100 | N35: 0 | O35: 100 | P35: 成行 | R35: 不可能 | S35: 不可能 | T35: 信用新規買 | U35: =IF(T35="株式現物買",1,IF(T35="株式現物売",2,IF(T35="信用新規買",3,IF(T35="信用返済売",4,IF(T35="信用新規売",5,6))))) -> 3 | V35: =IF(RIGHT(TRIM(T35),1)="買",-I35,I35)*O35 -> -242600
A36: 4476 | B36: Ｍ－ＡＩ ＣＲＯＳＳ | C36: 東証 | D36: 2469 | E36: 94 | F36: 完了 | G36: 全部約定 | H36: 特定預り | I36: 2426 | J36: 19/12/02 09:04 | K36: 当日中 | L36: 12/02 | M36: 100 | N36: 0 | O36: 100 | P36: 成行 | R36: 不可能 | S36: 不可能 | T36: 信用新規買 | U36: =IF(T36="株式現物買",1,IF(T36="株式現物売",2,IF(T36="信用新規買",3,IF(T36="信用返済売",4,IF(T36="信用新規売",5,6))))) -> 3 | V36: =IF(RIGHT(TRIM(T36),1)="買",-I36,I36)*O36 -> -242600
A37: 4476 | B37: Ｍ－ＡＩ ＣＲＯＳＳ | C37: 東証 | D37: 2469 | E37: 93 | F37: 完了 | G37: 全部約定 | H37: 特定預り | I37: 2426 | J37: 19/12/02 09:04 | K37: 当日中 | L37: 12/02 | M37: 100 | N37: 0 | O37: 100 | P37: 成行 | R37: 不可能 | S37: 不可能 | T37: 信用新規買 | U37: =IF(T37="株式現物買",1,IF(T37="株式現物売",2,IF(T37="信用新規買",3,IF(T37="信用返済売",4,IF(T37="信用新規売",5,6))))) -> 3 | V37: =IF(RIGHT(TRIM(T37),1)="買",-I37,I37)*O37 -> -242600
A38: 4476 | B38: Ｍ－ＡＩ ＣＲＯＳＳ | C38: 東証 | D38: 2469 | E38: 92 | F38: 完了 | G38: 全部約定 | H38: 特定預り | I38: 2425 | J38: 19/12/02 09:04 | K38: 当日中 | L38: 12/02 | M38: 100 | N38: 0 | O38: 100 | P38: 成行 | R38: 不可能 | S38: 不可能 | T38: 信用新規買 | U38: =IF(T38="株式現物買",1,IF(T38="株式現物売",2,IF(T38="信用新規買",3,IF(T38="信用返済売",4,IF(T38="信用新規売",5,6))))) -> 3 | V38: =IF(RIGHT(TRIM(T38),1)="買",-I38,I38)*O38 -> -242500
A39: 4476 | B39: Ｍ－ＡＩ ＣＲＯＳＳ | C39: 東証 | D39: 2469 | E39: 91 | F39: 完了 | G39: 全部約定 | H39: 特定預り | I39: 2427 | J39: 19/12/02 09:04 | K39: 当日中 | L39: 12/02 | M39: 100 | N39: 0 | O39: 100 | P39: 成行 | R39: 不可能 | S39: 不可能 | T39: 信用新規買 | U39: =IF(T39="株式現物買",1,IF(T39="株式現物売",2,IF(T39="信用新規買",3,IF(T39="信用返済売",4,IF(T39="信用新規売",5,6))))) -> 3 | V39: =IF(RIGHT(TRIM(T39),1)="買",-I39,I39)*O39 -> -242700
A40: ***END*** | B40: ***END*** | C40: ***END*** | D40: ***END*** | E40: ***END*** | F40: ***END*** | G40: ***END*** | H40: ***END*** | I40: ***END*** | J40: ***END*** | K40: ***END*** | L40: ***END*** | M40: ***END*** | N40: ***END*** | O40: ***END*** | P40: ***END*** | Q40: ***END*** | R40: ***END*** | S40: ***END*** | T40: ***END*** | U40: =IF(T40="株式現物買",1,IF(T40="株式現物売",2,IF(T40="信用新規買",3,IF(T40="信用返済売",4,IF(T40="信用新規売",5,6))))) -> 6 | V40: =IF(RIGHT(TRIM(T40),1)="買",-I40,I40)*O40 -> #VALUE!
U41: =IF(T41="株式現物買",1,IF(T41="株式現物売",2,IF(T41="信用新規買",3,IF(T41="信用返済売",4,IF(T41="信用新規売",5,6))))) -> 6 | V41: =IF(RIGHT(TRIM(T41),1)="買",-I41,I41)*O41 -> 0
U42: =IF(T42="株式現物買",1,IF(T42="株式現物売",2,IF(T42="信用新規買",3,IF(T42="信用返済売",4,IF(T42="信用新規売",5,6))))) -> 6 | V42: =IF(RIGHT(TRIM(T42),1)="買",-I42,I42)*O42 -> 0
U43: =IF(T43="株式現物買",1,IF(T43="株式現物売",2,IF(T43="信用新規買",3,IF(T43="信用返済売",4,IF(T43="信用新規売",5,6))))) -> 6 | V43: =IF(RIGHT(TRIM(T43),1)="買",-I43,I43)*O43 -> 0
U44: =IF(T44="株式現物買",1,IF(T44="株式現物売",2,IF(T44="信用新規買",3,IF(T44="信用返済売",4,IF(T44="信用新規売",5,6))))) -> 6 | V44: =IF(RIGHT(TRIM(T44),1)="買",-I44,I44)*O44 -> 0
U45: =IF(T45="株式現物買",1,IF(T45="株式現物売",2,IF(T45="信用新規買",3,IF(T45="信用返済売",4,IF(T45="信用新規売",5,6))))) -> 6 | V45: =IF(RIGHT(TRIM(T45),1)="買",-I45,I45)*O45 -> 0
U46: =IF(T46="株式現物買",1,IF(T46="株式現物売",2,IF(T46="信用新規買",3,IF(T46="信用返済売",4,IF(T46="信用新規売",5,6))))) -> 6 | V46: =IF(RIGHT(TRIM(T46),1)="買",-I46,I46)*O46 -> 0
U47: =IF(T47="株式現物買",1,IF(T47="株式現物売",2,IF(T47="信用新規買",3,IF(T47="信用返済売",4,IF(T47="信用新規売",5,6))))) -> 6 | V47: =IF(RIGHT(TRIM(T47),1)="買",-I47,I47)*O47 -> 0
U48: =IF(T48="株式現物買",1,IF(T48="株式現物売",2,IF(T48="信用新規買",3,IF(T48="信用返済売",4,IF(T48="信用新規売",5,6))))) -> 6 | V48: =IF(RIGHT(TRIM(T48),1)="買",-I48,I48)*O48 -> 0
U49: =IF(T49="株式現物買",1,IF(T49="株式現物売",2,IF(T49="信用新規買",3,IF(T49="信用返済売",4,IF(T49="信用新規売",5,6))))) -> 6 | V49: =IF(RIGHT(TRIM(T49),1)="買",-I49,I49)*O49 -> 0
U50: =IF(T50="株式現物買",1,IF(T50="株式現物売",2,IF(T50="信用新規買",3,IF(T50="信用返済売",4,IF(T50="信用新規売",5,6))))) -> 6 | V50: =IF(RIGHT(TRIM(T50),1)="買",-I50,I50)*O50 -> 0

Sheet 保有
A1: =[1]!POSITION("","0",A3,A4) -> #N/A | B1: =[1]!POSITION("","0",B3,B4) -> #N/A | C1: =[1]!POSITION("","0",C3,C4) -> #N/A | D1: =[1]!POSITION("","0",D3,D4) -> #N/A | E1: =[1]!POSITION("","0",E3,E4) -> #N/A | F1: =[1]!POSITION("","0",F3,F4) -> #N/A | G1: =[1]!POSITION("","0",G3,G4) -> #N/A | H1: =[1]!POSITION("","0",H3,H4) -> #N/A | ... P1: =[1]!POSITION("","0",P3,P4) -> #N/A
A2: 保有照会 | T2: 損切り発注 | X2: 引数エリア
A3: 銘柄コード | B3: 銘柄名 | C3: 市場 | D3: 現在値 | E3: 保有数量 | F3: 注文中数量 | G3: 可能数量 | H3: 約定日付 | I3: 約定数量 | J3: 取得単価 | K3: 取得金額 | L3: 評価金額 | M3: 評価損益額 | N3: 預り区分 | O3: 建売買区分 | P3: 信用諸経費 | Q3: 現在値 | R3: 発注ID | T3: 現物売 | U3: 信用買 | V3: 信用売 | X3: 第4引数 | Y3: 執行条件 | Z3: 0 | AA3: 1：指値、2：寄指、4：引指、6：不成、0：成行、3：寄成、5：引成
A4: 2914 | B4: ＪＴ | C4: 東証 | D4: 2517.5 | E4: 100 | F4: 0 | G4: 100 | H4: 20191202 | J4: 2517.5 | K4: 251750 | L4: 251750 | M4: 0 | N4: 特定預り | O4: 買 | P4: 348 | X4: 第5引数 | Y4: 単価 | Z4: 0 | AA4: 成行の場合は0を指定
A5: ***END*** | B5: ***END*** | C5: ***END*** | D5: ***END*** | E5: ***END*** | F5: ***END*** | G5: ***END*** | H5: ***END*** | I5: ***END*** | J5: ***END*** | K5: ***END*** | L5: ***END*** | M5: ***END*** | N5: ***END*** | O5: ***END*** | P5: ***END*** | X5: 第8引数 | Y5: 期間 | AA5: YYYYMMDD、当日指定、今週指定の場合は省略可能
A6: ***END*** | B6: ***END*** | C6: ***END*** | D6: ***END*** | E6: ***END*** | F6: ***END*** | G6: ***END*** | H6: ***END*** | I6: ***END*** | J6: ***END*** | K6: ***END*** | L6: ***END*** | M6: ***END*** | N6: ***END*** | O6: ***END*** | P6: ***END*** | Q6: =IF(A6="","",[1]!QUOTE(A6,C6,"現在値")) -> 0 | R6: =IF(A6="","",X$28&ROW()-3) -> 1003 | X6: 第11引数 | Y6: 注文画面 | Z6: 0 | AA6: 0：表示あり、１：表示無し
Q7: =IF(A7="","",[1]!QUOTE(A7,C7,"現在値")) | R7: =IF(A7="","",X$28&ROW()-3) | X7: 第12引数 | Y7: パスワード | AA7: 日本株取引パスワード
Q8: =IF(A8="","",[1]!QUOTE(A8,C8,"現在値")) | R8: =IF(A8="","",X$28&ROW()-3)
Q9: =IF(A9="","",[1]!QUOTE(A9,C9,"現在値")) | R9: =IF(A9="","",X$28&ROW()-3) | X9: ロスカット率 | Y9: 0.05
Q10: =IF(A10="","",[1]!QUOTE(A10,C10,"現在値")) | R10: =IF(A10="","",X$28&ROW()-3)
Q11: =IF(A11="","",[1]!QUOTE(A11,C11,"現在値")) | R11: =IF(A11="","",X$28&ROW()-3)
Q12: =IF(A12="","",[1]!QUOTE(A12,C12,"現在値")) | R12: =IF(A12="","",X$28&ROW()-3) | X12: 解説
Q13: =IF(A13="","",[1]!QUOTE(A13,C13,"現在値")) | R13: =IF(A13="","",X$28&ROW()-3) | X13: 保有情報は更新ボタンを押すと更新します
Q14: =IF(A14="","",[1]!QUOTE(A14,C14,"現在値")) | R14: =IF(A14="","",X$28&ROW()-3) | X14: 現在値はリアルタイムで更新されます
Q15: =IF(A15="","",[1]!QUOTE(A15,C15,"現在値")) | R15: =IF(A15="","",X$28&ROW()-3) | X15: 取得単価と現在値を比較して、ロスカット率以上に変動すると損切り発注が「発注待ち」になります
Q16: =IF(A16="","",[1]!QUOTE(A16,C16,"現在値")) | R16: =IF(A16="","",X$28&ROW()-3) | X16: 注文ボタンをクリックし青くすると「注文可能」状態になります
Q17: =IF(A17="","",[1]!QUOTE(A17,C17,"現在値")) | R17: =IF(A17="","",X$28&ROW()-3) | X17: 「発注待ち」のセルが参照している値が更新されるか、「発注待ち」のセルでF2キーを押しエンターキーを押すと注文画面が現れます
Q18: =IF(A18="","",[1]!QUOTE(A18,C18,"現在値")) | R18: =IF(A18="","",X$28&ROW()-3) | X18: 注文内容を確認してから発注してください
Q19: =IF(A19="","",[1]!QUOTE(A19,C19,"現在値")) | R19: =IF(A19="","",X$28&ROW()-3)
Q20: =IF(A20="","",[1]!QUOTE(A20,C20,"現在値")) | R20: =IF(A20="","",X$28&ROW()-3) | X20: 発注関数有効化方法
Q21: =IF(A21="","",[1]!QUOTE(A21,C21,"現在値")) | R21: =IF(A21="","",X$28&ROW()-3) | X21: Z4～AB4の書式を標準にします
Q22: =IF(A22="","",[1]!QUOTE(A22,C22,"現在値")) | R22: =IF(A22="","",X$28&ROW()-3) | X22: Z4、AA4、AB4を１つづつ選びF2キーを押してエンターキーを押します（数式が見えなくなります）
Q23: =IF(A23="","",[1]!QUOTE(A23,C23,"現在値")) | R23: =IF(A23="","",X$28&ROW()-3) | X23: Z4～AB4をZ53～AB53までコピーします
Q24: =IF(A24="","",[1]!QUOTE(A24,C24,"現在値")) | R24: =IF(A24="","",X$28&ROW()-3)
Q25: =IF(A25="","",[1]!QUOTE(A25,C25,"現在値")) | R25: =IF(A25="","",X$28&ROW()-3) | X25: 発注IDの変更
Q26: =IF(A26="","",[1]!QUOTE(A26,C26,"現在値")) | R26: =IF(A26="","",X$28&ROW()-3) | X26: 発注IDは一度使うとExcelを再起動するまで再利用できません。
Q27: =IF(A27="","",[1]!QUOTE(A27,C27,"現在値")) | R27: =IF(A27="","",X$28&ROW()-3) | X27: X列の発注IDを変える場合は以下のAD30セルを変更してください。
Q28: =IF(A28="","",[1]!QUOTE(A28,C28,"現在値")) | R28: =IF(A28="","",X$28&ROW()-3) | X28: 100
Q29: =IF(A29="","",[1]!QUOTE(A29,C29,"現在値")) | R29: =IF(A29="","",X$28&ROW()-3)
Q30: =IF(A30="","",[1]!QUOTE(A30,C30,"現在値")) | R30: =IF(A30="","",X$28&ROW()-3) | X30: 保有情報の更新
Q31: =IF(A31="","",[1]!QUOTE(A31,C31,"現在値")) | R31: =IF(A31="","",X$28&ROW()-3) | X31: 最新の保有情報で監視する場合は以下の「保有情報更新」ボタンを押してください。
Q32: =IF(A32="","",[1]!QUOTE(A32,C32,"現在値")) | R32: =IF(A32="","",X$28&ROW()-3) | X32: このボタンを押すと、注文可能状態の解除、表示エリアの初期化、最新の保有情報取得、発注IDの変更を行います
Q33: =IF(A33="","",[1]!QUOTE(A33,C33,"現在値")) | R33: =IF(A33="","",X$28&ROW()-3) | X33: 再度「注文可能」状態にするときは、注文ボタンをクリックしてください。
Q34: =IF(A34="","",[1]!QUOTE(A34,C34,"現在値")) | R34: =IF(A34="","",X$28&ROW()-3)
Q35: =IF(A35="","",[1]!QUOTE(A35,C35,"現在値")) | R35: =IF(A35="","",X$28&ROW()-3)
Q36: =IF(A36="","",[1]!QUOTE(A36,C36,"現在値")) | R36: =IF(A36="","",X$28&ROW()-3)
Q37: =IF(A37="","",[1]!QUOTE(A37,C37,"現在値")) | R37: =IF(A37="","",X$28&ROW()-3)
Q38: =IF(A38="","",[1]!QUOTE(A38,C38,"現在値")) | R38: =IF(A38="","",X$28&ROW()-3)
Q39: =IF(A39="","",[1]!QUOTE(A39,C39,"現在値")) | R39: =IF(A39="","",X$28&ROW()-3)
Q40: =IF(A40="","",[1]!QUOTE(A40,C40,"現在値")) | R40: =IF(A40="","",X$28&ROW()-3)
Q41: =IF(A41="","",[1]!QUOTE(A41,C41,"現在値")) | R41: =IF(A41="","",X$28&ROW()-3)
Q42: =IF(A42="","",[1]!QUOTE(A42,C42,"現在値")) | R42: =IF(A42="","",X$28&ROW()-3)
Q43: =IF(A43="","",[1]!QUOTE(A43,C43,"現在値")) | R43: =IF(A43="","",X$28&ROW()-3)
Q44: =IF(A44="","",[1]!QUOTE(A44,C44,"現在値")) | R44: =IF(A44="","",X$28&ROW()-3)
Q45: =IF(A45="","",[1]!QUOTE(A45,C45,"現在値")) | R45: =IF(A45="","",X$28&ROW()-3)
... Q51: =IF(A51="","",[1]!QUOTE(A51,C51,"現在値")) | R51: =IF(A51="","",X$28&ROW()-3)

Sheet 注文
A1: 信用注文 | B1: =NOW() -> 43801.62 | C1: 銘柄1 | D1: 銘柄2 | E1: 銘柄3 | F1: 銘柄4 | G1: 銘柄5
A2: =[1]!FX("JPY=X","時刻") -> 0 | B2: 銘柄名 | C2: =[1]!QUOTE(C10,"東証","銘柄名") -> 0 | D2: =[1]!QUOTE(D10,"東証","銘柄名") -> 0 | E2: =[1]!QUOTE(E10,"東証","銘柄名") -> 0 | F2: =[1]!QUOTE(F10,"東証","銘柄名") -> 0 | G2: =[1]!QUOTE(G10,"東証","銘柄名") -> 0
B3: 保有価格 | C3: =VLOOKUP(C10,保有!$A:$J,10,0) -> #N/A | D3: =VLOOKUP(D10,保有!$A:$J,10,0) -> #N/A | E3: =VLOOKUP(E10,保有!$A:$J,10,0) -> #N/A | F3: =VLOOKUP(F10,保有!$A:$J,10,0) -> #N/A | G3: =VLOOKUP(G10,保有!$A:$J,10,0) -> #N/A
B4: 現在値 | C4: =[1]!QUOTE(C10,"","現在値") -> 0 | D4: =[1]!QUOTE(D10,"","現在値") -> 0 | E4: =[1]!QUOTE(E10,"","現在値") -> 0 | F4: =[1]!QUOTE(F10,"","現在値") -> 0 | G4: =[1]!QUOTE(G10,"","現在値") -> 0
B5: 損益 | C5: =(C4-C3)*100 -> #N/A | D5: =(D4-D3)*100 -> #N/A | E5: =(E4-E3)*100 -> #N/A | F5: =(F4-F3)*100 -> #N/A | G5: =(G4-G3)*100 -> #N/A
B6: 当日始値
B7: 現在値 | C7: =[1]!QUOTE(C10,"","現在値") -> 0 | D7: =[1]!QUOTE(D10,"","現在値") -> 0 | E7: =[1]!QUOTE(E10,"","現在値") -> 0 | F7: =[1]!QUOTE(F10,"","現在値") -> 0 | G7: =[1]!QUOTE(G10,"","現在値") -> 0
B8: 発注条件 | C8: =IF($A$2>"08:00",IF($A$2<"15:00",IF(COUNTIF(保有!$A:$E,C10)=0,IF(C6<>"",IF(C6+1<C7,[1]!MARGINORDER(C10,C11,C12,C13,C14,C15,C16,C17,C18,C19,C20,C21,C22,C23,C24,C25,C26),"待ち1"),"待ち2"),"待ち3"),"待ち4"),"待ち5") -> 待ち5 | D8: =IF($A$2>"08:00",IF($A$2<"15:00",IF(COUNTIF(保有!$A:$E,D10)=0,IF(D6<>"",IF(D6+1<D7,[1]!MARGINORDER(D10,D11,D12,D13,D14,D15,D16,D17,D18,D19,D20,D21,D22,D23,D24,D25,D26),"待ち1"),"待ち2"),"待ち3"),"待ち4"),"待ち5") -> 待ち5 | E8: =IF($A$2>"08:00",IF($A$2<"15:00",IF(COUNTIF(保有!$A:$E,E10)=0,IF(E6<>"",IF(E6+1<E7,[1]!MARGINORDER(E10,E11,E12,E13,E14,E15,E16,E17,E18,E19,E20,E21,E22,E23,E24,E25,E26),"待ち1"),"待ち2"),"待ち3"),"待ち4"),"待ち5") -> 待ち5 | F8: =IF($A$2>"08:00",IF($A$2<"15:00",IF(COUNTIF(保有!$A:$E,F10)=0,IF(F6<>"",IF(F6+1<F7,[1]!MARGINORDER(F10,F11,F12,F13,F14,F15,F16,F17,F18,F19,F20,F21,F22,F23,F24,F25,F26),"待ち1"),"待ち2"),"待ち3"),"待ち4"),"待ち5") -> 待ち5 | G8: =IF($A$2>"08:00",IF($A$2<"15:00",IF(COUNTIF(保有!$A:$E,G10)=0,IF(G6<>"",IF(G6+1<G7,[1]!MARGINORDER(G10,G11,G12,G13,G14,G15,G16,G17,G18,G19,G20,G21,G22,G23,G24,G25,G26),"待ち1"),"待ち2"),"待ち3"),"待ち4"),"待ち5") -> 待ち5
A9: 注文
A10: 第1引数 | B10: 銘柄コード
A11: 第2引数 | B11: 市場コード | H11: 東証またはT、大証またはO、HCまたはH、JQまたはJ、省略時は優先市場
A12: 第3引数 | B12: 売買区分 | C12: 3 | D12: 3 | E12: 3 | F12: 3 | G12: 3 | H12: １：売、3：買
A13: 第4引数 | B13: 執行条件 | C13: 0 | D13: 0 | E13: 0 | F13: 0 | G13: 0 | H13: 1：指値、2：寄指、4：引指、6：不成、0：成行、3：寄成、5：引成、7：逆指値
A14: 第5引数 | B14: 単価 | C14: 0 | D14: 0 | E14: 0 | F14: 0 | G14: 0 | H14: 成行の場合は0を指定、逆指値の場合は発火条件価格を指定
A15: 第6引数 | B15: 数量 | C15: 100 | D15: 100 | E15: 100 | F15: 100 | G15: 100 | H15: 数量を指定
A16: 第7引数 | B16: 期間指定 | C16: T | D16: T | E16: T | F16: T | G16: T | H16: T：当日のみ有効、W：今週のみ有効、O：指定日付まで有効
A17: 第8引数 | B17: 期間 | H17: YYYYMMDD、当日指定、今週指定の場合は省略可能
A18: 第9引数 | B18: 預り区分 | C18: 0 | D18: 0 | E18: 0 | F18: 0 | G18: 0 | H18: ０：特定預り、１：一般預り、２：NISA預り、省略可能、省略時は特定口座開設顧客は特定預り、未開設顧客は一般預り
A19: 第10引数 | B19: 注文完了 | C19: 1 | D19: 1 | E19: 1 | F19: 1 | G19: 1 | H19: 0：表示あり、１：表示無し
A20: 第11引数 | B20: 注文画面 | C20: 1 | D20: 1 | E20: 1 | F20: 1 | G20: 1 | H20: 0：表示あり、１：表示無し
A21: 第12引数 | B21: パスワード | H21: 日本株取引パスワード
A22: 第13引数 | B22: 発注ID | C22: =RIGHT(NOW(),5) & C10&"N" -> 84491N | D22: N002 | E22: N003 | F22: N004 | G22: N005 | H22: 重複注文防止用のユニークなコード
A23: 第14引数 | B23: 発注条件 （逆指値） | H23: 執行条件が逆指値の時は下記を設定。 1：指値、4：引指、6：不成、0：成行、5：引成
A24: 第15引数 | B24: 発注単価 （逆指値） | H24: 執行条件が逆指値時に達成後指値価格を設定
A25: 第16引数 | B25: 注文確認省略フラグ | C25: 1 | D25: 1 | E25: 1 | F25: 1 | G25: 1 | H25: 0：表示あり、１：表示無し オプショナル引数にして、指定しない場合は、現行通りの動作
A26: 第17引数 | B26: 注意画面省略フラグ | C26: 1 | D26: 1 | E26: 1 | F26: 1 | G26: 1 | H26: 0：表示あり、１：注意画面を表示せず注文をキャンセル オプショナル引数にして、指定しない場合は、注意画面を表示する
D27: =IFERROR(INDEX($B$8:$B$14,MATCH(LARGE(($A$1:$A$14=#REF!)*1/ROW($A$1:$A$14),COLUMNS($A$1:A$1)),1/ROW($A$1:$A$14),0)),"")
A28: 返済注文 | C28: 銘柄1 | D28: 銘柄2 | E28: 銘柄3 | F28: 銘柄4 | G28: 銘柄5
B29: 銘柄名 | C29: =C2 -> 0 | D29: =D2 -> 0 | E29: =E2 -> 0 | F29: =F2 -> 0 | G29: =G2 -> 0
B30: 発注条件 | C30: =IF(SUMIF(保有!$A:$E,C32,保有!$E:$E)=100,IF(C7<C6,[1]!REPAYMENTORDER(C32,C33,C34,C35,C36,C37,C38,C39,C40,C41,C42,C43,C44,C45,C46,C47,C48,C49,C50),"待ち1"),"待ち2") -> 待ち2 | D30: =IF(SUMIF(保有!$A:$E,D32,保有!$E:$E)=100,IF(D7<D6,[1]!REPAYMENTORDER(D32,D33,D34,D35,D36,D37,D38,D39,D40,D41,D42,D43,D44,D45,D46,D47,D48,D49,D50),"待ち1"),"待ち2") -> 待ち2 | E30: =IF(SUMIF(保有!$A:$E,E32,保有!$E:$E)=100,IF(E7<E6,[1]!REPAYMENTORDER(E32,E33,E34,E35,E36,E37,E38,E39,E40,E41,E42,E43,E44,E45,E46,E47,E48,E49,E50),"待ち1"),"待ち2") -> 待ち2 | F30: =IF(SUMIF(保有!$A:$E,F32,保有!$E:$E)=100,IF(F7<F6,[1]!REPAYMENTORDER(F32,F33,F34,F35,F36,F37,F38,F39,F40,F41,F42,F43,F44,F45,F46,F47,F48,F49,F50),"待ち1"),"待ち2") -> 待ち2 | G30: =IF(SUMIF(保有!$A:$E,G32,保有!$E:$E)=100,IF(G7<G6,[1]!REPAYMENTORDER(G32,G33,G34,G35,G36,G37,G38,G39,G40,G41,G42,G43,G44,G45,G46,G47,G48,G49,G50),"待ち1"),"待ち2") -> 待ち2
A31: 注文
A32: 第1引数 | B32: 銘柄コード | C32: =C$10 -> 0 | D32: =D$10 -> 0 | E32: =E$10 -> 0 | F32: =F$10 -> 0 | G32: =G$10 -> 0
A33: 第2引数 | B33: 市場コード | H33: 東証またはT、大証またはO、HCまたはH、JQまたはJ、省略時は優先市場
A34: 第3引数 | B34: 売買区分 | C34: 1 | D34: 1 | E34: 1 | F34: 1 | G34: 1 | H34: １：売返済、３：買返済
A35: 第4引数 | B35: 執行条件 | C35: 0 | D35: 0 | E35: 0 | F35: 0 | G35: 0 | H35: 1：指値、2：寄指、4：引指、6：不成、0：成行、3：寄成、5：引成、7：逆指値
A36: 第5引数 | B36: 単価 | C36: 0 | D36: 0 | E36: 0 | F36: 0 | G36: 0 | H36: 成行の場合は0を指定、逆指値の場合は発火条件価格を指定
A37: 第6引数 | B37: 数量 | C37: 100 | D37: 100 | E37: 100 | F37: 100 | G37: 100 | H37: 数量を指定
A38: 第7引数 | B38: 期間指定 | C38: T | D38: T | E38: T | F38: T | G38: T | H38: T：当日のみ有効、W：今週のみ有効、O：指定日付まで有効
A39: 第8引数 | B39: 期間 | H39: YYYYMMDD、当日指定、今週指定の場合は省略可能
A40: 第9引数 | B40: 預り区分 | C40: 0 | D40: 0 | E40: 0 | F40: 0 | G40: 0 | H40: ０：特定預り、１：一般預り、２：NISA預り、省略可能、省略時は特定口座開設顧客は特定預り、未開設顧客は一般預り
A41: 第10引数 | B41: 建単価 | C41: =C3 -> #N/A | D41: =D3 -> #N/A | E41: =E3 -> #N/A | F41: =F3 -> #N/A | G41: =G3 -> #N/A | H41: 決済建玉の建単価を指定する(必須）
A42: 第11引数 | B42: 建年月日 | C42: =VLOOKUP(C32,保有!$A:$H,8,0) -> #N/A | D42: =VLOOKUP(D32,保有!$A:$H,8,0) -> #N/A | E42: =VLOOKUP(E32,保有!$A:$H,8,0) -> #N/A | F42: =VLOOKUP(F32,保有!$A:$H,8,0) -> #N/A | G42: =VLOOKUP(G32,保有!$A:$H,8,0) -> #N/A | H42: 決済建玉の建日を指定する(必須）。YYYYMMDD
A43: 第12引数 | B43: 注文完了 | C43: 1 | D43: 1 | E43: 1 | F43: 1 | G43: 1 | H43: 0：表示あり、１：表示無し
A44: 第13引数 | B44: 注文画面 | C44: 1 | D44: 1 | E44: 1 | F44: 1 | G44: 1 | H44: 0：表示あり、１：表示無し
A45: 第14引数 | B45: パスワード | H45: 日本株取引パスワード
A46: 第15引数 | B46: 発注ID | C46: =RIGHT(NOW(),5) & C10&"R" -> 84491R | D46: =RIGHT(NOW(),5) & D10&"R" -> 84491R | E46: =RIGHT(NOW(),5) & E10&"R" -> 84491R | F46: =RIGHT(NOW(),5) & F10&"R" -> 84491R | G46: =RIGHT(NOW(),5) & G10&"R" -> 84491R | H46: 重複注文防止用のユニークなコード
A47: 第16引数 | B47: 発注条件 （逆指値） | H47: 執行条件が逆指値の時は下記を設定。 1：指値、4：引指、6：不成、0：成行、5：引成
A48: 第17引数 | B48: 発注単価 （逆指値） | H48: 執行条件が逆指値時に達成後指値価格を設定
A49: 第18引数 | B49: 注文確認省略フラグ | C49: 1 | D49: 1 | E49: 1 | F49: 1 | G49: 1 | H49: 0：表示あり、１：表示無し オプショナル引数にして、指定しない場合は、現行通りの動作
A50: 第19引数 | B50: 注意画面省略フラグ | C50: 1 | D50: 1 | E50: 1 | F50: 1 | G50: 1 | H50: 0：表示あり、１：注意画面を表示せず注文をキャンセル オプショナル引数にして、指定しない場合は、注意画面を表示する
