Workbook

Sheet カギ足
A1: 四本値 | J1: 引数 | M1: =[1]!FCANDLE($K$2,$K$3,$K$4,$K$5,"市場コード",A3,$K$6,$K$7) -> #N/A
A2: 市場コード | B2: 取引日付 | C2: 約定時刻 | D2: 始値 | E2: 高値 | F2: 安値 | G2: 終値 | H2: 出来高 | J2: 先物コード | K2: N225 | M2: =[1]!FCANDLE($K$2,$K$3,$K$4,$K$5,"取引日付",B3,$K$6,$K$7) -> #N/A | T2: 取引日付 | U2: 時刻 | V2: 始値 | W2: 終値 | X2: 判定 | Y2: 暫定 | Z2: カギ足 | AA2: 矢印 | AB2: 山or谷(仮) | AC2: ID1 | AD2: (真)山or谷 | AE2: 暫定最小ID | AF2: 暫定最小２ID | AG2: 暫定(山) | AH2: 暫定(谷) | AI2: KorU | AM2: シグナル用 | AN2: 山 | AO2: 谷
A3: 大証 | B3: 44000 | C3: 0.93402778 | D3: 22280 | E3: 22280 | F3: 22270 | G3: 22270 | H3: 84 | J3: 限月 | K3: 0 | M3: =[1]!FCANDLE($K$2,$K$3,$K$4,$K$5,"約定時刻",C3,$K$6,$K$7) -> #N/A | AM3: =MIN(AC4:AC1182) -> 0 | AN3: =IF(AN2=LOOKUP(AM3,AC4:AC1182,AB4:AB1182),LOOKUP(AM3,AC4:AC1182,AD4:AD1182),LOOKUP(AM4,AC4:AC1182,AD4:AD1182)) -> #N/A | AO3: =IF(AO2=LOOKUP(AM3,AC4:AC1182,AB4:AB1182),LOOKUP(AM3,AC4:AC1182,AD4:AD1182),LOOKUP(AM4,AC4:AC1182,AD4:AD1182)) -> #N/A
A4: 大証 | B4: 44000 | C4: 0.93055556 | D4: 22290 | E4: 22300 | F4: 22270 | G4: 22270 | H4: 160 | J4: 足種別 | K4: 5 | M4: =[1]!FCANDLE($K$2,$K$3,$K$4,$K$5,"始値",D3,$K$6,$K$7) -> #N/A | AI4: =IF(AI6="",IF(AN3<Y4,"K",IF(AO3>Y4,"U","")),IF(AN3="","",IF(AN3<Y4,"K",IF(AO3>Y4,"U",AI6)))) -> #N/A | AM4: =SMALL(AC4:AC1182,2) -> #NUM!
A5: 大証 | B5: 44000 | C5: 0.92708333 | D5: 22270 | E5: 22290 | F5: 22270 | G5: 22290 | H5: 169 | J5: 取得期間 | K5: 5 | M5: =[1]!FCANDLE($K$2,$K$3,$K$4,$K$5,"高値",E3,$K$6,$K$7) -> #N/A | AI5: =IF(AI7="",IF(AG5<Y5,"K",IF(AH5>Y5,"U","")),IF(AG5="","",IF(AG5<Y5,"K",IF(AH5>Y5,"U",AI7))))
A6: 大証 | B6: 44000 | C6: 0.92361111 | D6: 22240 | E6: 22270 | F6: 22240 | G6: 22270 | H6: 200 | J6: 昇順降順 | K6: D | M6: =[1]!FCANDLE($K$2,$K$3,$K$4,$K$5,"安値",F3,$K$6,$K$7) -> #N/A | AI6: =IF(AI8="",IF(AG6<Y6,"K",IF(AH6>Y6,"U","")),IF(AG6="","",IF(AG6<Y6,"K",IF(AH6>Y6,"U",AI8))))
A7: 大証 | B7: 44000 | C7: 0.92013889 | D7: 22250 | E7: 22260 | F7: 22230 | G7: 22240 | H7: 224 | J7: 本数 | K7: 0 | M7: =[1]!FCANDLE($K$2,$K$3,$K$4,$K$5,"終値",G3,$K$6,$K$7) -> #N/A | AI7: =IF(AI9="",IF(AG7<Y7,"K",IF(AH7>Y7,"U","")),IF(AG7="","",IF(AG7<Y7,"K",IF(AH7>Y7,"U",AI9))))
A8: 大証 | B8: 44000 | C8: 0.91666667 | D8: 22270 | E8: 22270 | F8: 22240 | G8: 22260 | H8: 203 | M8: =[1]!FCANDLE($K$2,$K$3,$K$4,$K$5,"出来高",H3,$K$6,$K$7) -> #N/A | AI8: =IF(AI10="",IF(AG8<Y8,"K",IF(AH8>Y8,"U","")),IF(AG8="","",IF(AG8<Y8,"K",IF(AH8>Y8,"U",AI10))))
A9: 大証 | B9: 44000 | C9: 0.91319444 | D9: 22290 | E9: 22290 | F9: 22270 | G9: 22270 | H9: 97 | AI9: =IF(AI11="",IF(AG9<Y9,"K",IF(AH9>Y9,"U","")),IF(AG9="","",IF(AG9<Y9,"K",IF(AH9>Y9,"U",AI11))))
A10: 大証 | B10: 44000 | C10: 0.90972222 | D10: 22290 | E10: 22310 | F10: 22290 | G10: 22290 | H10: 133 | J10: 市場コード | K10: 取引日付 | L10: 約定時刻 | M10: 始値 | N10: 高値 | O10: 安値 | P10: 終値 | Q10: 出来高 | AI10: =IF(AI12="",IF(AG10<Y10,"K",IF(AH10>Y10,"U","")),IF(AG10="","",IF(AG10<Y10,"K",IF(AH10>Y10,"U",AI12))))
A11: 大証 | B11: 44000 | C11: 0.90625 | D11: 22290 | E11: 22310 | F11: 22290 | G11: 22300 | H11: 158 | J11: =COUNTA(A3:A1219) -> 1179 | K11: =COUNTA(B3:B1219) -> 1179 | L11: =COUNTA(C3:C1219) -> 1179 | M11: =COUNTA(D3:D1219) -> 1179 | N11: =COUNTA(E3:E1219) -> 1179 | O11: =COUNTA(F3:F1219) -> 1179 | P11: =COUNTA(G3:G1219) -> 1179 | Q11: =COUNTA(H3:H1219) -> 1179 | R11: =IF(AND(J11=K11,K11=L11,L11=M11,M11=N11,N11=O11,O11=P11,P11=Q11),"取得済み","未取得") -> 取得済み | AI11: =IF(AI13="",IF(AG11<Y11,"K",IF(AH11>Y11,"U","")),IF(AG11="","",IF(AG11<Y11,"K",IF(AH11>Y11,"U",AI13))))
A12: 大証 | B12: 44000 | C12: 0.90277778 | D12: 22290 | E12: 22290 | F12: 22280 | G12: 22290 | H12: 132 | AI12: =IF(AI14="",IF(AG12<Y12,"K",IF(AH12>Y12,"U","")),IF(AG12="","",IF(AG12<Y12,"K",IF(AH12>Y12,"U",AI14))))
A13: 大証 | B13: 44000 | C13: 0.89930556 | D13: 22270 | E13: 22300 | F13: 22260 | G13: 22290 | H13: 120 | AI13: =IF(AI15="",IF(AG13<Y13,"K",IF(AH13>Y13,"U","")),IF(AG13="","",IF(AG13<Y13,"K",IF(AH13>Y13,"U",AI15))))
A14: 大証 | B14: 44000 | C14: 0.89583333 | D14: 22280 | E14: 22290 | F14: 22230 | G14: 22270 | H14: 584 | AI14: =IF(AI16="",IF(AG14<Y14,"K",IF(AH14>Y14,"U","")),IF(AG14="","",IF(AG14<Y14,"K",IF(AH14>Y14,"U",AI16))))
A15: 大証 | B15: 44000 | C15: 0.89236111 | D15: 22270 | E15: 22290 | F15: 22270 | G15: 22290 | H15: 162 | AI15: =IF(AI17="",IF(AG15<Y15,"K",IF(AH15>Y15,"U","")),IF(AG15="","",IF(AG15<Y15,"K",IF(AH15>Y15,"U",AI17))))
A16: 大証 | B16: 44000 | C16: 0.88888889 | D16: 22260 | E16: 22280 | F16: 22260 | G16: 22280 | H16: 63 | AI16: =IF(AI18="",IF(AG16<Y16,"K",IF(AH16>Y16,"U","")),IF(AG16="","",IF(AG16<Y16,"K",IF(AH16>Y16,"U",AI18))))
A17: 大証 | B17: 44000 | C17: 0.88541667 | D17: 22260 | E17: 22280 | F17: 22250 | G17: 22260 | H17: 290 | AI17: =IF(AI19="",IF(AG17<Y17,"K",IF(AH17>Y17,"U","")),IF(AG17="","",IF(AG17<Y17,"K",IF(AH17>Y17,"U",AI19))))
A18: 大証 | B18: 44000 | C18: 0.88194444 | D18: 22250 | E18: 22250 | F18: 22240 | G18: 22250 | H18: 154 | AI18: =IF(AI20="",IF(AG18<Y18,"K",IF(AH18>Y18,"U","")),IF(AG18="","",IF(AG18<Y18,"K",IF(AH18>Y18,"U",AI20))))
A19: 大証 | B19: 44000 | C19: 0.87847222 | D19: 22240 | E19: 22250 | F19: 22240 | G19: 22250 | H19: 108 | AI19: =IF(AI21="",IF(AG19<Y19,"K",IF(AH19>Y19,"U","")),IF(AG19="","",IF(AG19<Y19,"K",IF(AH19>Y19,"U",AI21))))
A20: 大証 | B20: 44000 | C20: 0.875 | D20: 22270 | E20: 22270 | F20: 22230 | G20: 22250 | H20: 264 | AI20: =IF(AI22="",IF(AG20<Y20,"K",IF(AH20>Y20,"U","")),IF(AG20="","",IF(AG20<Y20,"K",IF(AH20>Y20,"U",AI22))))
A21: 大証 | B21: 44000 | C21: 0.87152778 | D21: 22260 | E21: 22270 | F21: 22250 | G21: 22260 | H21: 404 | AI21: =IF(AI23="",IF(AG21<Y21,"K",IF(AH21>Y21,"U","")),IF(AG21="","",IF(AG21<Y21,"K",IF(AH21>Y21,"U",AI23))))
A22: 大証 | B22: 44000 | C22: 0.86805556 | D22: 22280 | E22: 22280 | F22: 22270 | G22: 22270 | H22: 134 | AI22: =IF(AI24="",IF(AG22<Y22,"K",IF(AH22>Y22,"U","")),IF(AG22="","",IF(AG22<Y22,"K",IF(AH22>Y22,"U",AI24))))
A23: 大証 | B23: 44000 | C23: 0.86458333 | D23: 22300 | E23: 22300 | F23: 22270 | G23: 22280 | H23: 226 | AI23: =IF(AI25="",IF(AG23<Y23,"K",IF(AH23>Y23,"U","")),IF(AG23="","",IF(AG23<Y23,"K",IF(AH23>Y23,"U",AI25))))
... A1118: 大証 | B1118: 43993 | C1118: 0.57986111 | D1118: 22530 | E1118: 22560 | F1118: 22520 | G1118: 22550 | H1118: 918 | AI1118: =IF(AI1120="",IF(AG1118<Y1118,"K",IF(AH1118>Y1118,"U","")),IF(AG1118="","",IF(AG1118<Y1118,"K",IF(AH1118>Y1118,"U",AI1120))))
A1119: 大証 | B1119: 43993 | C1119: 0.57638889 | D1119: 22550 | E1119: 22560 | F1119: 22530 | G1119: 22530 | H1119: 1164
A1120: 大証 | B1120: 43993 | C1120: 0.57291667 | D1120: 22580 | E1120: 22580 | F1120: 22540 | G1120: 22550 | H1120: 586
A1121: 大証 | B1121: 43993 | C1121: 0.56944444 | D1121: 22570 | E1121: 22600 | F1121: 22570 | G1121: 22590 | H1121: 650
A1122: 大証 | B1122: 43993 | C1122: 0.56597222 | D1122: 22550 | E1122: 22570 | F1122: 22540 | G1122: 22570 | H1122: 624
A1123: 大証 | B1123: 43993 | C1123: 0.5625 | D1123: 22560 | E1123: 22560 | F1123: 22540 | G1123: 22550 | H1123: 949
A1124: 大証 | B1124: 43993 | C1124: 0.55902778 | D1124: 22510 | E1124: 22560 | F1124: 22510 | G1124: 22560 | H1124: 496
A1125: 大証 | B1125: 43993 | C1125: 0.55555556 | D1125: 22510 | E1125: 22530 | F1125: 22500 | G1125: 22510 | H1125: 730
A1126: 大証 | B1126: 43993 | C1126: 0.55208333 | D1126: 22480 | E1126: 22530 | F1126: 22460 | G1126: 22510 | H1126: 936
A1127: 大証 | B1127: 43993 | C1127: 0.54861111 | D1127: 22490 | E1127: 22510 | F1127: 22480 | G1127: 22480 | H1127: 1028
A1128: 大証 | B1128: 43993 | C1128: 0.54513889 | D1128: 22540 | E1128: 22560 | F1128: 22460 | G1128: 22490 | H1128: 1850
A1129: 大証 | B1129: 43993 | C1129: 0.54166667 | D1129: 22540 | E1129: 22580 | F1129: 22540 | G1129: 22550 | H1129: 881
A1130: 大証 | B1130: 43993 | C1130: 0.53819444 | D1130: 22590 | E1130: 22600 | F1130: 22530 | G1130: 22540 | H1130: 1581
... A1181: 大証 | B1181: 43992 | C1181: 0.36458333 | D1181: 22890 | E1181: 22930 | F1181: 22880 | G1181: 22920 | H1181: 3272

Sheet 買いシグナル
A1: 新規発注
A2: =[1]!FNEWORDER(C5,C6,C7,C8,C9,C10,C11,C12,C13,C14,C15,C16,C17,C18,C19,C20,C21,C22) -> N/A | B2: {=IF(AND(カギ足!AI4="K",カギ足!AI6="U",買いシグナル!R11="取得済み"),[1]!FNEWORDER(買いシグナル!C5,買いシグナル!C6,買いシグナル!C7,買いシグナル!C8,買いシグナル!C9,買いシグナル!C10,買いシグナル!C11,買いシグナル!C12,買いシグナル!C13,買いシグナル!C14,買いシグナル!C15,買いシグナル!C16,買いシグナル!C17,買いシグナル!C18,買いシグナル!C19,買いシグナル!C20,買いシグナル!C21,買いシグナル!C22),"miss")} -> #N/A
A4: 引数
A5: 第1引数 | B5: 先物コード | C5: N225mini | D5: N225：日経225先物、N225mini：ミニ先物、TOPIX：TOPIX先物、TOPIXmini：ミニTOPIX、JPX400 ：JPX400先物、MOTHERS：マザーズ先物、Core30：TOPIX Core30、REIT：REIT 先物、DOW：NYダウ先物、VI：日経VI先物
A6: 第2引数 | B6: 限月 | C6: 0 | D6: 限月をYYYYMMで指定。0を指定すると期近、1を指定すると期先
A7: 第3引数 | B7: 取引種類 | C7: 1 | D7: 1：新規、2：決済
A8: 第4引数 | B8: 建玉番号 | C8: A | D8: 建玉番号or 決済順序。決済する建玉指定、もしくは、A：評価益（1 枚）順、B：評価損（1 枚）順、C：建日時古順、D：建日時新順。ブランクはなし。
A9: 第5引数 | B9: 建玉枝番号 | C9: 1 | D9: １を指定。
A10: 第6引数 | B10: 売買区分 | C10: 3 | D10: 1：売、3：買
A11: 第7引数 | B11: 執行条件 | C11: 12 | D11: 0：最大指値、1：指値、5：引成、6：不出来最大指値、8：逆指、10：指値（FOK）、11：指値（FAK）、12：成行（FOK）、13：成行（FAK）、14：最良指値、15：最良指値（FOK）、16：最良指値（FAK）、19：引指
A12: 第8引数 | B12: 単価 | C12: 0 | D12: 成行の場合は０を指定。
A13: 第9引数 | B13: 数量 | C13: 1 | D13: 数量を指定
A14: 第10引数 | B14: 注文確認 | C14: 1 | D14: 0：表示あり、１：表示無し
A15: 第11引数 | B15: 完了メッセージ | C15: 1 | D15: 0：表示あり、１：表示無し
A16: 第12引数 | B16: 注文画面 | C16: 1 | D16: 0：表示あり、１：表示無し
A17: 第13引数 | B17: パスワード | D17: 先物注文取引パスワード
A18: 第14引数 | B18: 発注ID | C18: =カギ足!U4&"SK" -> SK | D18: 発注IDを指定
A19: 第15引数 | B19: 有効期間区分 | C19: 1 | D19: 1：当ｾｯｼｮﾝのみ(GFD)、3：最終日まで(GTC)、YYYMMDD（GTDの場合のみ日付設定）※指定しない場合当セッションのみ
A20: 第16引数 | B20: メモ | D20: 0-9/a-z/A-Z の範囲文字と_(アンダーバー)のみ入力可
A21: 第17引数 | B21: 発注条件 | D21: 0：最大指値 ※逆指値指定時のみ有効、1：指値、10：指値（FOK）、11：指値（FAK）、12：成行（FOK）、13：成行（FAK）、14：最良指値、15：最良指値（FOK）、16：最良指値（FAK）、19：引指
A22: 第18引数 | B22: 発注単価 | D22: （逆指値時）
A25: 決済発注
A26: =[1]!FNEWORDER(C5,C6,C29,C8,C9,C30,C31,C32,C13,C14,C15,C16,C17,C33,C34,C35,C36,C37) -> N/A | B26: {=IF(AND(カギ足!AI4="K",カギ足!AI6="U",カギ足!R11="取得済み"),[1]!FNEWORDER(C5,C6,C29,C8,C9,C30,C31,C32,C13,C14,C15,C16,C17,C33,C34,C35,C36,C37),"miss")} -> #N/A
A28: 引数
A29: 第3引数 | B29: 取引種類 | C29: 2 | D29: 1：新規、2：決済
A30: 第6引数 | B30: 売買区分 | C30: 3 | D30: 1：売、3：買
A31: 第7引数 | B31: 執行条件 | C31: 12 | D31: 0：最大指値、1：指値、5：引成、6：不出来最大指値、8：逆指、10：指値（FOK）、11：指値（FAK）、12：成行（FOK）、13：成行（FAK）、14：最良指値、15：最良指値（FOK）、16：最良指値（FAK）、19：引指
A32: 第8引数 | B32: 単価 | C32: 0 | D32: 成行の場合は0を指定
A33: 第14引数 | B33: 発注ID | C33: =カギ足!U4&"KK" -> KK | D33: 発注IDを指定
A34: 第15引数 | B34: 有効期間区分 | C34: 1 | D34: 1：当ｾｯｼｮﾝのみ(GFD)、3：最終日まで(GTC)、YYYMMDD（GTDの場合のみ日付設定）※指定しない場合当セッションのみ
A35: 第16引数 | B35: メモ | D35: 0-9/a-z/A-Z の範囲文字と_(アンダーバー)のみ入力可
A36: 第17引数 | B36: 発注条件 | D36: 0：最大指値 ※逆指値指定時のみ有効、1：指値、10：指値（FOK）、11：指値（FAK）、12：成行（FOK）、13：成行（FAK）、14：最良指値、15：最良指値（FOK）、16：最良指値（FAK）、19：引指
A37: 第18引数 | B37: 発注単価 | D37: （逆指値時）

Sheet 売りシグナル
A1: 新規発注
A2: =[1]!FNEWORDER(C5,C6,C7,C8,C9,C10,C11,C12,C13,C14,C15,C16,C17,C18,C19,C20,C21,C22) -> N/A | B2: {=IF(AND(カギ足!AI4="U",カギ足!AI6="K",カギ足!R11="取得済み"),[1]!FNEWORDER(C5,C6,C7,C8,C9,C10,C11,C12,C13,C14,C15,C16,C17,C18,C19,C20,C21,C22),"miss")} -> #N/A
A4: 引数
A5: 第1引数 | B5: 先物コード | C5: N225mini | D5: N225：日経225先物、N225mini：ミニ先物、TOPIX：TOPIX先物、TOPIXmini：ミニTOPIX、JPX400 ：JPX400先物、MOTHERS：マザーズ先物、Core30：TOPIX Core30、REIT：REIT 先物、DOW：NYダウ先物、VI：日経VI先物
A6: 第2引数 | B6: 限月 | C6: 0 | D6: 限月をYYYYMMで指定。0を指定すると期近、1を指定すると期先
A7: 第3引数 | B7: 取引種類 | C7: 1 | D7: 1：新規、2：決済
A8: 第4引数 | B8: 建玉番号 | C8: A | D8: 建玉番号or 決済順序。決済する建玉指定、もしくは、A：評価益（1 枚）順、B：評価損（1 枚）順、C：建日時古順、D：建日時新順。ブランクはなし。
A9: 第5引数 | B9: 建玉枝番号 | C9: 1 | D9: １を指定。
A10: 第6引数 | B10: 売買区分 | C10: 1 | D10: 1：売、3：買
A11: 第7引数 | B11: 執行条件 | C11: 12 | D11: 0：最大指値、1：指値、5：引成、6：不出来最大指値、8：逆指、10：指値（FOK）、11：指値（FAK）、12：成行（FOK）、13：成行（FAK）、14：最良指値、15：最良指値（FOK）、16：最良指値（FAK）、19：引指
A12: 第8引数 | B12: 単価 | C12: 0 | D12: 成行の場合は０を指定。
A13: 第9引数 | B13: 数量 | C13: 1 | D13: 数量を指定
A14: 第10引数 | B14: 注文確認 | C14: 1 | D14: 0：表示あり、１：表示無し
A15: 第11引数 | B15: 完了メッセージ | C15: 1 | D15: 0：表示あり、１：表示無し
A16: 第12引数 | B16: 注文画面 | C16: 1 | D16: 0：表示あり、１：表示無し
A17: 第13引数 | B17: パスワード | D17: 先物注文取引パスワード
A18: 第14引数 | B18: 発注ID | C18: =カギ足!U4&"SS" -> SS | D18: 発注IDを指定
A19: 第15引数 | B19: 有効期間区分 | C19: 1 | D19: 1：当ｾｯｼｮﾝのみ(GFD)、3：最終日まで(GTC)、YYYMMDD（GTDの場合のみ日付設定）※指定しない場合当セッションのみ
A20: 第16引数 | B20: メモ | D20: 0-9/a-z/A-Z の範囲文字と_(アンダーバー)のみ入力可
A21: 第17引数 | B21: 発注条件 | D21: 0：最大指値 ※逆指値指定時のみ有効、1：指値、10：指値（FOK）、11：指値（FAK）、12：成行（FOK）、13：成行（FAK）、14：最良指値、15：最良指値（FOK）、16：最良指値（FAK）、19：引指
A22: 第18引数 | B22: 発注単価 | D22: （逆指値時）
A25: 決済発注
A26: =[1]!FNEWORDER(C5,C6,C29,C8,C9,C30,C31,C32,C13,C14,C15,C16,C17,C33,C34,C35,C36,C37) -> N/A | B26: {=IF(AND(カギ足!AI4="U",カギ足!AI6="K",カギ足!R11="取得済み"),[1]!FNEWORDER(C5,C6,C29,C8,C9,C30,C31,C32,C13,C14,C15,C16,C17,C33,C34,C35,C36,C37),"miss")} -> #N/A
A28: 引数
A29: 第3引数 | B29: 取引種類 | C29: 2 | D29: 1：新規、2：決済
A30: 第6引数 | B30: 売買区分 | C30: 1 | D30: 1：売、3：買
A31: 第7引数 | B31: 執行条件 | C31: 12 | D31: 0：最大指値、1：指値、5：引成、6：不出来最大指値、8：逆指、10：指値（FOK）、11：指値（FAK）、12：成行（FOK）、13：成行（FAK）、14：最良指値、15：最良指値（FOK）、16：最良指値（FAK）、19：引指
A32: 第8引数 | B32: 単価 | C32: 0 | D32: 成行の場合は0を指定
A33: 第14引数 | B33: 発注ID | C33: =カギ足!U4&"SK" -> SK | D33: 発注IDを指定
A34: 第15引数 | B34: 有効期間区分 | C34: 1 | D34: 1：当ｾｯｼｮﾝのみ(GFD)、3：最終日まで(GTC)、YYYMMDD（GTDの場合のみ日付設定）※指定しない場合当セッションのみ
A35: 第16引数 | B35: メモ | D35: 0-9/a-z/A-Z の範囲文字と_(アンダーバー)のみ入力可
A36: 第17引数 | B36: 発注条件 | D36: 0：最大指値 ※逆指値指定時のみ有効、1：指値、10：指値（FOK）、11：指値（FAK）、12：成行（FOK）、13：成行（FAK）、14：最良指値、15：最良指値（FOK）、16：最良指値（FAK）、19：引指
A37: 第18引数 | B37: 発注単価 | D37: （逆指値時）
