Workbook
Name _MA10: 'mini(3ヶ月)'!$H$10:$H$66
Name _MA10: 'MOTH(3ヶ月)'!$H$10:$H$66
Name _MA10: #REF!
Name _MA10: #REF!
Name _MA3: 'mini(3ヶ月)'!$F$10:$F$66
Name _MA3: 'MOTH(3ヶ月)'!$F$10:$F$66
Name _MA3: #REF!
Name _MA3: #REF!
Name _MA5: 'mini(3ヶ月)'!$G$10:$G$66
Name _MA5: 'MOTH(3ヶ月)'!$G$10:$G$66
Name _MA5: #REF!
Name _MA5: #REF!
Name Dlog_bk_prj_id: "エディット 12"
Name Dlog_bk_prj_name: "エディット 13"
Name Dlog_bk_sht_id: "エディット 14"
Name Dlog_sh_sht_name: "ドロップ 95"
Name シート選択見だし: "ラベル 5"
Name 現在時刻: 注文MOTH!$F$4:$G$4
Name 現在時刻: 注文mini!$F$4:$G$4
Name 終値: 'mini(3ヶ月)'!$E$10:$E$66
Name 終値: 'MOTH(3ヶ月)'!$E$10:$E$66
Name 終値: #REF!
Name 終値: #REF!

Sheet 注文mini
A1: 新規発注
A2: =IF(G15="発注",[1]!fneworder(C5,C6,C7,C8,C9,C10,C11,C12,C13,C14,C15,C16,C17,C18,C19,C20,C21,C22),"-") -> - | B2: =fneworder(C5,C6,C7,C8,C9,C10,C11,C12,C13,C14,C15,C16,C17,C18,C19,C20,C21,C22)
A4: 引数 | F4: 現在時刻 | G4: =NOW() -> 43547.916 | H4: ★Excelを再起動しない（発注IDは日付が変わらないと更新されない）
A5: 第1引数 | B5: 先物コード | C5: N225mini | D5: N225：日経225先物、N225mini：ミニ先物、TOPIX：TOPIX先物、TOPIXmini：ミニTOPIX、JPX400 ：JPX400先物、MOTHERS：マザーズ先物、Core30：TOPIX Core30、REIT：REIT 先物、DOW：NYダウ先物、VI：日経VI先物 | H5: ②毎日16:15に発注（一度正常に発注されたら翌日まで再発注しない）
A6: 第2引数 | B6: 限月 | C6: 0 | D6: 限月をYYYYMMで指定。0を指定すると期近、1を指定すると期先 | F6: 新規発注 | H6: ③毎日15:05に決済（一度正常に決済されたら翌日まで再決済しない）
A7: 第3引数 | B7: 取引種類 | C7: 1 | D7: 1：新規、2：決済 | F7: 発注日 | G7: =TODAY() -> 43547 | H7: ④時間に関係なく条件に達したら決済（一度正常に決済されたら翌日まで再決済しない）
A8: 第4引数 | B8: 建玉番号 | C8: A | D8: 建玉番号or 決済順序。決済する建玉指定、もしくは、A：評価益（1 枚）順、B：評価損（1 枚）順、C：建日時古順、D：建日時新順。ブランクはなし。 | F8: 発注開始時刻 | G8: 0.67708333 | H8: ※現在時刻を常時更新する仕組みが必要
A9: 第5引数 | B9: 建玉枝番号 | C9: 1 | D9: １を指定。 | F9: 発注終了時刻 | G9: 0.67777778 | H9: →
A10: 第6引数 | B10: 売買区分 | C10: =IF('mini(3ヶ月)'!K65="売",1,3) -> 1 | D10: 1：売、3：買 | F10: 決済発注
A11: 第7引数 | B11: 執行条件 | C11: 13 | D11: 0：最大指値、1：指値、5：引成、6：不出来最大指値、8：逆指、10：指値（FOK）、11：指値（FAK）、12：成行（FOK）、13：成行（FAK）、14：最良指値、15：最良指値（FOK）、16：最良指値（FAK）、19：引指 | F11: 決済日 | G11: =TODAY() -> 43547
A12: 第8引数 | B12: 単価 | C12: 0 | D12: 成行の場合は０を指定。 | F12: 決済開始時刻 | G12: 0.62847222
A13: 第9引数 | B13: 数量 | C13: ='mini(3ヶ月)'!L65 -> 3 | D13: 数量を指定 | F13: 決済終了時刻 | G13: 0.62916667 | I13: 現在値 | J13: 利食い額 | K13: ロスカット額
A14: 第10引数 | B14: 注文確認 | C14: 1 | D14: 0：表示あり、１：表示無し | G14: 発注有無 | I14: =[1]!FQUOTE($C$5,$C$6,$I$13) -> 21360 | J14: 1000 | K14: -250
A15: 第11引数 | B15: 完了メッセージ | C15: 1 | D15: 0：表示あり、１：表示無し | F15: ="新規"&C5 -> 新規N225mini | G15: =IF(AND(G7='mini(3ヶ月)'!A65,G7+G8<G4,G7+G9>G4,C13>0),"発注","-") -> - | J15: =IFERROR(J14*100*$J$40,"-") -> 500000 | K15: =IFERROR(K14*100*$J$40,"-") -> -125000
A16: 第12引数 | B16: 注文画面 | C16: 1 | D16: 0：表示あり、１：表示無し | F16: ="決済"&C5 -> 決済N225mini | G16: =IF(AND(G11='mini(3ヶ月)'!A65,G11+G12<G4,G11+G13>G4,J40>0,J40<101),"発注","-") -> -
A17: 第13引数 | B17: パスワード | D17: 先物注文取引パスワード
A18: 第14引数 | B18: 発注ID | C18: ="SHmini"&'mini(3ヶ月)'!A65 -> SHmini43546 | D18: 発注IDを指定 | F18: =[1]!FOPPOSITION("商品種別",$F$20,"0") -> #N/A | G18: =[1]!FOPPOSITION("売買",$G$20,"0") -> #NAME? | H18: =[1]!FOPPOSITION("建玉単価",$H$20,"0") -> #N/A | I18: =[1]!FOPPOSITION("数量",$I$20,"0") -> #N/A | J18: =[1]!FOPPOSITION("評価損益額",$J$20,"0") -> #N/A | K18: =[1]!FOPPOSITION("建玉番号",$K$20,"0") -> #N/A
A19: 第15引数 | B19: 有効期間区分 | C19: 1 | D19: 1：当ｾｯｼｮﾝのみ(GFD)、3：最終日まで(GTC)、YYYMMDD（GTDの場合のみ日付設定）※指定しない場合当セッションのみ | F19: 保有情報 | G19: 売買区分 | H19: 建玉単価 | I19: 数量 | J19: 評価損益額 | K19: 建玉番号
A20: 第16引数 | B20: メモ | C20: Shinki_Hacchu | D20: 0-9/a-z/A-Z の範囲文字と_(アンダーバー)のみ入力可 | F20: N225ミニ | G20: 買 | H20: 21440 | I20: 5 | J20: -40000 | K20: 20190320E02N34613326 | L20: =IF(AND(F20="***END***",G20="***END***",H20="***END***",I20="***END***",J20="***END***",K20="***END***"),TRUE,FALSE) -> FALSE
A21: 第17引数 | B21: 発注条件 | C21: 13 | D21: 0：最大指値 ※逆指値指定時のみ有効、1：指値、10：指値（FOK）、11：指値（FAK）、12：成行（FOK）、13：成行（FAK）、14：最良指値、15：最良指値（FOK）、16：最良指値（FAK）、19：引指 | F21: マザーズ | G21: 買 | H21: 914 | I21: 5 | J21: 0 | K21: 20190320E02N34613294 | L21: =IF(AND(F21="***END***",G21="***END***",H21="***END***",I21="***END***",J21="***END***",K21="***END***"),TRUE,FALSE) -> FALSE
A22: 第18引数 | B22: 発注単価 | D22: （逆指値時） | F22: ***END*** | G22: ***END*** | H22: ***END*** | I22: ***END*** | J22: ***END*** | K22: ***END*** | L22: =IF(AND(F22="***END***",G22="***END***",H22="***END***",I22="***END***",J22="***END***",K22="***END***"),TRUE,FALSE) -> TRUE
L23: =IF(AND(F23="***END***",G23="***END***",H23="***END***",I23="***END***",J23="***END***",K23="***END***"),TRUE,FALSE) -> FALSE
A24: 決済発注 | L24: =IF(AND(F24="***END***",G24="***END***",H24="***END***",I24="***END***",J24="***END***",K24="***END***"),TRUE,FALSE) -> FALSE
A25: =IF(G16="発注",[1]!fneworder(C5,C6,C28,C29,C9,C30,C31,C32,J40,C14,C15,C16,C17,C33,C34,C35),"-") -> - | B25: =IF(G16="発注",fneworder(C5,C6,C28,C29,C9,C30,C31,C32,J40,C14,C15,C16,C17,C33,C34,C35),"-") | L25: =IF(AND(F25="***END***",G25="***END***",H25="***END***",I25="***END***",J25="***END***",K25="***END***"),TRUE,FALSE) -> FALSE
F26: 合計 | J26: =SUM(J20:J25) -> -40000 | L26: =OR(L20:L25) -> TRUE
A27: 引数 | F27: ①毎日15:05に前日分を決済 （前日の建玉アリ→正常に決済→翌日まで再決済しない） | L27: 前日建玉番号⤵
A28: 第3引数 | B28: 取引種類 | C28: 2 | D28: 1：新規、2：決済 | F28: ②毎日16:15に新規発注 （一度正常に発注されたら翌日まで再発注しない） | L28: 当日建玉番号⤴
A29: 第4引数 | B29: 建玉番号 | C29: =$L$40 -> 20190320E02N34613326 | D29: 建玉番号or 決済順序。決済する建玉指定、もしくは、A：評価益（1 枚）順、B：評価損（1 枚）順、C：建日時古順、D：建日時新順。ブランクはなし。 | F29: ③時間に関係なく条件に達したら決済（一度正常に決済されたら翌日まで再決済しない） | L29: ↑上記をループ
A30: 第6引数 | B30: 売買区分 | C30: =IF(G40="売",3,IF(G40="買",1,"-")) -> 1 | D30: 1：売、3：買
A31: 第7引数 | B31: 執行条件 | C31: 13 | D31: 0：最大指値、1：指値、5：引成、6：不出来最大指値、8：逆指、10：指値（FOK）、11：指値（FAK）、12：成行（FOK）、13：成行（FAK）、14：最良指値、15：最良指値（FOK）、16：最良指値（FAK）、19：引指 | F31: ★Excelを再起動しない（発注IDは日付が変わらないと更新されない）
A32: 第8引数 | B32: 単価 | C32: 0 | D32: 成行の場合は0を指定 | F32: ①毎日15:05に前日分を決済 （前日の建玉ナシ→正常に決済されず→発注持ち越し） | L32: ***END***
A33: 第14引数 | B33: 発注ID | C33: ="KHmini"&'mini(3ヶ月)'!A65 -> KHmini43546 | D33: 発注IDを指定 | F33: ②毎日16:15に新規発注（一度正常に発注されたら翌日まで再発注しない） | L33: 当日建玉番号
A34: 第15引数 | B34: 有効期間区分 | C34: 1 | D34: 1：当ｾｯｼｮﾝのみ(GFD)、3：最終日まで(GTC)、YYYMMDD（GTDの場合のみ日付設定）※指定しない場合当セッションのみ | F34: →建玉が発生した時点で①で持ち越した発注分を即決済 | L34: ***END***じゃ無い→決済無し
A35: 第16引数 | B35: メモ | C35: Time_Kessai | D35: 0-9/a-z/A-Z の範囲文字と_(アンダーバー)のみ入力可 | F35: ③時間に関係なく条件に達したら決済（一度正常に決済されたら翌日まで再決済しない）
A37: 条件発注 | B37: 利食い額を超えると利益確定の売買をし、ロスカット額を超えると損切りの売買を行う
A38: =IF(AND(ISNUMBER(J15),ISNUMBER(K15),ISNUMBER(J40),J15>0,K15<0,OR(K40>J15,K40<K15)),[1]!fneworder(C5,C6,C28,C29,C9,C30,C31,C32,J40,C14,C15,C16,C17,C41,C42,C43),"-") -> - | B38: =IF(AND(L26=True,ISNUMBER(J15),ISNUMBER(K15),ISNUMBER(J40),J15>0,K15<0,OR(K40>J15,K40<K15)),fneworder(C5,C6,C28,C29,C9,C30,C31,C32,J40,C14,C15,C16,C17,C41,C42,C43),"-")
F39: 保有情報 | G39: 売買区分 | H39: 建玉単価 | I39: 現在値 | J39: 数量 | K39: 評価損益額 | L39: 建玉番号
A40: 引数 | F40: =IFERROR(VLOOKUP("N225ミニ",$F$20:$K$25,1,FALSE),"-") -> N225ミニ | G40: =IFERROR(VLOOKUP("N225ミニ",$F$20:$K$25,2,FALSE),"-") -> 買 | H40: =IFERROR(VLOOKUP("N225ミニ",$F$20:$K$25,3,FALSE),"-") -> 21440 | I40: =[1]!FQUOTE(IF($F$40="N225ミニ","N225mini",IF($F$40="マザーズ先物","DOW","-")),$C$6,$I$39) -> #NAME? | J40: =IFERROR(VLOOKUP("N225ミニ",$F$20:$K$25,4,FALSE),"-") -> 5 | K40: =IFERROR(VLOOKUP("N225ミニ",$F$20:$K$25,5,FALSE),0) -> -40000 | L40: =IFERROR(VLOOKUP("N225ミニ",$F$20:$K$25,6,FALSE),"-") -> 20190320E02N34613326
A41: 第14引数 | B41: 発注ID | C41: ="JHmini"&'mini(3ヶ月)'!A65 -> JHmini43546 | D41: 発注IDを指定 | F41: =IFERROR(VLOOKUP("マザーズ",$F$20:$K$25,1,FALSE),"-") -> マザーズ | G41: =IFERROR(VLOOKUP("マザーズ",$F$20:$K$25,2,FALSE),"-") -> 買 | H41: =IFERROR(VLOOKUP("マザーズ",$F$20:$K$25,3,FALSE),"-") -> 914 | I41: =[1]!FQUOTE(IF($F$41="N225ミニ","N225mini",IF($F$41="マザーズ","MOTHERS","-")),$C$6,$I$39) -> #NAME? | J41: =IFERROR(VLOOKUP("マザーズ",$F$20:$K$25,4,FALSE),"-") -> 5 | K41: =IFERROR(VLOOKUP("マザーズ",$F$20:$K$25,5,FALSE),0) -> 0 | L41: =IFERROR(VLOOKUP("マザーズ",$F$20:$K$25,6,FALSE),"-") -> 20190320E02N34613294
A42: 第15引数 | B42: 有効期間区分 | C42: 1 | D42: 1：当ｾｯｼｮﾝのみ(GFD)、3：最終日まで(GTC)、YYYMMDD（GTDの場合のみ日付設定）※指定しない場合当セッションのみ
...

Sheet 注文MOTH
A1: 新規発注
A2: =IF(G15="発注",[1]!fneworder(C5,C6,C7,C8,C9,C10,C11,C12,C13,C14,C15,C16,C17,C18,C19,C20,C21,C22),"-") -> - | B2: =fneworder(C5,C6,C7,C8,C9,C10,C11,C12,C13,C14,C15,C16,C17,C18,C19,C20,C21,C22)
A4: 引数 | F4: 現在時刻 | G4: =NOW() -> 43547.916 | H4: ★Excelを再起動しない（発注IDは日付が変わらないと更新されない）
A5: 第1引数 | B5: 先物コード | C5: MOTHERS | D5: N225：日経225先物、N225mini：ミニ先物、TOPIX：TOPIX先物、TOPIXmini：ミニTOPIX、JPX400 ：JPX400先物、MOTHERS：マザーズ先物、Core30：TOPIX Core30、REIT：REIT 先物、DOW：NYダウ先物、VI：日経VI先物 | H5: ②毎日16:15に発注（一度正常に発注されたら翌日まで再発注しない）
A6: 第2引数 | B6: 限月 | C6: 0 | D6: 限月をYYYYMMで指定。0を指定すると期近、1を指定すると期先 | F6: 新規発注 | H6: ③毎日15:05に決済（一度正常に決済されたら翌日まで再決済しない）
A7: 第3引数 | B7: 取引種類 | C7: 1 | D7: 1：新規、2：決済 | F7: 発注日 | G7: =TODAY() -> 43547 | H7: ④時間に関係なく条件に達したら決済（一度正常に決済されたら翌日まで再決済しない）
A8: 第4引数 | B8: 建玉番号 | C8: A | D8: 建玉番号or 決済順序。決済する建玉指定、もしくは、A：評価益（1 枚）順、B：評価損（1 枚）順、C：建日時古順、D：建日時新順。ブランクはなし。 | F8: 発注開始時刻 | G8: 0.67777778 | H8: ※現在時刻を常時更新する仕組みが必要
A9: 第5引数 | B9: 建玉枝番号 | C9: 1 | D9: １を指定。 | F9: 発注終了時刻 | G9: 0.67847222 | H9: →
A10: 第6引数 | B10: 売買区分 | C10: =IF('MOTH(3ヶ月)'!K65="売",1,3) -> 1 | D10: 1：売、3：買 | F10: 決済発注
A11: 第7引数 | B11: 執行条件 | C11: 13 | D11: 0：最大指値、1：指値、5：引成、6：不出来最大指値、8：逆指、10：指値（FOK）、11：指値（FAK）、12：成行（FOK）、13：成行（FAK）、14：最良指値、15：最良指値（FOK）、16：最良指値（FAK）、19：引指 | F11: 決済日 | G11: =TODAY() -> 43547
A12: 第8引数 | B12: 単価 | C12: 0 | D12: 成行の場合は０を指定。 | F12: 決済開始時刻 | G12: 0.62916667
A13: 第9引数 | B13: 数量 | C13: ='MOTH(3ヶ月)'!L65 -> 5 | D13: 数量を指定 | F13: 決済終了時刻 | G13: 0.62986111 | I13: 現在値 | J13: 利食い額 | K13: ロスカット額
A14: 第10引数 | B14: 注文確認 | C14: 1 | D14: 0：表示あり、１：表示無し | G14: 発注有無 | I14: =[1]!FQUOTE($C$5,$C$6,$I$13) -> 914 | J14: 60 | K14: -60
A15: 第11引数 | B15: 完了メッセージ | C15: 1 | D15: 0：表示あり、１：表示無し | F15: ="新規"&C5 -> 新規MOTHERS | G15: =IF(AND(G7='MOTH(3ヶ月)'!A65,G7+G8<G4,G7+G9>G4,C13>0),"発注","-") -> - | J15: =IFERROR(J14*1000*$J$40,"-") -> 300000 | K15: =IFERROR(K14*1000*$J$40,"-") -> -300000
A16: 第12引数 | B16: 注文画面 | C16: 1 | D16: 0：表示あり、１：表示無し | F16: ="決済"&C5 -> 決済MOTHERS | G16: =IF(AND(G11='MOTH(3ヶ月)'!A65,G11+G12<G4,G11+G13>G4,J40>0,J40<101),"発注","-") -> -
A17: 第13引数 | B17: パスワード | D17: 先物注文取引パスワード
A18: 第14引数 | B18: 発注ID | C18: ="SHmoth"&'MOTH(3ヶ月)'!A65 -> SHmoth43546 | D18: 発注IDを指定 | F18: =[1]!FOPPOSITION("商品種別",$F$20,"0") -> #N/A | G18: =[1]!FOPPOSITION("売買",$G$20,"0") -> #N/A | H18: =[1]!FOPPOSITION("建玉単価",$H$20,"0") -> #N/A | I18: =[1]!FOPPOSITION("数量",$I$20,"0") -> #N/A | J18: =[1]!FOPPOSITION("評価損益額",$J$20,"0") -> #N/A | K18: =[1]!FOPPOSITION("建玉番号",$K$20,"0") -> #N/A
A19: 第15引数 | B19: 有効期間区分 | C19: 1 | D19: 1：当ｾｯｼｮﾝのみ(GFD)、3：最終日まで(GTC)、YYYMMDD（GTDの場合のみ日付設定）※指定しない場合当セッションのみ | F19: 保有情報 | G19: 売買区分 | H19: 建玉単価 | I19: 数量 | J19: 評価損益額 | K19: 建玉番号
A20: 第16引数 | B20: メモ | C20: Shinki_Hacchu | D20: 0-9/a-z/A-Z の範囲文字と_(アンダーバー)のみ入力可 | F20: N225ミニ | G20: 買 | H20: 21440 | I20: 5 | J20: -40000 | K20: 20190320E02N34613326
A21: 第17引数 | B21: 発注条件 | C21: 13 | D21: 0：最大指値 ※逆指値指定時のみ有効、1：指値、10：指値（FOK）、11：指値（FAK）、12：成行（FOK）、13：成行（FAK）、14：最良指値、15：最良指値（FOK）、16：最良指値（FAK）、19：引指 | F21: マザーズ | G21: 買 | H21: 914 | I21: 5 | J21: 0 | K21: 20190320E02N34613294
A22: 第18引数 | B22: 発注単価 | D22: （逆指値時） | F22: ***END*** | G22: ***END*** | H22: ***END*** | I22: ***END*** | J22: ***END*** | K22: ***END***
A24: 決済発注
A25: =IF(G16="発注",[1]!fneworder(C5,C6,C28,C29,C9,C30,C31,C32,'MOTH(3ヶ月)'!L64,C14,C15,C16,C17,C33,C34,C35),"-") -> - | B25: =IF(G16="発注",fneworder(C5,C6,C28,C29,C9,C30,C31,C32,'MOTH(3ヶ月)'!L64,C14,C15,C16,C17,C33,C34,C35),"-")
F26: 合計 | J26: =SUM(J20:J25) -> -40000
A27: 引数 | F27: ①毎日15:05に前日分を決済 （前日の建玉アリ→正常に決済→翌日まで再決済しない） | L27: 前日建玉番号⤵
A28: 第3引数 | B28: 取引種類 | C28: 2 | D28: 1：新規、2：決済 | F28: ②毎日16:15に新規発注 （一度正常に発注されたら翌日まで再発注しない） | L28: 当日建玉番号⤴
A29: 第4引数 | B29: 建玉番号 | C29: A | D29: 建玉番号or 決済順序。決済する建玉指定、もしくは、A：評価益（1 枚）順、B：評価損（1 枚）順、C：建日時古順、D：建日時新順。ブランクはなし。 | F29: ③時間に関係なく条件に達したら決済（一度正常に決済されたら翌日まで再決済しない） | L29: ↑上記をループ
A30: 第6引数 | B30: 売買区分 | C30: =IF(G40="売",3,IF(G40="買",1,"-")) -> 1 | D30: 1：売、3：買
A31: 第7引数 | B31: 執行条件 | C31: 13 | D31: 0：最大指値、1：指値、5：引成、6：不出来最大指値、8：逆指、10：指値（FOK）、11：指値（FAK）、12：成行（FOK）、13：成行（FAK）、14：最良指値、15：最良指値（FOK）、16：最良指値（FAK）、19：引指 | F31: ★Excelを再起動しない（発注IDは日付が変わらないと更新されない）
A32: 第8引数 | B32: 単価 | C32: 0 | D32: 成行の場合は0を指定 | F32: ①毎日15:05に前日分を決済 （前日の建玉ナシ→正常に決済されず→発注持ち越し） | L32: ***END***
A33: 第14引数 | B33: 発注ID | C33: ="KHmoth"&'MOTH(3ヶ月)'!A65 -> KHmoth43546 | D33: 発注IDを指定 | F33: ②毎日16:15に新規発注（一度正常に発注されたら翌日まで再発注しない） | L33: 当日建玉番号
A34: 第15引数 | B34: 有効期間区分 | C34: 1 | D34: 1：当ｾｯｼｮﾝのみ(GFD)、3：最終日まで(GTC)、YYYMMDD（GTDの場合のみ日付設定）※指定しない場合当セッションのみ | F34: →建玉が発生した時点で①で持ち越した発注分を即決済 | L34: ***END***じゃ無い→決済無し
A35: 第16引数 | B35: メモ | C35: Time_Kessai | D35: 0-9/a-z/A-Z の範囲文字と_(アンダーバー)のみ入力可 | F35: ③時間に関係なく条件に達したら決済（一度正常に決済されたら翌日まで再決済しない）
A37: 条件発注 | B37: 利食い額を超えると利益確定の売買をし、ロスカット額を超えると損切りの売買を行う
A38: =IF(AND(ISNUMBER(J15),ISNUMBER(K15),ISNUMBER(J40),J15>0,K15<0,OR(K40>J15,K40<K15)),[1]!fneworder(C5,C6,C28,C29,C9,C30,C31,C32,J40,C14,C15,C16,C17,C41,C42,C43),"-") -> - | B38: =IF(AND(ISNUMBER(J15),ISNUMBER(K15),ISNUMBER(J40),J15>0,K15<0,OR(K40>J15,K40<K15)),fneworder(C5,C6,C28,C29,C9,C30,C31,C32,I40,C14,C15,C16,C17,C41,C42,C43),"-")
F39: 保有情報 | G39: 売買区分 | H39: 建玉単価 | I39: 現在値 | J39: 数量 | K39: 評価損益額 | L39: 建玉番号
A40: 引数 | F40: =IFERROR(VLOOKUP("マザーズ",$F$20:$K$25,1,FALSE),"-") -> マザーズ | G40: =IFERROR(VLOOKUP("マザーズ",$F$20:$K$25,2,FALSE),"-") -> 買 | H40: =IFERROR(VLOOKUP("マザーズ",$F$20:$K$25,3,FALSE),"-") -> 914 | I40: =[1]!FQUOTE(IF($F$40="N225ミニ","N225mini",IF($F$40="マザーズ","MOTHERS","-")),$C$6,$I$39) -> 914 | J40: =IFERROR(VLOOKUP("マザーズ",$F$20:$K$25,4,FALSE),"-") -> 5 | K40: =IFERROR(VLOOKUP("マザーズ",$F$20:$K$25,5,FALSE),0) -> 0 | L40: =IFERROR(VLOOKUP("マザーズ",$F$20:$K$25,6,FALSE),"-") -> 20190320E02N34613294
A41: 第14引数 | B41: 発注ID | C41: ="JHmoth"&'MOTH(3ヶ月)'!A65 -> JHmoth43546 | D41: 発注IDを指定 | F41: =IFERROR(VLOOKUP("N225ミニ",$F$20:$K$25,1,FALSE),"-") -> N225ミニ | G41: =IFERROR(VLOOKUP("N225ミニ",$F$20:$K$25,2,FALSE),"-") -> 買 | H41: =IFERROR(VLOOKUP("N225ミニ",$F$20:$K$25,3,FALSE),"-") -> 21440 | I41: =[1]!FQUOTE(IF($F$41="N225ミニ","N225mini",IF($F$41="マザーズ先物","MOTHERS","-")),$C$6,$I$39) -> 21360 | J41: =IFERROR(VLOOKUP("N225ミニ",$F$20:$K$25,4,FALSE),"-") -> 5 | K41: =IFERROR(VLOOKUP("N225ミニ",$F$20:$K$25,5,FALSE),0) -> -40000 | L41: =IFERROR(VLOOKUP("N225ミニ",$F$20:$K$25,6,FALSE),"-") -> 20190320E02N34613326
A42: 第15引数 | B42: 有効期間区分 | C42: 1 | D42: 1：当ｾｯｼｮﾝのみ(GFD)、3：最終日まで(GTC)、YYYMMDD（GTDの場合のみ日付設定）※指定しない場合当セッションのみ
A43: 第16引数 | B43: メモ | C43: Jouken_Kessai | D43: 0-9/a-z/A-Z の範囲文字と_(アンダーバー)のみ入力可

Sheet mini(3ヶ月)
L1: =SUBTOTAL(109,$L$3:$L$65) -> 237 | M1: =SUBTOTAL(109,$M$3:$M$65) -> -109000 | N1: =SUBTOTAL(109,$N$3:$N$65) -> 370876 | P1: 引数
A2: 取引 日付 | B2: 始値 | C2: 高値 | D2: 安値 | E2: 終値 | F2: 移動平均/MA3 | G2: 移動平均/MA5 | H2: 移動平均/MA10 | I2: 変動額/MA3 | J2: 当日 /変動額 | K2: 売買 シグナル | L2: 保有 数量 | M2: 損益 (毎日決済) | N2: 損益 (ロスカット) | O2: 月 | P2: 先物コード | Q2: N225mini | S2: =[1]!FCANDLE($Q$2,$Q$3,$Q$4,$Q$5,"取引日付",A3,$Q$6,$Q$7) -> #N/A | X2: -150 | Y2: 1790000 | Z2: 1215000 | AC2: =Z2-Y2 -> -575000
A3: 43448 | B3: 21800 | C3: 21850 | D3: 21270 | E3: 21305 | F3: - | G3: - | H3: - | I3: - | J3: - | K3: - | O3: =MONTH(A3) -> 12 | P3: 限月 | Q3: 0 | X3: -200 | Y3: 1790000 | Z3: 3220000 | AC3: =Z3-Y3 -> 1430000 | AD3: ◎
A4: 43451 | B4: 21320 | C4: 21495 | D4: 21195 | E4: 21450 | F4: - | G4: - | H4: - | I4: - | J4: - | K4: - | O4: =MONTH(A4) -> 12 | P4: 足種別 | Q4: T | S4: =[1]!FCANDLE($Q$2,$Q$3,$Q$4,$Q$5,"始値",B3,$Q$6,$Q$7) -> #N/A | X4: -250 | Y4: 1790000 | Z4: 3005000 | AC4: =Z4-Y4 -> 1215000 | AD4: ○
A5: 43452 | B5: 21440 | C5: 21445 | D5: 21000 | E5: 21070 | F5: =AVERAGE(E3:E5) -> 21275 | G5: - | H5: - | I5: - | J5: - | K5: - | O5: =MONTH(A5) -> 12 | P5: 取得期間 | Q5: 0 | S5: =[1]!FCANDLE($Q$2,$Q$3,$Q$4,$Q$5,"高値",C3,$Q$6,$Q$7) -> #N/A | X5: -300 | Y5: 1790000 | Z5: 2645000 | AC5: =Z5-Y5 -> 855000 | AD5: △
A6: 43453 | B6: 21065 | C6: 21220 | D6: 20810 | E6: 20925 | F6: =AVERAGE(E4:E6) -> 21148.333 | G6: - | H6: - | I6: - | J6: - | K6: - | O6: =MONTH(A6) -> 12 | P6: 昇順降順 | Q6: A | S6: =[1]!FCANDLE($Q$2,$Q$3,$Q$4,$Q$5,"安値",D3,$Q$6,$Q$7) -> #N/A | X6: -350 | Y6: 1790000 | Z6: 2040000 | AC6: =Z6-Y6 -> 250000
A7: 43454 | B7: 20930 | C7: 21125 | D7: 20200 | E7: 20220 | F7: =AVERAGE(E5:E7) -> 20738.333 | G7: =AVERAGE(E3:E7) -> 20994 | H7: - | I7: =ABS(F7-F6) -> 410 | J7: =E7-B7 -> -710 | K7: =_xlfn.IFS(AND(F7>F6,I7<351),"買",AND(F7<F6,I7<351),"売",AND(F7>F6,I7>350),"売",AND(F7<F6,I7>350),"買",F7=F6,"-") -> 買 | L7: =_xlfn.IFS(I7<$P$10,$Q$10,I7<$P$11,$Q$11,I7<$P$12,$Q$12) -> 5 | M7: =_xlfn.IFS($K7="買",($E8-$B8)*L7*100,$K7="売",($B8-$E8)*L7*100,$K7="-",0) -> -122500 | N7: =_xlfn.IFS(AND($K7="買",($D8-$B8)<注文mini!$K$14),(注文mini!$K$14-5)*L7*100,AND($K7="売",($B8-$C8)<注文mini!$K$14),(注文mini!$K$14-5)*L7*100,AND($K7="買",($D8-$B8)>=注文mini!$K$14),$M7,AND($K7="売",($B8-$C8)>=注文mini!$K$14),$M7,$K7="-",0)-86*L7 -> -127930 | O7: =MONTH(A7) -> 12 | P7: 本数 | Q7: 63 | S7: =[1]!FCANDLE($Q$2,$Q$3,$Q$4,$Q$5,"終値",E3,$Q$6,$Q$7) -> #N/A
A8: 43455 | B8: 20300 | C8: 20475 | D8: 19940 | E8: 20055 | F8: =AVERAGE(E6:E8) -> 20400 | G8: =AVERAGE(E4:E8) -> 20744 | H8: - | I8: =ABS(F8-F7) -> 338.33333 | J8: =E8-B8 -> -245 | K8: =_xlfn.IFS(AND(F8>F7,I8<351),"買",AND(F8<F7,I8<351),"売",AND(F8>F7,I8>350),"売",AND(F8<F7,I8>350),"買",F8=F7,"-") -> 売 | L8: =_xlfn.IFS(I8<$P$10,$Q$10,I8<$P$11,$Q$11,I8<$P$12,$Q$12) -> 5 | M8: =_xlfn.IFS($K8="買",($E9-$B9)*L8*100,$K8="売",($B9-$E9)*L8*100,$K8="-",0) -> 537500 | N8: =_xlfn.IFS(AND($K8="買",($D9-$B9)<注文mini!$K$14),(注文mini!$K$14-5)*L8*100,AND($K8="売",($B9-$C9)<注文mini!$K$14),(注文mini!$K$14-5)*L8*100,AND($K8="買",($D9-$B9)>=注文mini!$K$14),$M8,AND($K8="売",($B9-$C9)>=注文mini!$K$14),$M8,$K8="-",0)-86*L8 -> 537070 | O8: =MONTH(A8) -> 12
A9: 43459 | B9: 20075 | C9: 20155 | D9: 19000 | E9: 19000 | F9: =AVERAGE(E7:E9) -> 19758.333 | G9: =AVERAGE(E5:E9) -> 20254 | H9: - | I9: =ABS(F9-F8) -> 641.66667 | J9: =E9-B9 -> -1075 | K9: =_xlfn.IFS(AND(F9>F8,I9<351),"買",AND(F9<F8,I9<351),"売",AND(F9>F8,I9>350),"売",AND(F9<F8,I9>350),"買",F9=F8,"-") -> 買 | L9: =_xlfn.IFS(I9<$P$10,$Q$10,I9<$P$11,$Q$11,I9<$P$12,$Q$12) -> 5 | M9: =_xlfn.IFS($K9="買",($E10-$B10)*L9*100,$K9="売",($B10-$E10)*L9*100,$K9="-",0) -> 222500 | N9: =_xlfn.IFS(AND($K9="買",($D10-$B10)<注文mini!$K$14),(注文mini!$K$14-5)*L9*100,AND($K9="売",($B10-$C10)<注文mini!$K$14),(注文mini!$K$14-5)*L9*100,AND($K9="買",($D10-$B10)>=注文mini!$K$14),$M9,AND($K9="売",($B10-$C10)>=注文mini!$K$14),$M9,$K9="-",0)-86*L9 -> 222070 | O9: =MONTH(A9) -> 12 | P9: 変動額 | S9: 利益/1枚
A10: 43460 | B10: 18945 | C10: 19510 | D10: 18840 | E10: 19390 | F10: =AVERAGE(E8:E10) -> 19481.667 | G10: =AVERAGE(E6:E10) -> 19918 | H10: - | I10: =ABS(F10-F9) -> 276.66667 | J10: =E10-B10 -> 445 | K10: =_xlfn.IFS(AND(F10>F9,I10<351),"買",AND(F10<F9,I10<351),"売",AND(F10>F9,I10>350),"売",AND(F10<F9,I10>350),"買",F10=F9,"-") -> 売 | L10: =_xlfn.IFS(I10<$P$10,$Q$10,I10<$P$11,$Q$11,I10<$P$12,$Q$12) -> 5 | M10: =_xlfn.IFS($K10="買",($E11-$B11)*L10*100,$K10="売",($B11-$E11)*L10*100,$K10="-",0) -> -347500 | N10: =_xlfn.IFS(AND($K10="買",($D11-$B11)<注文mini!$K$14),(注文mini!$K$14-5)*L10*100,AND($K10="売",($B11-$C11)<注文mini!$K$14),(注文mini!$K$14-5)*L10*100,AND($K10="買",($D11-$B11)>=注文mini!$K$14),$M10,AND($K10="売",($B11-$C11)>=注文mini!$K$14),$M10,$K10="-",0)-86*L10 -> -127930 | O10: =MONTH(A10) -> 12 | P10: 50 | Q10: 3 | S10: =N1/L1 -> 1564.8776
A11: 43461 | B11: 19320 | C11: 20185 | D11: 19320 | E11: 20015 | F11: =AVERAGE(E9:E11) -> 19468.333 | G11: =AVERAGE(E7:E11) -> 19736 | H11: - | I11: =ABS(F11-F10) -> 13.333333 | J11: =E11-B11 -> 695 | K11: =_xlfn.IFS(AND(F11>F10,I11<351),"買",AND(F11<F10,I11<351),"売",AND(F11>F10,I11>350),"売",AND(F11<F10,I11>350),"買",F11=F10,"-") -> 売 | L11: =_xlfn.IFS(I11<$P$10,$Q$10,I11<$P$11,$Q$11,I11<$P$12,$Q$12) -> 3 | M11: =_xlfn.IFS($K11="買",($E12-$B12)*L11*100,$K11="売",($B12-$E12)*L11*100,$K11="-",0) -> 25500 | N11: =_xlfn.IFS(AND($K11="買",($D12-$B12)<注文mini!$K$14),(注文mini!$K$14-5)*L11*100,AND($K11="売",($B12-$C12)<注文mini!$K$14),(注文mini!$K$14-5)*L11*100,AND($K11="買",($D12-$B12)>=注文mini!$K$14),$M11,AND($K11="売",($B12-$C12)>=注文mini!$K$14),$M11,$K11="-",0)-86*L11 -> 25242 | O11: =MONTH(A11) -> 12 | P11: 100 | Q11: 5
A12: 43462 | B12: 19930 | C12: 20055 | D12: 19495 | E12: 19845 | F12: =AVERAGE(E10:E12) -> 19750 | G12: =AVERAGE(E8:E12) -> 19661 | H12: =AVERAGE(E3:E12) -> 20327.5 | I12: =ABS(F12-F11) -> 281.66667 | J12: =E12-B12 -> -85 | K12: =_xlfn.IFS(AND(F12>F11,I12<351),"買",AND(F12<F11,I12<351),"売",AND(F12>F11,I12>350),"売",AND(F12<F11,I12>350),"買",F12=F11,"-") -> 買 | L12: =_xlfn.IFS(I12<$P$10,$Q$10,I12<$P$11,$Q$11,I12<$P$12,$Q$12) -> 5 | M12: =_xlfn.IFS($K12="買",($E13-$B13)*L12*100,$K12="売",($B13-$E13)*L12*100,$K12="-",0) -> -170000 | N12: =_xlfn.IFS(AND($K12="買",($D13-$B13)<注文mini!$K$14),(注文mini!$K$14-5)*L12*100,AND($K12="売",($B13-$C13)<注文mini!$K$14),(注文mini!$K$14-5)*L12*100,AND($K12="買",($D13-$B13)>=注文mini!$K$14),$M12,AND($K12="売",($B13-$C13)>=注文mini!$K$14),$M12,$K12="-",0)-86*L12 -> -127930 | O12: =MONTH(A12) -> 12 | P12: 1000 | Q12: 5 | AA12: 単位：円
A13: 43469 | B13: 19820 | C13: 20040 | D13: 19205 | E13: 19480 | F13: =AVERAGE(E11:E13) -> 19780 | G13: =AVERAGE(E9:E13) -> 19546 | H13: =AVERAGE(E4:E13) -> 20145 | I13: =ABS(F13-F12) -> 30 | J13: =E13-B13 -> -340 | K13: =_xlfn.IFS(AND(F13>F12,I13<351),"買",AND(F13<F12,I13<351),"売",AND(F13>F12,I13>350),"売",AND(F13<F12,I13>350),"買",F13=F12,"-") -> 買 | L13: =_xlfn.IFS(I13<$P$10,$Q$10,I13<$P$11,$Q$11,I13<$P$12,$Q$12) -> 3 | M13: =_xlfn.IFS($K13="買",($E14-$B14)*L13*100,$K13="売",($B14-$E14)*L13*100,$K13="-",0) -> 165000 | N13: =_xlfn.IFS(AND($K13="買",($D14-$B14)<注文mini!$K$14),(注文mini!$K$14-5)*L13*100,AND($K13="売",($B14-$C14)<注文mini!$K$14),(注文mini!$K$14-5)*L13*100,AND($K13="買",($D14-$B14)>=注文mini!$K$14),$M13,AND($K13="売",($B14-$C14)>=注文mini!$K$14),$M13,$K13="-",0)-86*L13 -> 164742 | O13: =MONTH(A13) -> 1 | P13: 1月 | Q13: 2月 | R13: 3月 | S13: 4月 | T13: 5月 | U13: 6月 | V13: 7月 | W13: 8月 | X13: 9月 | Y13: 10月 | Z13: 11月 | AA13: 12月
A14: 43472 | B14: 19520 | C14: 20245 | D14: 19475 | E14: 20070 | F14: =AVERAGE(E12:E14) -> 19798.333 | G14: =AVERAGE(E10:E14) -> 19760 | H14: =AVERAGE(E5:E14) -> 20007 | I14: =ABS(F14-F13) -> 18.333333 | J14: =E14-B14 -> 550 | K14: =_xlfn.IFS(AND(F14>F13,I14<351),"買",AND(F14<F13,I14<351),"売",AND(F14>F13,I14>350),"売",AND(F14<F13,I14>350),"買",F14=F13,"-") -> 買 | L14: =_xlfn.IFS(I14<$P$10,$Q$10,I14<$P$11,$Q$11,I14<$P$12,$Q$12) -> 3 | M14: =_xlfn.IFS($K14="買",($E15-$B15)*L14*100,$K14="売",($B15-$E15)*L14*100,$K14="-",0) -> 37500 | N14: =_xlfn.IFS(AND($K14="買",($D15-$B15)<注文mini!$K$14),(注文mini!$K$14-5)*L14*100,AND($K14="売",($B15-$C15)<注文mini!$K$14),(注文mini!$K$14-5)*L14*100,AND($K14="買",($D15-$B15)>=注文mini!$K$14),$M14,AND($K14="売",($B15-$C15)>=注文mini!$K$14),$M14,$K14="-",0)-86*L14 -> 37242 | O14: =MONTH(A14) -> 1 | P14: =SUMIFS($N$7:$N$65,$O$7:$O$65,"1") -> -82278 | Q14: =SUMIFS($N$7:$N$65,$O$7:$O$65,"2") -> -21606 | R14: =SUMIFS($N$7:$N$65,$O$7:$O$65,"3") -> 74168 | S14: =SUMIFS($N$7:$N$65,$O$7:$O$65,"4") -> 0 | T14: =SUMIFS($N$7:$N$65,$O$7:$O$65,"5") -> 0 | U14: =SUMIFS($N$7:$N$65,$O$7:$O$65,"6") -> 0 | V14: =SUMIFS($N$7:$N$65,$O$7:$O$65,"7") -> 0 | W14: =SUMIFS($N$7:$N$65,$O$7:$O$65,"8") -> 0 | X14: =SUMIFS($N$7:$N$65,$O$7:$O$65,"9") -> 0 | Y14: =SUMIFS($N$7:$N$65,$O$7:$O$65,"10") -> 0 | Z14: =SUMIFS($N$7:$N$65,$O$7:$O$65,"11") -> 0 | AA14: =SUMIFS($N$7:$N$65,$O$7:$O$65,"12") -> 400592
A15: 43473 | B15: 20090 | C15: 20320 | D15: 19950 | E15: 20215 | F15: =AVERAGE(E13:E15) -> 19921.667 | G15: =AVERAGE(E11:E15) -> 19925 | H15: =AVERAGE(E6:E15) -> 19921.5 | I15: =ABS(F15-F14) -> 123.33333 | J15: =E15-B15 -> 125 | K15: =_xlfn.IFS(AND(F15>F14,I15<351),"買",AND(F15<F14,I15<351),"売",AND(F15>F14,I15>350),"売",AND(F15<F14,I15>350),"買",F15=F14,"-") -> 買 | L15: =_xlfn.IFS(I15<$P$10,$Q$10,I15<$P$11,$Q$11,I15<$P$12,$Q$12) -> 5 | M15: =_xlfn.IFS($K15="買",($E16-$B16)*L15*100,$K15="売",($B16-$E16)*L15*100,$K15="-",0) -> 85000 | N15: =_xlfn.IFS(AND($K15="買",($D16-$B16)<注文mini!$K$14),(注文mini!$K$14-5)*L15*100,AND($K15="売",($B16-$C16)<注文mini!$K$14),(注文mini!$K$14-5)*L15*100,AND($K15="買",($D16-$B16)>=注文mini!$K$14),$M15,AND($K15="売",($B16-$C16)>=注文mini!$K$14),$M15,$K15="-",0)-86*L15 -> 84570 | O15: =MONTH(A15) -> 1
A16: 43474 | B16: 20250 | C16: 20470 | D16: 20185 | E16: 20420 | F16: =AVERAGE(E14:E16) -> 20235 | G16: =AVERAGE(E12:E16) -> 20006 | H16: =AVERAGE(E7:E16) -> 19871 | I16: =ABS(F16-F15) -> 313.33333 | J16: =E16-B16 -> 170 | K16: =_xlfn.IFS(AND(F16>F15,I16<351),"買",AND(F16<F15,I16<351),"売",AND(F16>F15,I16>350),"売",AND(F16<F15,I16>350),"買",F16=F15,"-") -> 買 | L16: =_xlfn.IFS(I16<$P$10,$Q$10,I16<$P$11,$Q$11,I16<$P$12,$Q$12) -> 5 | M16: =_xlfn.IFS($K16="買",($E17-$B17)*L16*100,$K16="売",($B17-$E17)*L16*100,$K16="-",0) -> -160000 | N16: =_xlfn.IFS(AND($K16="買",($D17-$B17)<注文mini!$K$14),(注文mini!$K$14-5)*L16*100,AND($K16="売",($B17-$C17)<注文mini!$K$14),(注文mini!$K$14-5)*L16*100,AND($K16="買",($D17-$B17)>=注文mini!$K$14),$M16,AND($K16="売",($B17-$C17)>=注文mini!$K$14),$M16,$K16="-",0)-86*L16 -> -127930 | O16: =MONTH(A16) -> 1
A17: 43475 | B17: 20430 | C17: 20455 | D17: 20070 | E17: 20110 | F17: =AVERAGE(E15:E17) -> 20248.333 | G17: =AVERAGE(E13:E17) -> 20059 | H17: =AVERAGE(E8:E17) -> 19860 | I17: =ABS(F17-F16) -> 13.333333 | J17: =E17-B17 -> -320 | K17: =_xlfn.IFS(AND(F17>F16,I17<351),"買",AND(F17<F16,I17<351),"売",AND(F17>F16,I17>350),"売",AND(F17<F16,I17>350),"買",F17=F16,"-") -> 買 | L17: =_xlfn.IFS(I17<$P$10,$Q$10,I17<$P$11,$Q$11,I17<$P$12,$Q$12) -> 3 | M17: =_xlfn.IFS($K17="買",($E18-$B18)*L17*100,$K17="売",($B18-$E18)*L17*100,$K17="-",0) -> 64500 | N17: =_xlfn.IFS(AND($K17="買",($D18-$B18)<注文mini!$K$14),(注文mini!$K$14-5)*L17*100,AND($K17="売",($B18-$C18)<注文mini!$K$14),(注文mini!$K$14-5)*L17*100,AND($K17="買",($D18-$B18)>=注文mini!$K$14),$M17,AND($K17="売",($B18-$C18)>=注文mini!$K$14),$M17,$K17="-",0)-86*L17 -> 64242 | O17: =MONTH(A17) -> 1
A18: 43476 | B18: 20105 | C18: 20370 | D18: 20015 | E18: 20320 | F18: =AVERAGE(E16:E18) -> 20283.333 | G18: =AVERAGE(E14:E18) -> 20227 | H18: =AVERAGE(E9:E18) -> 19886.5 | I18: =ABS(F18-F17) -> 35 | J18: =E18-B18 -> 215 | K18: =_xlfn.IFS(AND(F18>F17,I18<351),"買",AND(F18<F17,I18<351),"売",AND(F18>F17,I18>350),"売",AND(F18<F17,I18>350),"買",F18=F17,"-") -> 買 | L18: =_xlfn.IFS(I18<$P$10,$Q$10,I18<$P$11,$Q$11,I18<$P$12,$Q$12) -> 3 | M18: =_xlfn.IFS($K18="買",($E19-$B19)*L18*100,$K18="売",($B19-$E19)*L18*100,$K18="-",0) -> 55500 | N18: =_xlfn.IFS(AND($K18="買",($D19-$B19)<注文mini!$K$14),(注文mini!$K$14-5)*L18*100,AND($K18="売",($B19-$C19)<注文mini!$K$14),(注文mini!$K$14-5)*L18*100,AND($K18="買",($D19-$B19)>=注文mini!$K$14),$M18,AND($K18="売",($B19-$C19)>=注文mini!$K$14),$M18,$K18="-",0)-86*L18 -> 55242 | O18: =MONTH(A18) -> 1
A19: 43480 | B19: 20325 | C19: 20560 | D19: 20160 | E19: 20510 | F19: =AVERAGE(E17:E19) -> 20313.333 | G19: =AVERAGE(E15:E19) -> 20315 | H19: =AVERAGE(E10:E19) -> 20037.5 | I19: =ABS(F19-F18) -> 30 | J19: =E19-B19 -> 185 | K19: =_xlfn.IFS(AND(F19>F18,I19<351),"買",AND(F19<F18,I19<351),"売",AND(F19>F18,I19>350),"売",AND(F19<F18,I19>350),"買",F19=F18,"-") -> 買 | L19: =_xlfn.IFS(I19<$P$10,$Q$10,I19<$P$11,$Q$11,I19<$P$12,$Q$12) -> 3 | M19: =_xlfn.IFS($K19="買",($E20-$B20)*L19*100,$K19="売",($B20-$E20)*L19*100,$K19="-",0) -> -18000 | N19: =_xlfn.IFS(AND($K19="買",($D20-$B20)<注文mini!$K$14),(注文mini!$K$14-5)*L19*100,AND($K19="売",($B20-$C20)<注文mini!$K$14),(注文mini!$K$14-5)*L19*100,AND($K19="買",($D20-$B20)>=注文mini!$K$14),$M19,AND($K19="売",($B20-$C20)>=注文mini!$K$14),$M19,$K19="-",0)-86*L19 -> -18258 | O19: =MONTH(A19) -> 1
A20: 43481 | B20: 20490 | C20: 20560 | D20: 20295 | E20: 20430 | F20: =AVERAGE(E18:E20) -> 20420 | G20: =AVERAGE(E16:E20) -> 20358 | H20: =AVERAGE(E11:E20) -> 20141.5 | I20: =ABS(F20-F19) -> 106.66667 | J20: =E20-B20 -> -60 | K20: =_xlfn.IFS(AND(F20>F19,I20<351),"買",AND(F20<F19,I20<351),"売",AND(F20>F19,I20>350),"売",AND(F20<F19,I20>350),"買",F20=F19,"-") -> 買 | L20: =_xlfn.IFS(I20<$P$10,$Q$10,I20<$P$11,$Q$11,I20<$P$12,$Q$12) -> 5 | M20: =_xlfn.IFS($K20="買",($E21-$B21)*L20*100,$K20="売",($B21-$E21)*L20*100,$K20="-",0) -> -55000 | N20: =_xlfn.IFS(AND($K20="買",($D21-$B21)<注文mini!$K$14),(注文mini!$K$14-5)*L20*100,AND($K20="売",($B21-$C21)<注文mini!$K$14),(注文mini!$K$14-5)*L20*100,AND($K20="買",($D21-$B21)>=注文mini!$K$14),$M20,AND($K20="売",($B21-$C21)>=注文mini!$K$14),$M20,$K20="-",0)-86*L20 -> -55430 | O20: =MONTH(A20) -> 1
A21: 43482 | B21: 20460 | C21: 20565 | D21: 20315 | E21: 20350 | F21: =AVERAGE(E19:E21) -> 20430 | G21: =AVERAGE(E17:E21) -> 20344 | H21: =AVERAGE(E12:E21) -> 20175 | I21: =ABS(F21-F20) -> 10 | J21: =E21-B21 -> -110 | K21: =_xlfn.IFS(AND(F21>F20,I21<351),"買",AND(F21<F20,I21<351),"売",AND(F21>F20,I21>350),"売",AND(F21<F20,I21>350),"買",F21=F20,"-") -> 買 | L21: =_xlfn.IFS(I21<$P$10,$Q$10,I21<$P$11,$Q$11,I21<$P$12,$Q$12) -> 3 | M21: =_xlfn.IFS($K21="買",($E22-$B22)*L21*100,$K21="売",($B22-$E22)*L21*100,$K21="-",0) -> 103500 | N21: =_xlfn.IFS(AND($K21="買",($D22-$B22)<注文mini!$K$14),(注文mini!$K$14-5)*L21*100,AND($K21="売",($B22-$C22)<注文mini!$K$14),(注文mini!$K$14-5)*L21*100,AND($K21="買",($D22-$B22)>=注文mini!$K$14),$M21,AND($K21="売",($B22-$C22)>=注文mini!$K$14),$M21,$K21="-",0)-86*L21 -> 103242 | O21: =MONTH(A21) -> 1
A22: 43483 | B22: 20285 | C22: 20670 | D22: 20180 | E22: 20630 | F22: =AVERAGE(E20:E22) -> 20470 | G22: =AVERAGE(E18:E22) -> 20448 | H22: =AVERAGE(E13:E22) -> 20253.5 | I22: =ABS(F22-F21) -> 40 | J22: =E22-B22 -> 345 | K22: =_xlfn.IFS(AND(F22>F21,I22<351),"買",AND(F22<F21,I22<351),"売",AND(F22>F21,I22>350),"売",AND(F22<F21,I22>350),"買",F22=F21,"-") -> 買 | L22: =_xlfn.IFS(I22<$P$10,$Q$10,I22<$P$11,$Q$11,I22<$P$12,$Q$12) -> 3 | M22: =_xlfn.IFS($K22="買",($E23-$B23)*L22*100,$K22="売",($B23-$E23)*L22*100,$K22="-",0) -> 27000 | N22: =_xlfn.IFS(AND($K22="買",($D23-$B23)<注文mini!$K$14),(注文mini!$K$14-5)*L22*100,AND($K22="売",($B23-$C23)<注文mini!$K$14),(注文mini!$K$14-5)*L22*100,AND($K22="買",($D23-$B23)>=注文mini!$K$14),$M22,AND($K22="売",($B23-$C23)>=注文mini!$K$14),$M22,$K22="-",0)-86*L22 -> 26742 | O22: =MONTH(A22) -> 1
A23: 43486 | B23: 20625 | C23: 20930 | D23: 20600 | E23: 20715 | F23: =AVERAGE(E21:E23) -> 20565 | G23: =AVERAGE(E19:E23) -> 20527 | H23: =AVERAGE(E14:E23) -> 20377 | I23: =ABS(F23-F22) -> 95 | J23: =E23-B23 -> 90 | K23: =_xlfn.IFS(AND(F23>F22,I23<351),"買",AND(F23<F22,I23<351),"売",AND(F23>F22,I23>350),"売",AND(F23<F22,I23>350),"買",F23=F22,"-") -> 買 | L23: =_xlfn.IFS(I23<$P$10,$Q$10,I23<$P$11,$Q$11,I23<$P$12,$Q$12) -> 5 | M23: =_xlfn.IFS($K23="買",($E24-$B24)*L23*100,$K23="売",($B24-$E24)*L23*100,$K23="-",0) -> -72500 | N23: =_xlfn.IFS(AND($K23="買",($D24-$B24)<注文mini!$K$14),(注文mini!$K$14-5)*L23*100,AND($K23="売",($B24-$C24)<注文mini!$K$14),(注文mini!$K$14-5)*L23*100,AND($K23="買",($D24-$B24)>=注文mini!$K$14),$M23,AND($K23="売",($B24-$C24)>=注文mini!$K$14),$M23,$K23="-",0)-86*L23 -> -72930 | O23: =MONTH(A23) -> 1
A24: 43487 | B24: 20705 | C24: 20790 | D24: 20535 | E24: 20560 | F24: =AVERAGE(E22:E24) -> 20635 | G24: =AVERAGE(E20:E24) -> 20537 | H24: =AVERAGE(E15:E24) -> 20426 | I24: =ABS(F24-F23) -> 70 | J24: =E24-B24 -> -145 | K24: =_xlfn.IFS(AND(F24>F23,I24<351),"買",AND(F24<F23,I24<351),"売",AND(F24>F23,I24>350),"売",AND(F24<F23,I24>350),"買",F24=F23,"-") -> 買 | L24: =_xlfn.IFS(I24<$P$10,$Q$10,I24<$P$11,$Q$11,I24<$P$12,$Q$12) -> 5 | M24: =_xlfn.IFS($K24="買",($E25-$B25)*L24*100,$K24="売",($B25-$E25)*L24*100,$K24="-",0) -> 5000 | N24: =_xlfn.IFS(AND($K24="買",($D25-$B25)<注文mini!$K$14),(注文mini!$K$14-5)*L24*100,AND($K24="売",($B25-$C25)<注文mini!$K$14),(注文mini!$K$14-5)*L24*100,AND($K24="買",($D25-$B25)>=注文mini!$K$14),$M24,AND($K24="売",($B25-$C25)>=注文mini!$K$14),$M24,$K24="-",0)-86*L24 -> 4570 | O24: =MONTH(A24) -> 1
A25: 43488 | B25: 20550 | C25: 20670 | D25: 20325 | E25: 20560 | F25: =AVERAGE(E23:E25) -> 20611.667 | G25: =AVERAGE(E21:E25) -> 20563 | H25: =AVERAGE(E16:E25) -> 20460.5 | I25: =ABS(F25-F24) -> 23.333333 | J25: =E25-B25 -> 10 | K25: =_xlfn.IFS(AND(F25>F24,I25<351),"買",AND(F25<F24,I25<351),"売",AND(F25>F24,I25>350),"売",AND(F25<F24,I25>350),"買",F25=F24,"-") -> 売 | L25: =_xlfn.IFS(I25<$P$10,$Q$10,I25<$P$11,$Q$11,I25<$P$12,$Q$12) -> 3 | M25: =_xlfn.IFS($K25="買",($E26-$B26)*L25*100,$K25="売",($B26-$E26)*L25*100,$K25="-",0) -> -7500 | N25: =_xlfn.IFS(AND($K25="買",($D26-$B26)<注文mini!$K$14),(注文mini!$K$14-5)*L25*100,AND($K25="売",($B26-$C26)<注文mini!$K$14),(注文mini!$K$14-5)*L25*100,AND($K25="買",($D26-$B26)>=注文mini!$K$14),$M25,AND($K25="売",($B26-$C26)>=注文mini!$K$14),$M25,$K25="-",0)-86*L25 -> -7758 | O25: =MONTH(A25) -> 1
A26: 43489 | B26: 20535 | C26: 20715 | D26: 20410 | E26: 20560 | F26: =AVERAGE(E24:E26) -> 20560 | G26: =AVERAGE(E22:E26) -> 20605 | H26: =AVERAGE(E17:E26) -> 20474.5 | I26: =ABS(F26-F25) -> 51.666667 | J26: =E26-B26 -> 25 | K26: =_xlfn.IFS(AND(F26>F25,I26<351),"買",AND(F26<F25,I26<351),"売",AND(F26>F25,I26>350),"売",AND(F26<F25,I26>350),"買",F26=F25,"-") -> 売 | L26: =_xlfn.IFS(I26<$P$10,$Q$10,I26<$P$11,$Q$11,I26<$P$12,$Q$12) -> 5 | M26: =_xlfn.IFS($K26="買",($E27-$B27)*L26*100,$K26="売",($B27-$E27)*L26*100,$K26="-",0) -> -110000 | N26: =_xlfn.IFS(AND($K26="買",($D27-$B27)<注文mini!$K$14),(注文mini!$K$14-5)*L26*100,AND($K26="売",($B27-$C27)<注文mini!$K$14),(注文mini!$K$14-5)*L26*100,AND($K26="買",($D27-$B27)>=注文mini!$K$14),$M26,AND($K26="売",($B27-$C27)>=注文mini!$K$14),$M26,$K26="-",0)-86*L26 -> -127930 | O26: =MONTH(A26) -> 1
... A64: 43544 | B64: 21390 | C64: 21495 | D64: 21310 | E64: 21435 | F64: =AVERAGE(E62:E64) -> 21406.667 | G64: =AVERAGE(E60:E64) -> 21317 | H64: =AVERAGE(E55:E64) -> 21209.5 | I64: =ABS(F64-F63) -> 63.333333 | J64: =E64-B64 -> 45 | K64: =_xlfn.IFS(AND(F64>F63,I64<351),"買",AND(F64<F63,I64<351),"売",AND(F64>F63,I64>350),"売",AND(F64<F63,I64>350),"買",F64=F63,"-") -> 買 | L64: =_xlfn.IFS(I64<$P$10,$Q$10,I64<$P$11,$Q$11,I64<$P$12,$Q$12) -> 5 | M64: =_xlfn.IFS($K64="買",($E65-$B65)*L64*100,$K64="売",($B65-$E65)*L64*100,$K64="-",0) -> -40000 | N64: =_xlfn.IFS(AND($K64="買",($D65-$B65)<注文mini!$K$14),(注文mini!$K$14-5)*L64*100,AND($K64="売",($B65-$C65)<注文mini!$K$14),(注文mini!$K$14-5)*L64*100,AND($K64="買",($D65-$B65)>=注文mini!$K$14),$M64,AND($K64="売",($B65-$C65)>=注文mini!$K$14),$M64,$K64="-",0)-86*L64 -> -40430 | O64: =MONTH(A64) -> 3
A65: 43546 | B65: 21440 | C65: 21485 | D65: 21250 | E65: 21360 | F65: =AVERAGE(E63:E65) -> 21388.333 | G65: =AVERAGE(E61:E65) -> 21365 | H65: =AVERAGE(E56:E65) -> 21203 | I65: =ABS(F65-F64) -> 18.333333 | J65: =E65-B65 -> -80 | K65: =_xlfn.IFS(AND(F65>F64,I65<351),"買",AND(F65<F64,I65<351),"売",AND(F65>F64,I65>350),"売",AND(F65<F64,I65>350),"買",F65=F64,"-") -> 売 | L65: =_xlfn.IFS(I65<$P$10,$Q$10,I65<$P$11,$Q$11,I65<$P$12,$Q$12) -> 3 | M65: - | N65: - | O65: =MONTH(A65) -> 3 | P65: ←この時点での売買を判断
A66: 取引 日付 | B66: 始値 | C66: 高値 | D66: 安値 | E66: 終値 | F66: 移動平均/MA3 | G66: 移動平均/MA5 | H66: 移動平均/MA10 | I66: 変動額/MA3 | J66: 当日 /変動額 | K66: 売買 シグナル | L66: 保有数量 | M66: 損益 (毎日決済) | N66: 損益 (ロスカット) | O66: 月
B67: 0.6875 | E67: 0.63541667 | M67: =SUBTOTAL(109,$M$3:$M$65) -> -109000 | N67: =SUBTOTAL(109,$N$3:$N$65) -> 370876 | AC67: 単位：円
P68: 月 | Q68: 1月 | R68: 2月 | S68: 3月 | T68: 4月 | U68: 5月 | V68: 6月 | W68: 7月 | X68: 8月 | Y68: 9月 | Z68: 10月 | AA68: 11月 | AB68: 12月 | AC68: 合計
B69: FCANDLEで取得した最新の取引日付を発注IDにしています | H69: 金曜15日の16:15→発注IDは取引日付15日金曜日→発注○ | P69: 225mini | Q69: =SUMIFS($N$7:$N$65,$O$7:$O$65,"1") -> -82278 | R69: =SUMIFS($N$7:$N$65,$O$7:$O$65,"2") -> -21606 | S69: =SUMIFS($N$7:$N$65,$O$7:$O$65,"3") -> 74168 | T69: =SUMIFS($N$7:$N$65,$O$7:$O$65,"4") -> 0 | U69: =SUMIFS($N$7:$N$65,$O$7:$O$65,"5") -> 0 | V69: =SUMIFS($N$7:$N$65,$O$7:$O$65,"6") -> 0 | W69: =SUMIFS($N$7:$N$65,$O$7:$O$65,"7") -> 0 | X69: =SUMIFS($N$7:$N$65,$O$7:$O$65,"8") -> 0 | Y69: =SUMIFS($N$7:$N$65,$O$7:$O$65,"9") -> 0 | Z69: =SUMIFS($N$7:$N$65,$O$7:$O$65,"10") -> 0 | AA69: =SUMIFS($N$7:$N$65,$O$7:$O$65,"11") -> 0 | AB69: =SUMIFS($N$7:$N$65,$O$7:$O$65,"12") -> 400592 | AC69: =SUM(Q69:AB69) -> 370876
H70: 土曜16日の16:15→発注IDは取引日付18日月曜日→発注○ | P70: MOTHERS | Q70: ='MOTH(3ヶ月)'!Q69 -> 281830 | R70: ='MOTH(3ヶ月)'!R69 -> 203518 | S70: ='MOTH(3ヶ月)'!S69 -> -264504 | T70: ='MOTH(3ヶ月)'!T69 -> 0 | U70: ='MOTH(3ヶ月)'!U69 -> 0 | V70: ='MOTH(3ヶ月)'!V69 -> 0 | W70: ='MOTH(3ヶ月)'!W69 -> 0 | X70: ='MOTH(3ヶ月)'!X69 -> 0 | ... AB70: ='MOTH(3ヶ月)'!AB69 -> -537580 | AC70: =SUM(Q70:AB70) -> -316736
H71: 日曜17日の16:15→発注IDは取引日付18日月曜日→発注× | P71: 合計 | Q71: =Q69+Q70 -> 199552 | R71: =R69+R70 -> 181912 | S71: =S69+S70 -> -190336 | T71: =T69+T70 -> 0 | U71: =U69+U70 -> 0 | V71: =V69+V70 -> 0 | W71: =W69+W70 -> 0 | X71: =X69+X70 -> 0 | ... AC71: =AC69+AC70 -> 54140
H72: 月曜18日の16:15→発注IDは取引日付18日月曜日→発注×

Sheet MOTH(3ヶ月)
L1: =SUBTOTAL(109,$L$3:$L$65) -> 281 | M1: =SUBTOTAL(109,$M$3:$M$65) -> -293000 | N1: =SUBTOTAL(109,$N$3:$N$65) -> -316736 | P1: 引数
A2: 取引 日付 | B2: 始値 | C2: 高値 | D2: 安値 | E2: 終値 | F2: 移動平均/MA3 | G2: 移動平均/MA5 | H2: 移動平均/MA10 | I2: 変動額/MA3 | J2: 当日 /変動額 | K2: 売買 シグナル | L2: 保有 数量 | M2: 損益 (毎日決済) | N2: 損益 (ロスカット) | O2: 月 | P2: 先物コード | Q2: MOTHERS | S2: =[1]!FCANDLE($Q$2,$Q$3,$Q$4,$Q$5,"取引日付",A3,$Q$6,$Q$7) -> #N/A
A3: 43448 | B3: 948 | C3: 950 | D3: 915 | E3: 918 | F3: - | G3: - | H3: - | I3: - | J3: - | K3: - | O3: =MONTH(A3) -> 12 | P3: 限月 | Q3: 0
A4: 43451 | B4: 917 | C4: 922 | D4: 892 | E4: 900 | F4: - | G4: - | H4: - | I4: - | J4: - | K4: - | O4: =MONTH(A4) -> 12 | P4: 足種別 | Q4: T | S4: =[1]!FCANDLE($Q$2,$Q$3,$Q$4,$Q$5,"始値",B3,$Q$6,$Q$7) -> #N/A
A5: 43452 | B5: 900 | C5: 900 | D5: 858 | E5: 861 | F5: =AVERAGE(E3:E5) -> 893 | G5: - | H5: - | I5: - | J5: - | K5: - | O5: =MONTH(A5) -> 12 | P5: 取得期間 | Q5: 0 | S5: =[1]!FCANDLE($Q$2,$Q$3,$Q$4,$Q$5,"高値",C3,$Q$6,$Q$7) -> #N/A
A6: 43453 | B6: 863 | C6: 883 | D6: 842 | E6: 868 | F6: =AVERAGE(E4:E6) -> 876.33333 | G6: - | H6: - | I6: - | J6: - | K6: - | O6: =MONTH(A6) -> 12 | P6: 昇順降順 | Q6: A | S6: =[1]!FCANDLE($Q$2,$Q$3,$Q$4,$Q$5,"安値",D3,$Q$6,$Q$7) -> #N/A
A7: 43454 | B7: 869 | C7: 878 | D7: 813 | E7: 832 | F7: =AVERAGE(E5:E7) -> 853.66667 | G7: =AVERAGE(E3:E7) -> 875.8 | H7: - | I7: =ABS(F7-F6) -> 22.666667 | J7: =E7-B7 -> -37 | K7: =_xlfn.IFS(AND(F7>F6,J7<-20),"売",AND(F7<F6,J7<-20),"買",AND(F7>F6,J7>-21),"買",AND(F7<F6,J7>-21),"売",F7=F6,"-") -> 買 | L7: =_xlfn.IFS(I7<$P$10,$Q$10,I7<$P$11,$Q$11,I7<$P$12,$Q$12) -> 5 | M7: =_xlfn.IFS($K7="買",($E8-$B8)*L7*1000,$K7="売",($B8-$E8)*L7*1000,$K7="-",0) -> -155000 | N7: =_xlfn.IFS(AND($K7="買",($D8-$B8)<注文MOTH!$K$14),(注文MOTH!$K$14-1)*L7*1000,AND($K7="売",($B8-$C8)<注文MOTH!$K$14),(注文MOTH!$K$14-1)*L7*1000,AND($K7="買",($D8-$B8)>=注文MOTH!$K$14),$M7,AND($K7="売",($B8-$C8)>=注文MOTH!$K$14),$M7,$K7="-",0)-86*L7 -> -155430 | O7: =MONTH(A7) -> 12 | P7: 本数 | Q7: 63 | S7: =[1]!FCANDLE($Q$2,$Q$3,$Q$4,$Q$5,"終値",E3,$Q$6,$Q$7) -> #N/A
A8: 43455 | B8: 835 | C8: 840 | D8: 785 | E8: 804 | F8: =AVERAGE(E6:E8) -> 834.66667 | G8: =AVERAGE(E4:E8) -> 853 | H8: - | I8: =ABS(F8-F7) -> 19 | J8: =E8-B8 -> -31 | K8: =_xlfn.IFS(AND(F8>F7,J8<-20),"売",AND(F8<F7,J8<-20),"買",AND(F8>F7,J8>-21),"買",AND(F8<F7,J8>-21),"売",F8=F7,"-") -> 買 | L8: =_xlfn.IFS(I8<$P$10,$Q$10,I8<$P$11,$Q$11,I8<$P$12,$Q$12) -> 5 | M8: =_xlfn.IFS($K8="買",($E9-$B9)*L8*1000,$K8="売",($B9-$E9)*L8*1000,$K8="-",0) -> -295000 | N8: =_xlfn.IFS(AND($K8="買",($D9-$B9)<注文MOTH!$K$14),(注文MOTH!$K$14-1)*L8*1000,AND($K8="売",($B9-$C9)<注文MOTH!$K$14),(注文MOTH!$K$14-1)*L8*1000,AND($K8="買",($D9-$B9)>=注文MOTH!$K$14),$M8,AND($K8="売",($B9-$C9)>=注文MOTH!$K$14),$M8,$K8="-",0)-86*L8 -> -295430 | O8: =MONTH(A8) -> 12
A9: 43459 | B9: 800 | C9: 813 | D9: 741 | E9: 741 | F9: =AVERAGE(E7:E9) -> 792.33333 | G9: =AVERAGE(E5:E9) -> 821.2 | H9: - | I9: =ABS(F9-F8) -> 42.333333 | J9: =E9-B9 -> -59 | K9: =_xlfn.IFS(AND(F9>F8,J9<-20),"売",AND(F9<F8,J9<-20),"買",AND(F9>F8,J9>-21),"買",AND(F9<F8,J9>-21),"売",F9=F8,"-") -> 買 | L9: =_xlfn.IFS(I9<$P$10,$Q$10,I9<$P$11,$Q$11,I9<$P$12,$Q$12) -> 5 | M9: =_xlfn.IFS($K9="買",($E10-$B10)*L9*1000,$K9="売",($B10-$E10)*L9*1000,$K9="-",0) -> 145000 | N9: =_xlfn.IFS(AND($K9="買",($D10-$B10)<注文MOTH!$K$14),(注文MOTH!$K$14-1)*L9*1000,AND($K9="売",($B10-$C10)<注文MOTH!$K$14),(注文MOTH!$K$14-1)*L9*1000,AND($K9="買",($D10-$B10)>=注文MOTH!$K$14),$M9,AND($K9="売",($B10-$C10)>=注文MOTH!$K$14),$M9,$K9="-",0)-86*L9 -> 144570 | O9: =MONTH(A9) -> 12 | P9: 変動額 | S9: 利益/1枚
A10: 43460 | B10: 742 | C10: 799 | D10: 741 | E10: 771 | F10: =AVERAGE(E8:E10) -> 772 | G10: =AVERAGE(E6:E10) -> 803.2 | H10: - | I10: =ABS(F10-F9) -> 20.333333 | J10: =E10-B10 -> 29 | K10: =_xlfn.IFS(AND(F10>F9,J10<-20),"売",AND(F10<F9,J10<-20),"買",AND(F10>F9,J10>-21),"買",AND(F10<F9,J10>-21),"売",F10=F9,"-") -> 売 | L10: =_xlfn.IFS(I10<$P$10,$Q$10,I10<$P$11,$Q$11,I10<$P$12,$Q$12) -> 5 | M10: =_xlfn.IFS($K10="買",($E11-$B11)*L10*1000,$K10="売",($B11-$E11)*L10*1000,$K10="-",0) -> -255000 | N10: =_xlfn.IFS(AND($K10="買",($D11-$B11)<注文MOTH!$K$14),(注文MOTH!$K$14-1)*L10*1000,AND($K10="売",($B11-$C11)<注文MOTH!$K$14),(注文MOTH!$K$14-1)*L10*1000,AND($K10="買",($D11-$B11)>=注文MOTH!$K$14),$M10,AND($K10="売",($B11-$C11)>=注文MOTH!$K$14),$M10,$K10="-",0)-86*L10 -> -255430 | O10: =MONTH(A10) -> 12 | P10: 2 | Q10: 3 | S10: =N1/L1 -> -1127.1744
A11: 43461 | B11: 765 | C11: 825 | D11: 762 | E11: 816 | F11: =AVERAGE(E9:E11) -> 776 | G11: =AVERAGE(E7:E11) -> 792.8 | H11: - | I11: =ABS(F11-F10) -> 4 | J11: =E11-B11 -> 51 | K11: =_xlfn.IFS(AND(F11>F10,J11<-20),"売",AND(F11<F10,J11<-20),"買",AND(F11>F10,J11>-21),"買",AND(F11<F10,J11>-21),"売",F11=F10,"-") -> 買 | L11: =_xlfn.IFS(I11<$P$10,$Q$10,I11<$P$11,$Q$11,I11<$P$12,$Q$12) -> 5 | M11: =_xlfn.IFS($K11="買",($E12-$B12)*L11*1000,$K11="売",($B12-$E12)*L11*1000,$K11="-",0) -> -50000 | N11: =_xlfn.IFS(AND($K11="買",($D12-$B12)<注文MOTH!$K$14),(注文MOTH!$K$14-1)*L11*1000,AND($K11="売",($B12-$C12)<注文MOTH!$K$14),(注文MOTH!$K$14-1)*L11*1000,AND($K11="買",($D12-$B12)>=注文MOTH!$K$14),$M11,AND($K11="売",($B12-$C12)>=注文MOTH!$K$14),$M11,$K11="-",0)-86*L11 -> -50430 | O11: =MONTH(A11) -> 12 | P11: 7 | Q11: 5
A12: 43462 | B12: 813 | C12: 814 | D12: 780 | E12: 803 | F12: =AVERAGE(E10:E12) -> 796.66667 | G12: =AVERAGE(E8:E12) -> 787 | H12: =AVERAGE(E3:E12) -> 831.4 | I12: =ABS(F12-F11) -> 20.666667 | J12: =E12-B12 -> -10 | K12: =_xlfn.IFS(AND(F12>F11,J12<-20),"売",AND(F12<F11,J12<-20),"買",AND(F12>F11,J12>-21),"買",AND(F12<F11,J12>-21),"売",F12=F11,"-") -> 買 | L12: =_xlfn.IFS(I12<$P$10,$Q$10,I12<$P$11,$Q$11,I12<$P$12,$Q$12) -> 5 | M12: =_xlfn.IFS($K12="買",($E13-$B13)*L12*1000,$K12="売",($B13-$E13)*L12*1000,$K12="-",0) -> 75000 | N12: =_xlfn.IFS(AND($K12="買",($D13-$B13)<注文MOTH!$K$14),(注文MOTH!$K$14-1)*L12*1000,AND($K12="売",($B13-$C13)<注文MOTH!$K$14),(注文MOTH!$K$14-1)*L12*1000,AND($K12="買",($D13-$B13)>=注文MOTH!$K$14),$M12,AND($K12="売",($B13-$C13)>=注文MOTH!$K$14),$M12,$K12="-",0)-86*L12 -> 74570 | O12: =MONTH(A12) -> 12 | P12: 100 | Q12: 5 | AA12: 単位：円
A13: 43469 | B13: 797 | C13: 817 | D13: 770 | E13: 812 | F13: =AVERAGE(E11:E13) -> 810.33333 | G13: =AVERAGE(E9:E13) -> 788.6 | H13: =AVERAGE(E4:E13) -> 820.8 | I13: =ABS(F13-F12) -> 13.666667 | J13: =E13-B13 -> 15 | K13: =_xlfn.IFS(AND(F13>F12,J13<-20),"売",AND(F13<F12,J13<-20),"買",AND(F13>F12,J13>-21),"買",AND(F13<F12,J13>-21),"売",F13=F12,"-") -> 買 | L13: =_xlfn.IFS(I13<$P$10,$Q$10,I13<$P$11,$Q$11,I13<$P$12,$Q$12) -> 5 | M13: =_xlfn.IFS($K13="買",($E14-$B14)*L13*1000,$K13="売",($B14-$E14)*L13*1000,$K13="-",0) -> 155000 | N13: =_xlfn.IFS(AND($K13="買",($D14-$B14)<注文MOTH!$K$14),(注文MOTH!$K$14-1)*L13*1000,AND($K13="売",($B14-$C14)<注文MOTH!$K$14),(注文MOTH!$K$14-1)*L13*1000,AND($K13="買",($D14-$B14)>=注文MOTH!$K$14),$M13,AND($K13="売",($B14-$C14)>=注文MOTH!$K$14),$M13,$K13="-",0)-86*L13 -> 154570 | O13: =MONTH(A13) -> 1 | P13: 1月 | Q13: 2月 | R13: 3月 | S13: 4月 | T13: 5月 | U13: 6月 | V13: 7月 | W13: 8月 | X13: 9月 | Y13: 10月 | Z13: 11月 | AA13: 12月
A14: 43472 | B14: 815 | C14: 850 | D14: 812 | E14: 846 | F14: =AVERAGE(E12:E14) -> 820.33333 | G14: =AVERAGE(E10:E14) -> 809.6 | H14: =AVERAGE(E5:E14) -> 815.4 | I14: =ABS(F14-F13) -> 10 | J14: =E14-B14 -> 31 | K14: =_xlfn.IFS(AND(F14>F13,J14<-20),"売",AND(F14<F13,J14<-20),"買",AND(F14>F13,J14>-21),"買",AND(F14<F13,J14>-21),"売",F14=F13,"-") -> 買 | L14: =_xlfn.IFS(I14<$P$10,$Q$10,I14<$P$11,$Q$11,I14<$P$12,$Q$12) -> 5 | M14: =_xlfn.IFS($K14="買",($E15-$B15)*L14*1000,$K14="売",($B15-$E15)*L14*1000,$K14="-",0) -> 100000 | N14: =_xlfn.IFS(AND($K14="買",($D15-$B15)<注文MOTH!$K$14),(注文MOTH!$K$14-1)*L14*1000,AND($K14="売",($B15-$C15)<注文MOTH!$K$14),(注文MOTH!$K$14-1)*L14*1000,AND($K14="買",($D15-$B15)>=注文MOTH!$K$14),$M14,AND($K14="売",($B15-$C15)>=注文MOTH!$K$14),$M14,$K14="-",0)-86*L14 -> 99570 | O14: =MONTH(A14) -> 1 | P14: =SUMIFS($M$7:$M$65,$O$7:$O$65,"1") -> 290000 | Q14: =SUMIFS($M$7:$M$65,$O$7:$O$65,"2") -> 211000 | R14: =SUMIFS($M$7:$M$65,$O$7:$O$65,"3") -> -259000 | S14: =SUMIFS($M$7:$M$65,$O$7:$O$65,"4") -> 0 | T14: =SUMIFS($M$7:$M$65,$O$7:$O$65,"5") -> 0 | U14: =SUMIFS($M$7:$M$65,$O$7:$O$65,"6") -> 0 | V14: =SUMIFS($M$7:$M$65,$O$7:$O$65,"7") -> 0 | W14: =SUMIFS($M$7:$M$65,$O$7:$O$65,"8") -> 0 | X14: =SUMIFS($M$7:$M$65,$O$7:$O$65,"9") -> 0 | Y14: =SUMIFS($M$7:$M$65,$O$7:$O$65,"10") -> 0 | Z14: =SUMIFS($M$7:$M$65,$O$7:$O$65,"11") -> 0 | AA14: =SUMIFS($M$7:$M$65,$O$7:$O$65,"12") -> -535000
A15: 43473 | B15: 849 | C15: 879 | D15: 839 | E15: 869 | F15: =AVERAGE(E13:E15) -> 842.33333 | G15: =AVERAGE(E11:E15) -> 829.2 | H15: =AVERAGE(E6:E15) -> 816.2 | I15: =ABS(F15-F14) -> 22 | J15: =E15-B15 -> 20 | K15: =_xlfn.IFS(AND(F15>F14,J15<-20),"売",AND(F15<F14,J15<-20),"買",AND(F15>F14,J15>-21),"買",AND(F15<F14,J15>-21),"売",F15=F14,"-") -> 買 | L15: =_xlfn.IFS(I15<$P$10,$Q$10,I15<$P$11,$Q$11,I15<$P$12,$Q$12) -> 5 | M15: =_xlfn.IFS($K15="買",($E16-$B16)*L15*1000,$K15="売",($B16-$E16)*L15*1000,$K15="-",0) -> 50000 | N15: =_xlfn.IFS(AND($K15="買",($D16-$B16)<注文MOTH!$K$14),(注文MOTH!$K$14-1)*L15*1000,AND($K15="売",($B16-$C16)<注文MOTH!$K$14),(注文MOTH!$K$14-1)*L15*1000,AND($K15="買",($D16-$B16)>=注文MOTH!$K$14),$M15,AND($K15="売",($B16-$C16)>=注文MOTH!$K$14),$M15,$K15="-",0)-86*L15 -> 49570 | O15: =MONTH(A15) -> 1
A16: 43474 | B16: 873 | C16: 889 | D16: 872 | E16: 883 | F16: =AVERAGE(E14:E16) -> 866 | G16: =AVERAGE(E12:E16) -> 842.6 | H16: =AVERAGE(E7:E16) -> 817.7 | I16: =ABS(F16-F15) -> 23.666667 | J16: =E16-B16 -> 10 | K16: =_xlfn.IFS(AND(F16>F15,J16<-20),"売",AND(F16<F15,J16<-20),"買",AND(F16>F15,J16>-21),"買",AND(F16<F15,J16>-21),"売",F16=F15,"-") -> 買 | L16: =_xlfn.IFS(I16<$P$10,$Q$10,I16<$P$11,$Q$11,I16<$P$12,$Q$12) -> 5 | M16: =_xlfn.IFS($K16="買",($E17-$B17)*L16*1000,$K16="売",($B17-$E17)*L16*1000,$K16="-",0) -> -100000 | N16: =_xlfn.IFS(AND($K16="買",($D17-$B17)<注文MOTH!$K$14),(注文MOTH!$K$14-1)*L16*1000,AND($K16="売",($B17-$C17)<注文MOTH!$K$14),(注文MOTH!$K$14-1)*L16*1000,AND($K16="買",($D17-$B17)>=注文MOTH!$K$14),$M16,AND($K16="売",($B17-$C17)>=注文MOTH!$K$14),$M16,$K16="-",0)-86*L16 -> -100430 | O16: =MONTH(A16) -> 1
A17: 43475 | B17: 882 | C17: 885 | D17: 861 | E17: 862 | F17: =AVERAGE(E15:E17) -> 871.33333 | G17: =AVERAGE(E13:E17) -> 854.4 | H17: =AVERAGE(E8:E17) -> 820.7 | I17: =ABS(F17-F16) -> 5.3333333 | J17: =E17-B17 -> -20 | K17: =_xlfn.IFS(AND(F17>F16,J17<-20),"売",AND(F17<F16,J17<-20),"買",AND(F17>F16,J17>-21),"買",AND(F17<F16,J17>-21),"売",F17=F16,"-") -> 買 | L17: =_xlfn.IFS(I17<$P$10,$Q$10,I17<$P$11,$Q$11,I17<$P$12,$Q$12) -> 5 | M17: =_xlfn.IFS($K17="買",($E18-$B18)*L17*1000,$K17="売",($B18-$E18)*L17*1000,$K17="-",0) -> 90000 | N17: =_xlfn.IFS(AND($K17="買",($D18-$B18)<注文MOTH!$K$14),(注文MOTH!$K$14-1)*L17*1000,AND($K17="売",($B18-$C18)<注文MOTH!$K$14),(注文MOTH!$K$14-1)*L17*1000,AND($K17="買",($D18-$B18)>=注文MOTH!$K$14),$M17,AND($K17="売",($B18-$C18)>=注文MOTH!$K$14),$M17,$K17="-",0)-86*L17 -> 89570 | O17: =MONTH(A17) -> 1
A18: 43476 | B18: 860 | C18: 885 | D18: 849 | E18: 878 | F18: =AVERAGE(E16:E18) -> 874.33333 | G18: =AVERAGE(E14:E18) -> 867.6 | H18: =AVERAGE(E9:E18) -> 828.1 | I18: =ABS(F18-F17) -> 3 | J18: =E18-B18 -> 18 | K18: =_xlfn.IFS(AND(F18>F17,J18<-20),"売",AND(F18<F17,J18<-20),"買",AND(F18>F17,J18>-21),"買",AND(F18<F17,J18>-21),"売",F18=F17,"-") -> 買 | L18: =_xlfn.IFS(I18<$P$10,$Q$10,I18<$P$11,$Q$11,I18<$P$12,$Q$12) -> 5 | M18: =_xlfn.IFS($K18="買",($E19-$B19)*L18*1000,$K18="売",($B19-$E19)*L18*1000,$K18="-",0) -> 110000 | N18: =_xlfn.IFS(AND($K18="買",($D19-$B19)<注文MOTH!$K$14),(注文MOTH!$K$14-1)*L18*1000,AND($K18="売",($B19-$C19)<注文MOTH!$K$14),(注文MOTH!$K$14-1)*L18*1000,AND($K18="買",($D19-$B19)>=注文MOTH!$K$14),$M18,AND($K18="売",($B19-$C19)>=注文MOTH!$K$14),$M18,$K18="-",0)-86*L18 -> 109570 | O18: =MONTH(A18) -> 1
A19: 43480 | B19: 879 | C19: 905 | D19: 867 | E19: 901 | F19: =AVERAGE(E17:E19) -> 880.33333 | G19: =AVERAGE(E15:E19) -> 878.6 | H19: =AVERAGE(E10:E19) -> 844.1 | I19: =ABS(F19-F18) -> 6 | J19: =E19-B19 -> 22 | K19: =_xlfn.IFS(AND(F19>F18,J19<-20),"売",AND(F19<F18,J19<-20),"買",AND(F19>F18,J19>-21),"買",AND(F19<F18,J19>-21),"売",F19=F18,"-") -> 買 | L19: =_xlfn.IFS(I19<$P$10,$Q$10,I19<$P$11,$Q$11,I19<$P$12,$Q$12) -> 5 | M19: =_xlfn.IFS($K19="買",($E20-$B20)*L19*1000,$K19="売",($B20-$E20)*L19*1000,$K19="-",0) -> 10000 | N19: =_xlfn.IFS(AND($K19="買",($D20-$B20)<注文MOTH!$K$14),(注文MOTH!$K$14-1)*L19*1000,AND($K19="売",($B20-$C20)<注文MOTH!$K$14),(注文MOTH!$K$14-1)*L19*1000,AND($K19="買",($D20-$B20)>=注文MOTH!$K$14),$M19,AND($K19="売",($B20-$C20)>=注文MOTH!$K$14),$M19,$K19="-",0)-86*L19 -> 9570 | O19: =MONTH(A19) -> 1
A20: 43481 | B20: 898 | C20: 909 | D20: 888 | E20: 900 | F20: =AVERAGE(E18:E20) -> 893 | G20: =AVERAGE(E16:E20) -> 884.8 | H20: =AVERAGE(E11:E20) -> 857 | I20: =ABS(F20-F19) -> 12.666667 | J20: =E20-B20 -> 2 | K20: =_xlfn.IFS(AND(F20>F19,J20<-20),"売",AND(F20<F19,J20<-20),"買",AND(F20>F19,J20>-21),"買",AND(F20<F19,J20>-21),"売",F20=F19,"-") -> 買 | L20: =_xlfn.IFS(I20<$P$10,$Q$10,I20<$P$11,$Q$11,I20<$P$12,$Q$12) -> 5 | M20: =_xlfn.IFS($K20="買",($E21-$B21)*L20*1000,$K20="売",($B21-$E21)*L20*1000,$K20="-",0) -> 95000 | N20: =_xlfn.IFS(AND($K20="買",($D21-$B21)<注文MOTH!$K$14),(注文MOTH!$K$14-1)*L20*1000,AND($K20="売",($B21-$C21)<注文MOTH!$K$14),(注文MOTH!$K$14-1)*L20*1000,AND($K20="買",($D21-$B21)>=注文MOTH!$K$14),$M20,AND($K20="売",($B21-$C21)>=注文MOTH!$K$14),$M20,$K20="-",0)-86*L20 -> 94570 | O20: =MONTH(A20) -> 1
A21: 43482 | B21: 901 | C21: 921 | D21: 899 | E21: 920 | F21: =AVERAGE(E19:E21) -> 907 | G21: =AVERAGE(E17:E21) -> 892.2 | H21: =AVERAGE(E12:E21) -> 867.4 | I21: =ABS(F21-F20) -> 14 | J21: =E21-B21 -> 19 | K21: =_xlfn.IFS(AND(F21>F20,J21<-20),"売",AND(F21<F20,J21<-20),"買",AND(F21>F20,J21>-21),"買",AND(F21<F20,J21>-21),"売",F21=F20,"-") -> 買 | L21: =_xlfn.IFS(I21<$P$10,$Q$10,I21<$P$11,$Q$11,I21<$P$12,$Q$12) -> 5 | M21: =_xlfn.IFS($K21="買",($E22-$B22)*L21*1000,$K21="売",($B22-$E22)*L21*1000,$K21="-",0) -> 140000 | N21: =_xlfn.IFS(AND($K21="買",($D22-$B22)<注文MOTH!$K$14),(注文MOTH!$K$14-1)*L21*1000,AND($K21="売",($B22-$C22)<注文MOTH!$K$14),(注文MOTH!$K$14-1)*L21*1000,AND($K21="買",($D22-$B22)>=注文MOTH!$K$14),$M21,AND($K21="売",($B22-$C22)>=注文MOTH!$K$14),$M21,$K21="-",0)-86*L21 -> 139570 | O21: =MONTH(A21) -> 1
A22: 43483 | B22: 913 | C22: 944 | D22: 905 | E22: 941 | F22: =AVERAGE(E20:E22) -> 920.33333 | G22: =AVERAGE(E18:E22) -> 908 | H22: =AVERAGE(E13:E22) -> 881.2 | I22: =ABS(F22-F21) -> 13.333333 | J22: =E22-B22 -> 28 | K22: =_xlfn.IFS(AND(F22>F21,J22<-20),"売",AND(F22<F21,J22<-20),"買",AND(F22>F21,J22>-21),"買",AND(F22<F21,J22>-21),"売",F22=F21,"-") -> 買 | L22: =_xlfn.IFS(I22<$P$10,$Q$10,I22<$P$11,$Q$11,I22<$P$12,$Q$12) -> 5 | M22: =_xlfn.IFS($K22="買",($E23-$B23)*L22*1000,$K22="売",($B23-$E23)*L22*1000,$K22="-",0) -> -85000 | N22: =_xlfn.IFS(AND($K22="買",($D23-$B23)<注文MOTH!$K$14),(注文MOTH!$K$14-1)*L22*1000,AND($K22="売",($B23-$C23)<注文MOTH!$K$14),(注文MOTH!$K$14-1)*L22*1000,AND($K22="買",($D23-$B23)>=注文MOTH!$K$14),$M22,AND($K22="売",($B23-$C23)>=注文MOTH!$K$14),$M22,$K22="-",0)-86*L22 -> -85430 | O22: =MONTH(A22) -> 1
A23: 43486 | B23: 943 | C23: 963 | D23: 917 | E23: 926 | F23: =AVERAGE(E21:E23) -> 929 | G23: =AVERAGE(E19:E23) -> 917.6 | H23: =AVERAGE(E14:E23) -> 892.6 | I23: =ABS(F23-F22) -> 8.6666667 | J23: =E23-B23 -> -17 | K23: =_xlfn.IFS(AND(F23>F22,J23<-20),"売",AND(F23<F22,J23<-20),"買",AND(F23>F22,J23>-21),"買",AND(F23<F22,J23>-21),"売",F23=F22,"-") -> 買 | L23: =_xlfn.IFS(I23<$P$10,$Q$10,I23<$P$11,$Q$11,I23<$P$12,$Q$12) -> 5 | M23: =_xlfn.IFS($K23="買",($E24-$B24)*L23*1000,$K23="売",($B24-$E24)*L23*1000,$K23="-",0) -> -70000 | N23: =_xlfn.IFS(AND($K23="買",($D24-$B24)<注文MOTH!$K$14),(注文MOTH!$K$14-1)*L23*1000,AND($K23="売",($B24-$C24)<注文MOTH!$K$14),(注文MOTH!$K$14-1)*L23*1000,AND($K23="買",($D24-$B24)>=注文MOTH!$K$14),$M23,AND($K23="売",($B24-$C24)>=注文MOTH!$K$14),$M23,$K23="-",0)-86*L23 -> -70430 | O23: =MONTH(A23) -> 1
A24: 43487 | B24: 923 | C24: 935 | D24: 898 | E24: 909 | F24: =AVERAGE(E22:E24) -> 925.33333 | G24: =AVERAGE(E20:E24) -> 919.2 | H24: =AVERAGE(E15:E24) -> 898.9 | I24: =ABS(F24-F23) -> 3.6666667 | J24: =E24-B24 -> -14 | K24: =_xlfn.IFS(AND(F24>F23,J24<-20),"売",AND(F24<F23,J24<-20),"買",AND(F24>F23,J24>-21),"買",AND(F24<F23,J24>-21),"売",F24=F23,"-") -> 売 | L24: =_xlfn.IFS(I24<$P$10,$Q$10,I24<$P$11,$Q$11,I24<$P$12,$Q$12) -> 5 | M24: =_xlfn.IFS($K24="買",($E25-$B25)*L24*1000,$K24="売",($B25-$E25)*L24*1000,$K24="-",0) -> -85000 | N24: =_xlfn.IFS(AND($K24="買",($D25-$B25)<注文MOTH!$K$14),(注文MOTH!$K$14-1)*L24*1000,AND($K24="売",($B25-$C25)<注文MOTH!$K$14),(注文MOTH!$K$14-1)*L24*1000,AND($K24="買",($D25-$B25)>=注文MOTH!$K$14),$M24,AND($K24="売",($B25-$C25)>=注文MOTH!$K$14),$M24,$K24="-",0)-86*L24 -> -85430 | O24: =MONTH(A24) -> 1
A25: 43488 | B25: 910 | C25: 934 | D25: 898 | E25: 927 | F25: =AVERAGE(E23:E25) -> 920.66667 | G25: =AVERAGE(E21:E25) -> 924.6 | H25: =AVERAGE(E16:E25) -> 904.7 | I25: =ABS(F25-F24) -> 4.6666667 | J25: =E25-B25 -> 17 | K25: =_xlfn.IFS(AND(F25>F24,J25<-20),"売",AND(F25<F24,J25<-20),"買",AND(F25>F24,J25>-21),"買",AND(F25<F24,J25>-21),"売",F25=F24,"-") -> 売 | L25: =_xlfn.IFS(I25<$P$10,$Q$10,I25<$P$11,$Q$11,I25<$P$12,$Q$12) -> 5 | M25: =_xlfn.IFS($K25="買",($E26-$B26)*L25*1000,$K25="売",($B26-$E26)*L25*1000,$K25="-",0) -> -80000 | N25: =_xlfn.IFS(AND($K25="買",($D26-$B26)<注文MOTH!$K$14),(注文MOTH!$K$14-1)*L25*1000,AND($K25="売",($B26-$C26)<注文MOTH!$K$14),(注文MOTH!$K$14-1)*L25*1000,AND($K25="買",($D26-$B26)>=注文MOTH!$K$14),$M25,AND($K25="売",($B26-$C26)>=注文MOTH!$K$14),$M25,$K25="-",0)-86*L25 -> -80430 | O25: =MONTH(A25) -> 1
A26: 43489 | B26: 928 | C26: 944 | D26: 919 | E26: 944 | F26: =AVERAGE(E24:E26) -> 926.66667 | G26: =AVERAGE(E22:E26) -> 929.4 | H26: =AVERAGE(E17:E26) -> 910.8 | I26: =ABS(F26-F25) -> 6 | J26: =E26-B26 -> 16 | K26: =_xlfn.IFS(AND(F26>F25,J26<-20),"売",AND(F26<F25,J26<-20),"買",AND(F26>F25,J26>-21),"買",AND(F26<F25,J26>-21),"売",F26=F25,"-") -> 買 | L26: =_xlfn.IFS(I26<$P$10,$Q$10,I26<$P$11,$Q$11,I26<$P$12,$Q$12) -> 5 | M26: =_xlfn.IFS($K26="買",($E27-$B27)*L26*1000,$K26="売",($B27-$E27)*L26*1000,$K26="-",0) -> 80000 | N26: =_xlfn.IFS(AND($K26="買",($D27-$B27)<注文MOTH!$K$14),(注文MOTH!$K$14-1)*L26*1000,AND($K26="売",($B27-$C27)<注文MOTH!$K$14),(注文MOTH!$K$14-1)*L26*1000,AND($K26="買",($D27-$B27)>=注文MOTH!$K$14),$M26,AND($K26="売",($B27-$C27)>=注文MOTH!$K$14),$M26,$K26="-",0)-86*L26 -> 79570 | O26: =MONTH(A26) -> 1
... A64: 43544 | B64: 909 | C64: 916 | D64: 903 | E64: 913 | F64: =AVERAGE(E62:E64) -> 913 | G64: =AVERAGE(E60:E64) -> 906.8 | H64: =AVERAGE(E55:E64) -> 903.7 | I64: =ABS(F64-F63) -> 6.6666667 | J64: =E64-B64 -> 4 | K64: =_xlfn.IFS(AND(F64>F63,J64<-20),"売",AND(F64<F63,J64<-20),"買",AND(F64>F63,J64>-21),"買",AND(F64<F63,J64>-21),"売",F64=F63,"-") -> 買 | L64: =_xlfn.IFS(I64<$P$10,$Q$10,I64<$P$11,$Q$11,I64<$P$12,$Q$12) -> 5 | M64: =_xlfn.IFS($K64="買",($E65-$B65)*L64*1000,$K64="売",($B65-$E65)*L64*1000,$K64="-",0) -> 0 | N64: =_xlfn.IFS(AND($K64="買",($D65-$B65)<注文MOTH!$K$14),(注文MOTH!$K$14-1)*L64*1000,AND($K64="売",($B65-$C65)<注文MOTH!$K$14),(注文MOTH!$K$14-1)*L64*1000,AND($K64="買",($D65-$B65)>=注文MOTH!$K$14),$M64,AND($K64="売",($B65-$C65)>=注文MOTH!$K$14),$M64,$K64="-",0)-86*L64 -> -430 | O64: =MONTH(A64) -> 3
A65: 43546 | B65: 914 | C65: 921 | D65: 905 | E65: 914 | F65: =AVERAGE(E63:E65) -> 911 | G65: =AVERAGE(E61:E65) -> 909.2 | H65: =AVERAGE(E56:E65) -> 902.1 | I65: =ABS(F65-F64) -> 2 | J65: =E65-B65 -> 0 | K65: =_xlfn.IFS(AND(F65>F64,J65<-20),"売",AND(F65<F64,J65<-20),"買",AND(F65>F64,J65>-21),"買",AND(F65<F64,J65>-21),"売",F65=F64,"-") -> 売 | L65: =_xlfn.IFS(I65<$P$10,$Q$10,I65<$P$11,$Q$11,I65<$P$12,$Q$12) -> 5 | M65: - | N65: - | O65: =MONTH(A65) -> 3 | P65: ←この時点での売買を判断
A66: 取引 日付 | B66: 始値 | C66: 高値 | D66: 安値 | E66: 終値 | F66: 移動平均/MA3 | G66: 移動平均/MA5 | H66: 移動平均/MA10 | I66: 変動額/MA3 | J66: 当日 /変動額 | K66: 売買 シグナル | L66: 保有数量 | M66: 損益 (毎日決済) | N66: 損益 (ロスカット) | O66: 月
B67: 0.6875 | E67: 0.63541667 | M67: =SUBTOTAL(109,$M$3:$M$65) -> -293000 | N67: =SUBTOTAL(109,$N$3:$N$65) -> -316736 | AC67: 単位：円
P68: 月 | Q68: 1月 | R68: 2月 | S68: 3月 | T68: 4月 | U68: 5月 | V68: 6月 | W68: 7月 | X68: 8月 | Y68: 9月 | Z68: 10月 | AA68: 11月 | AB68: 12月 | AC68: 合計
B69: FCANDLEで取得した最新の取引日付を発注IDにしています | H69: 金曜15日の16:15→発注IDは取引日付15日金曜日→発注○ | P69: MOTHERS | Q69: =SUMIFS($N$7:$N$65,$O$7:$O$65,"1") -> 281830 | R69: =SUMIFS($N$7:$N$65,$O$7:$O$65,"2") -> 203518 | S69: =SUMIFS($N$7:$N$65,$O$7:$O$65,"3") -> -264504 | T69: =SUMIFS($N$7:$N$65,$O$7:$O$65,"4") -> 0 | U69: =SUMIFS($N$7:$N$65,$O$7:$O$65,"5") -> 0 | V69: =SUMIFS($N$7:$N$65,$O$7:$O$65,"6") -> 0 | W69: =SUMIFS($N$7:$N$65,$O$7:$O$65,"7") -> 0 | X69: =SUMIFS($N$7:$N$65,$O$7:$O$65,"8") -> 0 | Y69: =SUMIFS($N$7:$N$65,$O$7:$O$65,"9") -> 0 | Z69: =SUMIFS($N$7:$N$65,$O$7:$O$65,"10") -> 0 | AA69: =SUMIFS($N$7:$N$65,$O$7:$O$65,"11") -> 0 | AB69: =SUMIFS($N$7:$N$65,$O$7:$O$65,"12") -> -537580 | AC69: =SUM(Q69:AB69) -> -316736
H70: 土曜16日の16:15→発注IDは取引日付18日月曜日→発注○ | P70: 225mini | Q70: ='mini(3ヶ月)'!Q69 -> -82278 | R70: ='mini(3ヶ月)'!R69 -> -21606 | S70: ='mini(3ヶ月)'!S69 -> 74168 | T70: ='mini(3ヶ月)'!T69 -> 0 | U70: ='mini(3ヶ月)'!U69 -> 0 | V70: ='mini(3ヶ月)'!V69 -> 0 | W70: ='mini(3ヶ月)'!W69 -> 0 | X70: ='mini(3ヶ月)'!X69 -> 0 | ... AB70: ='mini(3ヶ月)'!AB69 -> 400592 | AC70: =SUM(Q70:AB70) -> 370876
H71: 日曜17日の16:15→発注IDは取引日付18日月曜日→発注× | P71: 合計 | Q71: =Q69+Q70 -> 199552 | R71: =R69+R70 -> 181912 | S71: =S69+S70 -> -190336 | T71: =T69+T70 -> 0 | U71: =U69+U70 -> 0 | V71: =V69+V70 -> 0 | W71: =W69+W70 -> 0 | X71: =X69+X70 -> 0 | ... AC71: =AC69+AC70 -> 54140
H72: 月曜18日の16:15→発注IDは取引日付18日月曜日→発注×
